Workbook

Sheet Resumen
A1: Calendario de preproducción audiovisual
A3: Proyecto | B3: Horizonte Naranja | D3: Tareas planificadas | F3: Tareas completadas | H3: Avance medio
A4: Empresa / equipo | B4: Estudio Brújula Ficticio | D4: =COUNTIF(Calendario!$C$7:$C$106,"<>") | F4: =COUNTIFS(Calendario!$C$7:$C$106,"<>",Calendario!$I$7:$I$106,"Completada") | H4: =IFERROR(AVERAGEIF(Calendario!$C$7:$C$106,"<>",Calendario!$K$7:$K$106),"")
A5: Fecha de seguimiento | B5: 46272
A6: Fecha de rodaje | B6: 46293 | D6: Atrasadas | F6: Bloqueadas | H6: Requieren revisión
A7: Umbral de aviso próximo | B7: 3 | D7: =COUNTIF(Calendario!$O$7:$O$106,"Atrasada") | F7: =COUNTIF(Calendario!$O$7:$O$106,"Bloqueada") | H7: =COUNTIF(Calendario!$R$7:$R$106,"<>OK")-COUNTBLANK(Calendario!$R$7:$R$106)
A10: Preparación para rodaje | B10: =IFERROR(AVERAGEIF(Calendario!$C$7:$C$106,"<>",Calendario!$K$7:$K$106),"")
A11: Estado recomendado | B11: =IF(COUNTIF(Calendario!$C$7:$C$106,"<>")=0,"Sin tareas",IF(COUNTIF(Calendario!$R$7:$R$106,"<>OK")-COUNTBLANK(Calendario!$R$7:$R$106)>0,"Revisar planificación",IF(COUNTIF(Calendario!$O$7:$O$106,"Bloqueada")+COUNTIF(Calendario!$O$7:$O$106,"Atrasada")>0,"Requiere intervención",IF(COUNTIFS(Calendario!$C$7:$C$106,"<>",Calendario!$I$7:$I$106,"<>Completada")=0,"Preparada","En curso"))))
A12: Motivo principal | B12: =IF(B11="Sin tareas","Añade actividades en la hoja Calendario",IF(B11="Revisar planificación","Corrige las filas marcadas como REVISAR",IF(COUNTIF(Calendario!$O$7:$O$106,"Bloqueada")>0,"Hay tareas pendientes de una dependencia",IF(COUNTIF(Calendario!$O$7:$O$106,"Atrasada")>0,"Hay tareas cuya fecha prevista ya ha vencido",IF(COUNTIF(Calendario!$O$7:$O$106,"Fuera de ventana")>0,"Hay tareas que terminan en la fecha de rodaje o después","No se detectan incidencias críticas")))))
A15: Estado operativo | B15: Número de tareas | C15: % sobre tareas | E15: Fase | F15: Total | G15: Completadas | H15: Pendientes | I15: Atrasadas o bloqueadas | J15: Avance medio
A16: Completada | B16: =COUNTIF(Calendario!$O$7:$O$106,A16) | C16: =IFERROR(B16/$D$4,0) | E16: Casting | F16: =COUNTIFS(Calendario!$B$7:$B$106,$E16,Calendario!$C$7:$C$106,"<>") | G16: =COUNTIFS(Calendario!$B$7:$B$106,$E16,Calendario!$I$7:$I$106,"Completada") | H16: =COUNTIFS(Calendario!$B$7:$B$106,$E16,Calendario!$C$7:$C$106,"<>")-G16 | I16: =COUNTIFS(Calendario!$B$7:$B$106,$E16,Calendario!$O$7:$O$106,"Atrasada")+COUNTIFS(Calendario!$B$7:$B$106,$E16,Calendario!$O$7:$O$106,"Bloqueada") | J16: =IFERROR(AVERAGEIFS(Calendario!$K$7:$K$106,Calendario!$B$7:$B$106,$E16,Calendario!$C$7:$C$106,"<>"),"")
A17: En plazo | B17: =COUNTIF(Calendario!$O$7:$O$106,A17) | C17: =IFERROR(B17/$D$4,0) | E17: Localizaciones | F17: =COUNTIFS(Calendario!$B$7:$B$106,$E17,Calendario!$C$7:$C$106,"<>") | G17: =COUNTIFS(Calendario!$B$7:$B$106,$E17,Calendario!$I$7:$I$106,"Completada") | H17: =COUNTIFS(Calendario!$B$7:$B$106,$E17,Calendario!$C$7:$C$106,"<>")-G17 | I17: =COUNTIFS(Calendario!$B$7:$B$106,$E17,Calendario!$O$7:$O$106,"Atrasada")+COUNTIFS(Calendario!$B$7:$B$106,$E17,Calendario!$O$7:$O$106,"Bloqueada") | J17: =IFERROR(AVERAGEIFS(Calendario!$K$7:$K$106,Calendario!$B$7:$B$106,$E17,Calendario!$C$7:$C$106,"<>"),"")
A18: Próxima | B18: =COUNTIF(Calendario!$O$7:$O$106,A18) | C18: =IFERROR(B18/$D$4,0) | E18: Permisos | F18: =COUNTIFS(Calendario!$B$7:$B$106,$E18,Calendario!$C$7:$C$106,"<>") | G18: =COUNTIFS(Calendario!$B$7:$B$106,$E18,Calendario!$I$7:$I$106,"Completada") | H18: =COUNTIFS(Calendario!$B$7:$B$106,$E18,Calendario!$C$7:$C$106,"<>")-G18 | I18: =COUNTIFS(Calendario!$B$7:$B$106,$E18,Calendario!$O$7:$O$106,"Atrasada")+COUNTIFS(Calendario!$B$7:$B$106,$E18,Calendario!$O$7:$O$106,"Bloqueada") | J18: =IFERROR(AVERAGEIFS(Calendario!$K$7:$K$106,Calendario!$B$7:$B$106,$E18,Calendario!$C$7:$C$106,"<>"),"")
A19: Atrasada | B19: =COUNTIF(Calendario!$O$7:$O$106,A19) | C19: =IFERROR(B19/$D$4,0) | E19: Pruebas | F19: =COUNTIFS(Calendario!$B$7:$B$106,$E19,Calendario!$C$7:$C$106,"<>") | G19: =COUNTIFS(Calendario!$B$7:$B$106,$E19,Calendario!$I$7:$I$106,"Completada") | H19: =COUNTIFS(Calendario!$B$7:$B$106,$E19,Calendario!$C$7:$C$106,"<>")-G19 | I19: =COUNTIFS(Calendario!$B$7:$B$106,$E19,Calendario!$O$7:$O$106,"Atrasada")+COUNTIFS(Calendario!$B$7:$B$106,$E19,Calendario!$O$7:$O$106,"Bloqueada") | J19: =IFERROR(AVERAGEIFS(Calendario!$K$7:$K$106,Calendario!$B$7:$B$106,$E19,Calendario!$C$7:$C$106,"<>"),"")
A20: Bloqueada | B20: =COUNTIF(Calendario!$O$7:$O$106,A20) | C20: =IFERROR(B20/$D$4,0) | E20: Contratación | F20: =COUNTIFS(Calendario!$B$7:$B$106,$E20,Calendario!$C$7:$C$106,"<>") | G20: =COUNTIFS(Calendario!$B$7:$B$106,$E20,Calendario!$I$7:$I$106,"Completada") | H20: =COUNTIFS(Calendario!$B$7:$B$106,$E20,Calendario!$C$7:$C$106,"<>")-G20 | I20: =COUNTIFS(Calendario!$B$7:$B$106,$E20,Calendario!$O$7:$O$106,"Atrasada")+COUNTIFS(Calendario!$B$7:$B$106,$E20,Calendario!$O$7:$O$106,"Bloqueada") | J20: =IFERROR(AVERAGEIFS(Calendario!$K$7:$K$106,Calendario!$B$7:$B$106,$E20,Calendario!$C$7:$C$106,"<>"),"")
A21: Fuera de ventana | B21: =COUNTIF(Calendario!$O$7:$O$106,A21) | C21: =IFERROR(B21/$D$4,0) | E21: Preparación técnica | F21: =COUNTIFS(Calendario!$B$7:$B$106,$E21,Calendario!$C$7:$C$106,"<>") | G21: =COUNTIFS(Calendario!$B$7:$B$106,$E21,Calendario!$I$7:$I$106,"Completada") | H21: =COUNTIFS(Calendario!$B$7:$B$106,$E21,Calendario!$C$7:$C$106,"<>")-G21 | I21: =COUNTIFS(Calendario!$B$7:$B$106,$E21,Calendario!$O$7:$O$106,"Atrasada")+COUNTIFS(Calendario!$B$7:$B$106,$E21,Calendario!$O$7:$O$106,"Bloqueada") | J21: =IFERROR(AVERAGEIFS(Calendario!$K$7:$K$106,Calendario!$B$7:$B$106,$E21,Calendario!$C$7:$C$106,"<>"),"")
E22: Logística | F22: =COUNTIFS(Calendario!$B$7:$B$106,$E22,Calendario!$C$7:$C$106,"<>") | G22: =COUNTIFS(Calendario!$B$7:$B$106,$E22,Calendario!$I$7:$I$106,"Completada") | H22: =COUNTIFS(Calendario!$B$7:$B$106,$E22,Calendario!$C$7:$C$106,"<>")-G22 | I22: =COUNTIFS(Calendario!$B$7:$B$106,$E22,Calendario!$O$7:$O$106,"Atrasada")+COUNTIFS(Calendario!$B$7:$B$106,$E22,Calendario!$O$7:$O$106,"Bloqueada") | J22: =IFERROR(AVERAGEIFS(Calendario!$K$7:$K$106,Calendario!$B$7:$B$106,$E22,Calendario!$C$7:$C$106,"<>"),"")

Sheet Calendario
A1: Calendario de preproducción audiovisual
A2: Una fila por actividad. Las fechas deben corresponder al periodo anterior al rodaje.
A6: ID | B6: Fase | C6: Actividad | D6: Responsable | E6: Inicio previsto | F6: Fin previsto | G6: Depende de | H6: Fecha límite externa | I6: Estado | J6: Prioridad | K6: Avance | L6: Días planificados | M6: Días hasta rodaje | N6: Bloqueada | O6: Semáforo | P6: Entregable o evidencia | Q6: Notas | R6: Revisión
A7: PRE-001 | B7: Casting | C7: Definir perfiles de reparto | D7: Lucía Prado | E7: 46266 | F7: 46267 | I7: Completada | J7: Alta | K7: 1 | L7: =IF(OR($C7="",$E7="",$F7=""),"",IF($F7<$E7,"",$F7-$E7+1)) | M7: =IF(OR($C7="",$F7="",Resumen!$B$6=""),"",Resumen!$B$6-$F7) | N7: =IF($C7="","",IF($G7="","No",IF($G7=$A7,"REVISAR",IF(COUNTIF($A$7:$A$106,$G7)=0,"REVISAR",IFERROR(IF(INDEX($I$7:$I$106,MATCH($G7,$A$7:$A$106,0))<>"Completada","Sí","No"),"REVISAR"))))) | O7: =IF($C7="","",IF($R7<>"OK","REVISAR",IF($I7="Completada","Completada",IF($F7>=Resumen!$B$6,"Fuera de ventana",IF($N7="Sí","Bloqueada",IF($F7<Resumen!$B$5,"Atrasada",IF($F7<=Resumen!$B$5+Resumen!$B$7,"Próxima","En plazo"))))))) | P7: Ficha de perfiles aprobada | Q7: Proyecto completamente ficticio | R7: =IF($C7="","",IF($A7="","Falta ID",IF(COUNTIF($A$7:$A$106,$A7)>1,"ID duplicado",IF(OR($E7="",$F7=""),"Faltan fechas",IF($F7<$E7,"Fin anterior al inicio",IF($F7>=Resumen!$B$6,"Termina en/tras rodaje",IF(AND($G7<>"",COUNTIF($A$7:$A$106,$G7)=0),"Dependencia inexistente",IF($G7=$A7,"Autodependencia",IF(OR($I7="",$J7="",$K7=""),"Faltan datos de seguimiento",IF(AND($I7="Completada",$K7<>100%),"Completada sin 100%","OK"))))))))))
A8: PRE-002 | B8: Casting | C8: Realizar pruebas de reparto | D8: Equipo Casting Norte | E8: 46268 | F8: 46272 | G8: PRE-001 | H8: 46273 | I8: En curso | J8: Alta | K8: 0.7 | L8: =IF(OR($C8="",$E8="",$F8=""),"",IF($F8<$E8,"",$F8-$E8+1)) | M8: =IF(OR($C8="",$F8="",Resumen!$B$6=""),"",Resumen!$B$6-$F8) | N8: =IF($C8="","",IF($G8="","No",IF($G8=$A8,"REVISAR",IF(COUNTIF($A$7:$A$106,$G8)=0,"REVISAR",IFERROR(IF(INDEX($I$7:$I$106,MATCH($G8,$A$7:$A$106,0))<>"Completada","Sí","No"),"REVISAR"))))) | O8: =IF($C8="","",IF($R8<>"OK","REVISAR",IF($I8="Completada","Completada",IF($F8>=Resumen!$B$6,"Fuera de ventana",IF($N8="Sí","Bloqueada",IF($F8<Resumen!$B$5,"Atrasada",IF($F8<=Resumen!$B$5+Resumen!$B$7,"Próxima","En plazo"))))))) | P8: Selección grabada y acta de decisión | Q8: Pendiente una segunda prueba | R8: =IF($C8="","",IF($A8="","Falta ID",IF(COUNTIF($A$7:$A$106,$A8)>1,"ID duplicado",IF(OR($E8="",$F8=""),"Faltan fechas",IF($F8<$E8,"Fin anterior al inicio",IF($F8>=Resumen!$B$6,"Termina en/tras rodaje",IF(AND($G8<>"",COUNTIF($A$7:$A$106,$G8)=0),"Dependencia inexistente",IF($G8=$A8,"Autodependencia",IF(OR($I8="",$J8="",$K8=""),"Faltan datos de seguimiento",IF(AND($I8="Completada",$K8<>100%),"Completada sin 100%","OK"))))))))))
A9: PRE-003 | B9: Localizaciones | C9: Visitar opciones de localización | D9: Mateo Ríos | E9: 46266 | F9: 46269 | I9: Completada | J9: Alta | K9: 1 | L9: =IF(OR($C9="",$E9="",$F9=""),"",IF($F9<$E9,"",$F9-$E9+1)) | M9: =IF(OR($C9="",$F9="",Resumen!$B$6=""),"",Resumen!$B$6-$F9) | N9: =IF($C9="","",IF($G9="","No",IF($G9=$A9,"REVISAR",IF(COUNTIF($A$7:$A$106,$G9)=0,"REVISAR",IFERROR(IF(INDEX($I$7:$I$106,MATCH($G9,$A$7:$A$106,0))<>"Completada","Sí","No"),"REVISAR"))))) | O9: =IF($C9="","",IF($R9<>"OK","REVISAR",IF($I9="Completada","Completada",IF($F9>=Resumen!$B$6,"Fuera de ventana",IF($N9="Sí","Bloqueada",IF($F9<Resumen!$B$5,"Atrasada",IF($F9<=Resumen!$B$5+Resumen!$B$7,"Próxima","En plazo"))))))) | P9: Informe fotográfico de visitas | Q9: Espacios y empresas ficticios | R9: =IF($C9="","",IF($A9="","Falta ID",IF(COUNTIF($A$7:$A$106,$A9)>1,"ID duplicado",IF(OR($E9="",$F9=""),"Faltan fechas",IF($F9<$E9,"Fin anterior al inicio",IF($F9>=Resumen!$B$6,"Termina en/tras rodaje",IF(AND($G9<>"",COUNTIF($A$7:$A$106,$G9)=0),"Dependencia inexistente",IF($G9=$A9,"Autodependencia",IF(OR($I9="",$J9="",$K9=""),"Faltan datos de seguimiento",IF(AND($I9="Completada",$K9<>100%),"Completada sin 100%","OK"))))))))))
A10: PRE-004 | B10: Localizaciones | C10: Confirmar localización principal | D10: Mateo Ríos | E10: 46270 | F10: 46274 | G10: PRE-003 | H10: 46275 | I10: En curso | J10: Alta | K10: 0.5 | L10: =IF(OR($C10="",$E10="",$F10=""),"",IF($F10<$E10,"",$F10-$E10+1)) | M10: =IF(OR($C10="",$F10="",Resumen!$B$6=""),"",Resumen!$B$6-$F10) | N10: =IF($C10="","",IF($G10="","No",IF($G10=$A10,"REVISAR",IF(COUNTIF($A$7:$A$106,$G10)=0,"REVISAR",IFERROR(IF(INDEX($I$7:$I$106,MATCH($G10,$A$7:$A$106,0))<>"Completada","Sí","No"),"REVISAR"))))) | O10: =IF($C10="","",IF($R10<>"OK","REVISAR",IF($I10="Completada","Completada",IF($F10>=Resumen!$B$6,"Fuera de ventana",IF($N10="Sí","Bloqueada",IF($F10<Resumen!$B$5,"Atrasada",IF($F10<=Resumen!$B$5+Resumen!$B$7,"Próxima","En plazo"))))))) | P10: Confirmación escrita del espacio | Q10: Falta confirmar disponibilidad | R10: =IF($C10="","",IF($A10="","Falta ID",IF(COUNTIF($A$7:$A$106,$A10)>1,"ID duplicado",IF(OR($E10="",$F10=""),"Faltan fechas",IF($F10<$E10,"Fin anterior al inicio",IF($F10>=Resumen!$B$6,"Termina en/tras rodaje",IF(AND($G10<>"",COUNTIF($A$7:$A$106,$G10)=0),"Dependencia inexistente",IF($G10=$A10,"Autodependencia",IF(OR($I10="",$J10="",$K10=""),"Faltan datos de seguimiento",IF(AND($I10="Completada",$K10<>100%),"Completada sin 100%","OK"))))))))))
A11: PRE-005 | B11: Permisos | C11: Preparar solicitud de ocupación | D11: Producción Álamo | E11: 46273 | F11: 46276 | G11: PRE-004 | H11: 46279 | I11: No iniciada | J11: Alta | K11: 0 | L11: =IF(OR($C11="",$E11="",$F11=""),"",IF($F11<$E11,"",$F11-$E11+1)) | M11: =IF(OR($C11="",$F11="",Resumen!$B$6=""),"",Resumen!$B$6-$F11) | N11: =IF($C11="","",IF($G11="","No",IF($G11=$A11,"REVISAR",IF(COUNTIF($A$7:$A$106,$G11)=0,"REVISAR",IFERROR(IF(INDEX($I$7:$I$106,MATCH($G11,$A$7:$A$106,0))<>"Completada","Sí","No"),"REVISAR"))))) | O11: =IF($C11="","",IF($R11<>"OK","REVISAR",IF($I11="Completada","Completada",IF($F11>=Resumen!$B$6,"Fuera de ventana",IF($N11="Sí","Bloqueada",IF($F11<Resumen!$B$5,"Atrasada",IF($F11<=Resumen!$B$5+Resumen!$B$7,"Próxima","En plazo"))))))) | P11: Solicitud preparada para envío | Q11: No incluye asesoramiento jurídico | R11: =IF($C11="","",IF($A11="","Falta ID",IF(COUNTIF($A$7:$A$106,$A11)>1,"ID duplicado",IF(OR($E11="",$F11=""),"Faltan fechas",IF($F11<$E11,"Fin anterior al inicio",IF($F11>=Resumen!$B$6,"Termina en/tras rodaje",IF(AND($G11<>"",COUNTIF($A$7:$A$106,$G11)=0),"Dependencia inexistente",IF($G11=$A11,"Autodependencia",IF(OR($I11="",$J11="",$K11=""),"Faltan datos de seguimiento",IF(AND($I11="Completada",$K11<>100%),"Completada sin 100%","OK"))))))))))
A12: PRE-006 | B12: Pruebas | C12: Realizar prueba de cámara y ópticas | D12: Nora Vidal | E12: 46275 | F12: 46277 | G12: PRE-002 | I12: No iniciada | J12: Media | K12: 0 | L12: =IF(OR($C12="",$E12="",$F12=""),"",IF($F12<$E12,"",$F12-$E12+1)) | M12: =IF(OR($C12="",$F12="",Resumen!$B$6=""),"",Resumen!$B$6-$F12) | N12: =IF($C12="","",IF($G12="","No",IF($G12=$A12,"REVISAR",IF(COUNTIF($A$7:$A$106,$G12)=0,"REVISAR",IFERROR(IF(INDEX($I$7:$I$106,MATCH($G12,$A$7:$A$106,0))<>"Completada","Sí","No"),"REVISAR"))))) | O12: =IF($C12="","",IF($R12<>"OK","REVISAR",IF($I12="Completada","Completada",IF($F12>=Resumen!$B$6,"Fuera de ventana",IF($N12="Sí","Bloqueada",IF($F12<Resumen!$B$5,"Atrasada",IF($F12<=Resumen!$B$5+Resumen!$B$7,"Próxima","En plazo"))))))) | P12: Informe de prueba técnica | Q12: Coordinar con disponibilidad de reparto | R12: =IF($C12="","",IF($A12="","Falta ID",IF(COUNTIF($A$7:$A$106,$A12)>1,"ID duplicado",IF(OR($E12="",$F12=""),"Faltan fechas",IF($F12<$E12,"Fin anterior al inicio",IF($F12>=Resumen!$B$6,"Termina en/tras rodaje",IF(AND($G12<>"",COUNTIF($A$7:$A$106,$G12)=0),"Dependencia inexistente",IF($G12=$A12,"Autodependencia",IF(OR($I12="",$J12="",$K12=""),"Faltan datos de seguimiento",IF(AND($I12="Completada",$K12<>100%),"Completada sin 100%","OK"))))))))))
A13: PRE-007 | B13: Contratación | C13: Confirmar equipo técnico principal | D13: Clara Monte | E13: 46268 | F13: 46273 | H13: 46274 | I13: En curso | J13: Alta | K13: 0.6 | L13: =IF(OR($C13="",$E13="",$F13=""),"",IF($F13<$E13,"",$F13-$E13+1)) | M13: =IF(OR($C13="",$F13="",Resumen!$B$6=""),"",Resumen!$B$6-$F13) | N13: =IF($C13="","",IF($G13="","No",IF($G13=$A13,"REVISAR",IF(COUNTIF($A$7:$A$106,$G13)=0,"REVISAR",IFERROR(IF(INDEX($I$7:$I$106,MATCH($G13,$A$7:$A$106,0))<>"Completada","Sí","No"),"REVISAR"))))) | O13: =IF($C13="","",IF($R13<>"OK","REVISAR",IF($I13="Completada","Completada",IF($F13>=Resumen!$B$6,"Fuera de ventana",IF($N13="Sí","Bloqueada",IF($F13<Resumen!$B$5,"Atrasada",IF($F13<=Resumen!$B$5+Resumen!$B$7,"Próxima","En plazo"))))))) | P13: Relación de incorporaciones confirmadas | Q13: Sin datos personales de contacto | R13: =IF($C13="","",IF($A13="","Falta ID",IF(COUNTIF($A$7:$A$106,$A13)>1,"ID duplicado",IF(OR($E13="",$F13=""),"Faltan fechas",IF($F13<$E13,"Fin anterior al inicio",IF($F13>=Resumen!$B$6,"Termina en/tras rodaje",IF(AND($G13<>"",COUNTIF($A$7:$A$106,$G13)=0),"Dependencia inexistente",IF($G13=$A13,"Autodependencia",IF(OR($I13="",$J13="",$K13=""),"Faltan datos de seguimiento",IF(AND($I13="Completada",$K13<>100%),"Completada sin 100%","OK"))))))))))
A14: PRE-008 | B14: Preparación técnica | C14: Cerrar lista de cámara, luz y sonido | D14: Nora Vidal | E14: 46278 | F14: 46282 | G14: PRE-006 | H14: 46283 | I14: No iniciada | J14: Alta | K14: 0 | L14: =IF(OR($C14="",$E14="",$F14=""),"",IF($F14<$E14,"",$F14-$E14+1)) | M14: =IF(OR($C14="",$F14="",Resumen!$B$6=""),"",Resumen!$B$6-$F14) | N14: =IF($C14="","",IF($G14="","No",IF($G14=$A14,"REVISAR",IF(COUNTIF($A$7:$A$106,$G14)=0,"REVISAR",IFERROR(IF(INDEX($I$7:$I$106,MATCH($G14,$A$7:$A$106,0))<>"Completada","Sí","No"),"REVISAR"))))) | O14: =IF($C14="","",IF($R14<>"OK","REVISAR",IF($I14="Completada","Completada",IF($F14>=Resumen!$B$6,"Fuera de ventana",IF($N14="Sí","Bloqueada",IF($F14<Resumen!$B$5,"Atrasada",IF($F14<=Resumen!$B$5+Resumen!$B$7,"Próxima","En plazo"))))))) | P14: Lista técnica aprobada | Q14: Revisar necesidades de alimentación | R14: =IF($C14="","",IF($A14="","Falta ID",IF(COUNTIF($A$7:$A$106,$A14)>1,"ID duplicado",IF(OR($E14="",$F14=""),"Faltan fechas",IF($F14<$E14,"Fin anterior al inicio",IF($F14>=Resumen!$B$6,"Termina en/tras rodaje",IF(AND($G14<>"",COUNTIF($A$7:$A$106,$G14)=0),"Dependencia inexistente",IF($G14=$A14,"Autodependencia",IF(OR($I14="",$J14="",$K14=""),"Faltan datos de seguimiento",IF(AND($I14="Completada",$K14<>100%),"Completada sin 100%","OK"))))))))))
A15: PRE-009 | B15: Logística | C15: Preparar transporte y accesos | D15: Diego Soler | E15: 46280 | F15: 46286 | G15: PRE-004 | H15: 46287 | I15: No iniciada | J15: Media | K15: 0 | L15: =IF(OR($C15="",$E15="",$F15=""),"",IF($F15<$E15,"",$F15-$E15+1)) | M15: =IF(OR($C15="",$F15="",Resumen!$B$6=""),"",Resumen!$B$6-$F15) | N15: =IF($C15="","",IF($G15="","No",IF($G15=$A15,"REVISAR",IF(COUNTIF($A$7:$A$106,$G15)=0,"REVISAR",IFERROR(IF(INDEX($I$7:$I$106,MATCH($G15,$A$7:$A$106,0))<>"Completada","Sí","No"),"REVISAR"))))) | O15: =IF($C15="","",IF($R15<>"OK","REVISAR",IF($I15="Completada","Completada",IF($F15>=Resumen!$B$6,"Fuera de ventana",IF($N15="Sí","Bloqueada",IF($F15<Resumen!$B$5,"Atrasada",IF($F15<=Resumen!$B$5+Resumen!$B$7,"Próxima","En plazo"))))))) | P15: Plan de transporte y accesos | Q15: Incluir margen de carga | R15: =IF($C15="","",IF($A15="","Falta ID",IF(COUNTIF($A$7:$A$106,$A15)>1,"ID duplicado",IF(OR($E15="",$F15=""),"Faltan fechas",IF($F15<$E15,"Fin anterior al inicio",IF($F15>=Resumen!$B$6,"Termina en/tras rodaje",IF(AND($G15<>"",COUNTIF($A$7:$A$106,$G15)=0),"Dependencia inexistente",IF($G15=$A15,"Autodependencia",IF(OR($I15="",$J15="",$K15=""),"Faltan datos de seguimiento",IF(AND($I15="Completada",$K15<>100%),"Completada sin 100%","OK"))))))))))
A16: PRE-010 | B16: Preparación técnica | C16: Celebrar reunión final de preproducción | D16: Lucía Prado | E16: 46288 | F16: 46289 | G16: PRE-008 | H16: 46289 | I16: No iniciada | J16: Alta | K16: 0 | L16: =IF(OR($C16="",$E16="",$F16=""),"",IF($F16<$E16,"",$F16-$E16+1)) | M16: =IF(OR($C16="",$F16="",Resumen!$B$6=""),"",Resumen!$B$6-$F16) | N16: =IF($C16="","",IF($G16="","No",IF($G16=$A16,"REVISAR",IF(COUNTIF($A$7:$A$106,$G16)=0,"REVISAR",IFERROR(IF(INDEX($I$7:$I$106,MATCH($G16,$A$7:$A$106,0))<>"Completada","Sí","No"),"REVISAR"))))) | O16: =IF($C16="","",IF($R16<>"OK","REVISAR",IF($I16="Completada","Completada",IF($F16>=Resumen!$B$6,"Fuera de ventana",IF($N16="Sí","Bloqueada",IF($F16<Resumen!$B$5,"Atrasada",IF($F16<=Resumen!$B$5+Resumen!$B$7,"Próxima","En plazo"))))))) | P16: Acta final y pendientes asignados | Q16: Validar preparación antes del rodaje | R16: =IF($C16="","",IF($A16="","Falta ID",IF(COUNTIF($A$7:$A$106,$A16)>1,"ID duplicado",IF(OR($E16="",$F16=""),"Faltan fechas",IF($F16<$E16,"Fin anterior al inicio",IF($F16>=Resumen!$B$6,"Termina en/tras rodaje",IF(AND($G16<>"",COUNTIF($A$7:$A$106,$G16)=0),"Dependencia inexistente",IF($G16=$A16,"Autodependencia",IF(OR($I16="",$J16="",$K16=""),"Faltan datos de seguimiento",IF(AND($I16="Completada",$K16<>100%),"Completada sin 100%","OK"))))))))))
L17: =IF(OR($C17="",$E17="",$F17=""),"",IF($F17<$E17,"",$F17-$E17+1)) | M17: =IF(OR($C17="",$F17="",Resumen!$B$6=""),"",Resumen!$B$6-$F17) | N17: =IF($C17="","",IF($G17="","No",IF($G17=$A17,"REVISAR",IF(COUNTIF($A$7:$A$106,$G17)=0,"REVISAR",IFERROR(IF(INDEX($I$7:$I$106,MATCH($G17,$A$7:$A$106,0))<>"Completada","Sí","No"),"REVISAR"))))) | O17: =IF($C17="","",IF($R17<>"OK","REVISAR",IF($I17="Completada","Completada",IF($F17>=Resumen!$B$6,"Fuera de ventana",IF($N17="Sí","Bloqueada",IF($F17<Resumen!$B$5,"Atrasada",IF($F17<=Resumen!$B$5+Resumen!$B$7,"Próxima","En plazo"))))))) | R17: =IF($C17="","",IF($A17="","Falta ID",IF(COUNTIF($A$7:$A$106,$A17)>1,"ID duplicado",IF(OR($E17="",$F17=""),"Faltan fechas",IF($F17<$E17,"Fin anterior al inicio",IF($F17>=Resumen!$B$6,"Termina en/tras rodaje",IF(AND($G17<>"",COUNTIF($A$7:$A$106,$G17)=0),"Dependencia inexistente",IF($G17=$A17,"Autodependencia",IF(OR($I17="",$J17="",$K17=""),"Faltan datos de seguimiento",IF(AND($I17="Completada",$K17<>100%),"Completada sin 100%","OK"))))))))))
L18: =IF(OR($C18="",$E18="",$F18=""),"",IF($F18<$E18,"",$F18-$E18+1)) | M18: =IF(OR($C18="",$F18="",Resumen!$B$6=""),"",Resumen!$B$6-$F18) | N18: =IF($C18="","",IF($G18="","No",IF($G18=$A18,"REVISAR",IF(COUNTIF($A$7:$A$106,$G18)=0,"REVISAR",IFERROR(IF(INDEX($I$7:$I$106,MATCH($G18,$A$7:$A$106,0))<>"Completada","Sí","No"),"REVISAR"))))) | O18: =IF($C18="","",IF($R18<>"OK","REVISAR",IF($I18="Completada","Completada",IF($F18>=Resumen!$B$6,"Fuera de ventana",IF($N18="Sí","Bloqueada",IF($F18<Resumen!$B$5,"Atrasada",IF($F18<=Resumen!$B$5+Resumen!$B$7,"Próxima","En plazo"))))))) | R18: =IF($C18="","",IF($A18="","Falta ID",IF(COUNTIF($A$7:$A$106,$A18)>1,"ID duplicado",IF(OR($E18="",$F18=""),"Faltan fechas",IF($F18<$E18,"Fin anterior al inicio",IF($F18>=Resumen!$B$6,"Termina en/tras rodaje",IF(AND($G18<>"",COUNTIF($A$7:$A$106,$G18)=0),"Dependencia inexistente",IF($G18=$A18,"Autodependencia",IF(OR($I18="",$J18="",$K18=""),"Faltan datos de seguimiento",IF(AND($I18="Completada",$K18<>100%),"Completada sin 100%","OK"))))))))))
L19: =IF(OR($C19="",$E19="",$F19=""),"",IF($F19<$E19,"",$F19-$E19+1)) | M19: =IF(OR($C19="",$F19="",Resumen!$B$6=""),"",Resumen!$B$6-$F19) | N19: =IF($C19="","",IF($G19="","No",IF($G19=$A19,"REVISAR",IF(COUNTIF($A$7:$A$106,$G19)=0,"REVISAR",IFERROR(IF(INDEX($I$7:$I$106,MATCH($G19,$A$7:$A$106,0))<>"Completada","Sí","No"),"REVISAR"))))) | O19: =IF($C19="","",IF($R19<>"OK","REVISAR",IF($I19="Completada","Completada",IF($F19>=Resumen!$B$6,"Fuera de ventana",IF($N19="Sí","Bloqueada",IF($F19<Resumen!$B$5,"Atrasada",IF($F19<=Resumen!$B$5+Resumen!$B$7,"Próxima","En plazo"))))))) | R19: =IF($C19="","",IF($A19="","Falta ID",IF(COUNTIF($A$7:$A$106,$A19)>1,"ID duplicado",IF(OR($E19="",$F19=""),"Faltan fechas",IF($F19<$E19,"Fin anterior al inicio",IF($F19>=Resumen!$B$6,"Termina en/tras rodaje",IF(AND($G19<>"",COUNTIF($A$7:$A$106,$G19)=0),"Dependencia inexistente",IF($G19=$A19,"Autodependencia",IF(OR($I19="",$J19="",$K19=""),"Faltan datos de seguimiento",IF(AND($I19="Completada",$K19<>100%),"Completada sin 100%","OK"))))))))))
L20: =IF(OR($C20="",$E20="",$F20=""),"",IF($F20<$E20,"",$F20-$E20+1)) | M20: =IF(OR($C20="",$F20="",Resumen!$B$6=""),"",Resumen!$B$6-$F20) | N20: =IF($C20="","",IF($G20="","No",IF($G20=$A20,"REVISAR",IF(COUNTIF($A$7:$A$106,$G20)=0,"REVISAR",IFERROR(IF(INDEX($I$7:$I$106,MATCH($G20,$A$7:$A$106,0))<>"Completada","Sí","No"),"REVISAR"))))) | O20: =IF($C20="","",IF($R20<>"OK","REVISAR",IF($I20="Completada","Completada",IF($F20>=Resumen!$B$6,"Fuera de ventana",IF($N20="Sí","Bloqueada",IF($F20<Resumen!$B$5,"Atrasada",IF($F20<=Resumen!$B$5+Resumen!$B$7,"Próxima","En plazo"))))))) | R20: =IF($C20="","",IF($A20="","Falta ID",IF(COUNTIF($A$7:$A$106,$A20)>1,"ID duplicado",IF(OR($E20="",$F20=""),"Faltan fechas",IF($F20<$E20,"Fin anterior al inicio",IF($F20>=Resumen!$B$6,"Termina en/tras rodaje",IF(AND($G20<>"",COUNTIF($A$7:$A$106,$G20)=0),"Dependencia inexistente",IF($G20=$A20,"Autodependencia",IF(OR($I20="",$J20="",$K20=""),"Faltan datos de seguimiento",IF(AND($I20="Completada",$K20<>100%),"Completada sin 100%","OK"))))))))))
L21: =IF(OR($C21="",$E21="",$F21=""),"",IF($F21<$E21,"",$F21-$E21+1)) | M21: =IF(OR($C21="",$F21="",Resumen!$B$6=""),"",Resumen!$B$6-$F21) | N21: =IF($C21="","",IF($G21="","No",IF($G21=$A21,"REVISAR",IF(COUNTIF($A$7:$A$106,$G21)=0,"REVISAR",IFERROR(IF(INDEX($I$7:$I$106,MATCH($G21,$A$7:$A$106,0))<>"Completada","Sí","No"),"REVISAR"))))) | O21: =IF($C21="","",IF($R21<>"OK","REVISAR",IF($I21="Completada","Completada",IF($F21>=Resumen!$B$6,"Fuera de ventana",IF($N21="Sí","Bloqueada",IF($F21<Resumen!$B$5,"Atrasada",IF($F21<=Resumen!$B$5+Resumen!$B$7,"Próxima","En plazo"))))))) | R21: =IF($C21="","",IF($A21="","Falta ID",IF(COUNTIF($A$7:$A$106,$A21)>1,"ID duplicado",IF(OR($E21="",$F21=""),"Faltan fechas",IF($F21<$E21,"Fin anterior al inicio",IF($F21>=Resumen!$B$6,"Termina en/tras rodaje",IF(AND($G21<>"",COUNTIF($A$7:$A$106,$G21)=0),"Dependencia inexistente",IF($G21=$A21,"Autodependencia",IF(OR($I21="",$J21="",$K21=""),"Faltan datos de seguimiento",IF(AND($I21="Completada",$K21<>100%),"Completada sin 100%","OK"))))))))))
L22: =IF(OR($C22="",$E22="",$F22=""),"",IF($F22<$E22,"",$F22-$E22+1)) | M22: =IF(OR($C22="",$F22="",Resumen!$B$6=""),"",Resumen!$B$6-$F22) | N22: =IF($C22="","",IF($G22="","No",IF($G22=$A22,"REVISAR",IF(COUNTIF($A$7:$A$106,$G22)=0,"REVISAR",IFERROR(IF(INDEX($I$7:$I$106,MATCH($G22,$A$7:$A$106,0))<>"Completada","Sí","No"),"REVISAR"))))) | O22: =IF($C22="","",IF($R22<>"OK","REVISAR",IF($I22="Completada","Completada",IF($F22>=Resumen!$B$6,"Fuera de ventana",IF($N22="Sí","Bloqueada",IF($F22<Resumen!$B$5,"Atrasada",IF($F22<=Resumen!$B$5+Resumen!$B$7,"Próxima","En plazo"))))))) | R22: =IF($C22="","",IF($A22="","Falta ID",IF(COUNTIF($A$7:$A$106,$A22)>1,"ID duplicado",IF(OR($E22="",$F22=""),"Faltan fechas",IF($F22<$E22,"Fin anterior al inicio",IF($F22>=Resumen!$B$6,"Termina en/tras rodaje",IF(AND($G22<>"",COUNTIF($A$7:$A$106,$G22)=0),"Dependencia inexistente",IF($G22=$A22,"Autodependencia",IF(OR($I22="",$J22="",$K22=""),"Faltan datos de seguimiento",IF(AND($I22="Completada",$K22<>100%),"Completada sin 100%","OK"))))))))))
L23: =IF(OR($C23="",$E23="",$F23=""),"",IF($F23<$E23,"",$F23-$E23+1)) | M23: =IF(OR($C23="",$F23="",Resumen!$B$6=""),"",Resumen!$B$6-$F23) | N23: =IF($C23="","",IF($G23="","No",IF($G23=$A23,"REVISAR",IF(COUNTIF($A$7:$A$106,$G23)=0,"REVISAR",IFERROR(IF(INDEX($I$7:$I$106,MATCH($G23,$A$7:$A$106,0))<>"Completada","Sí","No"),"REVISAR"))))) | O23: =IF($C23="","",IF($R23<>"OK","REVISAR",IF($I23="Completada","Completada",IF($F23>=Resumen!$B$6,"Fuera de ventana",IF($N23="Sí","Bloqueada",IF($F23<Resumen!$B$5,"Atrasada",IF($F23<=Resumen!$B$5+Resumen!$B$7,"Próxima","En plazo"))))))) | R23: =IF($C23="","",IF($A23="","Falta ID",IF(COUNTIF($A$7:$A$106,$A23)>1,"ID duplicado",IF(OR($E23="",$F23=""),"Faltan fechas",IF($F23<$E23,"Fin anterior al inicio",IF($F23>=Resumen!$B$6,"Termina en/tras rodaje",IF(AND($G23<>"",COUNTIF($A$7:$A$106,$G23)=0),"Dependencia inexistente",IF($G23=$A23,"Autodependencia",IF(OR($I23="",$J23="",$K23=""),"Faltan datos de seguimiento",IF(AND($I23="Completada",$K23<>100%),"Completada sin 100%","OK"))))))))))
L24: =IF(OR($C24="",$E24="",$F24=""),"",IF($F24<$E24,"",$F24-$E24+1)) | M24: =IF(OR($C24="",$F24="",Resumen!$B$6=""),"",Resumen!$B$6-$F24) | N24: =IF($C24="","",IF($G24="","No",IF($G24=$A24,"REVISAR",IF(COUNTIF($A$7:$A$106,$G24)=0,"REVISAR",IFERROR(IF(INDEX($I$7:$I$106,MATCH($G24,$A$7:$A$106,0))<>"Completada","Sí","No"),"REVISAR"))))) | O24: =IF($C24="","",IF($R24<>"OK","REVISAR",IF($I24="Completada","Completada",IF($F24>=Resumen!$B$6,"Fuera de ventana",IF($N24="Sí","Bloqueada",IF($F24<Resumen!$B$5,"Atrasada",IF($F24<=Resumen!$B$5+Resumen!$B$7,"Próxima","En plazo"))))))) | R24: =IF($C24="","",IF($A24="","Falta ID",IF(COUNTIF($A$7:$A$106,$A24)>1,"ID duplicado",IF(OR($E24="",$F24=""),"Faltan fechas",IF($F24<$E24,"Fin anterior al inicio",IF($F24>=Resumen!$B$6,"Termina en/tras rodaje",IF(AND($G24<>"",COUNTIF($A$7:$A$106,$G24)=0),"Dependencia inexistente",IF($G24=$A24,"Autodependencia",IF(OR($I24="",$J24="",$K24=""),"Faltan datos de seguimiento",IF(AND($I24="Completada",$K24<>100%),"Completada sin 100%","OK"))))))))))
L25: =IF(OR($C25="",$E25="",$F25=""),"",IF($F25<$E25,"",$F25-$E25+1)) | M25: =IF(OR($C25="",$F25="",Resumen!$B$6=""),"",Resumen!$B$6-$F25) | N25: =IF($C25="","",IF($G25="","No",IF($G25=$A25,"REVISAR",IF(COUNTIF($A$7:$A$106,$G25)=0,"REVISAR",IFERROR(IF(INDEX($I$7:$I$106,MATCH($G25,$A$7:$A$106,0))<>"Completada","Sí","No"),"REVISAR"))))) | O25: =IF($C25="","",IF($R25<>"OK","REVISAR",IF($I25="Completada","Completada",IF($F25>=Resumen!$B$6,"Fuera de ventana",IF($N25="Sí","Bloqueada",IF($F25<Resumen!$B$5,"Atrasada",IF($F25<=Resumen!$B$5+Resumen!$B$7,"Próxima","En plazo"))))))) | R25: =IF($C25="","",IF($A25="","Falta ID",IF(COUNTIF($A$7:$A$106,$A25)>1,"ID duplicado",IF(OR($E25="",$F25=""),"Faltan fechas",IF($F25<$E25,"Fin anterior al inicio",IF($F25>=Resumen!$B$6,"Termina en/tras rodaje",IF(AND($G25<>"",COUNTIF($A$7:$A$106,$G25)=0),"Dependencia inexistente",IF($G25=$A25,"Autodependencia",IF(OR($I25="",$J25="",$K25=""),"Faltan datos de seguimiento",IF(AND($I25="Completada",$K25<>100%),"Completada sin 100%","OK"))))))))))
L26: =IF(OR($C26="",$E26="",$F26=""),"",IF($F26<$E26,"",$F26-$E26+1)) | M26: =IF(OR($C26="",$F26="",Resumen!$B$6=""),"",Resumen!$B$6-$F26) | N26: =IF($C26="","",IF($G26="","No",IF($G26=$A26,"REVISAR",IF(COUNTIF($A$7:$A$106,$G26)=0,"REVISAR",IFERROR(IF(INDEX($I$7:$I$106,MATCH($G26,$A$7:$A$106,0))<>"Completada","Sí","No"),"REVISAR"))))) | O26: =IF($C26="","",IF($R26<>"OK","REVISAR",IF($I26="Completada","Completada",IF($F26>=Resumen!$B$6,"Fuera de ventana",IF($N26="Sí","Bloqueada",IF($F26<Resumen!$B$5,"Atrasada",IF($F26<=Resumen!$B$5+Resumen!$B$7,"Próxima","En plazo"))))))) | R26: =IF($C26="","",IF($A26="","Falta ID",IF(COUNTIF($A$7:$A$106,$A26)>1,"ID duplicado",IF(OR($E26="",$F26=""),"Faltan fechas",IF($F26<$E26,"Fin anterior al inicio",IF($F26>=Resumen!$B$6,"Termina en/tras rodaje",IF(AND($G26<>"",COUNTIF($A$7:$A$106,$G26)=0),"Dependencia inexistente",IF($G26=$A26,"Autodependencia",IF(OR($I26="",$J26="",$K26=""),"Faltan datos de seguimiento",IF(AND($I26="Completada",$K26<>100%),"Completada sin 100%","OK"))))))))))
L27: =IF(OR($C27="",$E27="",$F27=""),"",IF($F27<$E27,"",$F27-$E27+1)) | M27: =IF(OR($C27="",$F27="",Resumen!$B$6=""),"",Resumen!$B$6-$F27) | N27: =IF($C27="","",IF($G27="","No",IF($G27=$A27,"REVISAR",IF(COUNTIF($A$7:$A$106,$G27)=0,"REVISAR",IFERROR(IF(INDEX($I$7:$I$106,MATCH($G27,$A$7:$A$106,0))<>"Completada","Sí","No"),"REVISAR"))))) | O27: =IF($C27="","",IF($R27<>"OK","REVISAR",IF($I27="Completada","Completada",IF($F27>=Resumen!$B$6,"Fuera de ventana",IF($N27="Sí","Bloqueada",IF($F27<Resumen!$B$5,"Atrasada",IF($F27<=Resumen!$B$5+Resumen!$B$7,"Próxima","En plazo"))))))) | R27: =IF($C27="","",IF($A27="","Falta ID",IF(COUNTIF($A$7:$A$106,$A27)>1,"ID duplicado",IF(OR($E27="",$F27=""),"Faltan fechas",IF($F27<$E27,"Fin anterior al inicio",IF($F27>=Resumen!$B$6,"Termina en/tras rodaje",IF(AND($G27<>"",COUNTIF($A$7:$A$106,$G27)=0),"Dependencia inexistente",IF($G27=$A27,"Autodependencia",IF(OR($I27="",$J27="",$K27=""),"Faltan datos de seguimiento",IF(AND($I27="Completada",$K27<>100%),"Completada sin 100%","OK"))))))))))
L28: =IF(OR($C28="",$E28="",$F28=""),"",IF($F28<$E28,"",$F28-$E28+1)) | M28: =IF(OR($C28="",$F28="",Resumen!$B$6=""),"",Resumen!$B$6-$F28) | N28: =IF($C28="","",IF($G28="","No",IF($G28=$A28,"REVISAR",IF(COUNTIF($A$7:$A$106,$G28)=0,"REVISAR",IFERROR(IF(INDEX($I$7:$I$106,MATCH($G28,$A$7:$A$106,0))<>"Completada","Sí","No"),"REVISAR"))))) | O28: =IF($C28="","",IF($R28<>"OK","REVISAR",IF($I28="Completada","Completada",IF($F28>=Resumen!$B$6,"Fuera de ventana",IF($N28="Sí","Bloqueada",IF($F28<Resumen!$B$5,"Atrasada",IF($F28<=Resumen!$B$5+Resumen!$B$7,"Próxima","En plazo"))))))) | R28: =IF($C28="","",IF($A28="","Falta ID",IF(COUNTIF($A$7:$A$106,$A28)>1,"ID duplicado",IF(OR($E28="",$F28=""),"Faltan fechas",IF($F28<$E28,"Fin anterior al inicio",IF($F28>=Resumen!$B$6,"Termina en/tras rodaje",IF(AND($G28<>"",COUNTIF($A$7:$A$106,$G28)=0),"Dependencia inexistente",IF($G28=$A28,"Autodependencia",IF(OR($I28="",$J28="",$K28=""),"Faltan datos de seguimiento",IF(AND($I28="Completada",$K28<>100%),"Completada sin 100%","OK"))))))))))
... L106: =IF(OR($C106="",$E106="",$F106=""),"",IF($F106<$E106,"",$F106-$E106+1)) | M106: =IF(OR($C106="",$F106="",Resumen!$B$6=""),"",Resumen!$B$6-$F106) | N106: =IF($C106="","",IF($G106="","No",IF($G106=$A106,"REVISAR",IF(COUNTIF($A$7:$A$106,$G106)=0,"REVISAR",IFERROR(IF(INDEX($I$7:$I$106,MATCH($G106,$A$7:$A$106,0))<>"Completada","Sí","No"),"REVISAR"))))) | O106: =IF($C106="","",IF($R106<>"OK","REVISAR",IF($I106="Completada","Completada",IF($F106>=Resumen!$B$6,"Fuera de ventana",IF($N106="Sí","Bloqueada",IF($F106<Resumen!$B$5,"Atrasada",IF($F106<=Resumen!$B$5+Resumen!$B$7,"Próxima","En plazo"))))))) | R106: =IF($C106="","",IF($A106="","Falta ID",IF(COUNTIF($A$7:$A$106,$A106)>1,"ID duplicado",IF(OR($E106="",$F106=""),"Faltan fechas",IF($F106<$E106,"Fin anterior al inicio",IF($F106>=Resumen!$B$6,"Termina en/tras rodaje",IF(AND($G106<>"",COUNTIF($A$7:$A$106,$G106)=0),"Dependencia inexistente",IF($G106=$A106,"Autodependencia",IF(OR($I106="",$J106="",$K106=""),"Faltan datos de seguimiento",IF(AND($I106="Completada",$K106<>100%),"Completada sin 100%","OK"))))))))))

Sheet Listas
A1: Fases | C1: Estados | E1: Prioridades | G1: Responsables
A2: Casting | C2: No iniciada | E2: Alta | G2: Lucía Prado
A3: Localizaciones | C3: En curso | E3: Media | G3: Mateo Ríos
A4: Permisos | C4: En espera | E4: Baja | G4: Nora Vidal
A5: Pruebas | C5: Completada | G5: Clara Monte
A6: Contratación | C6: Cancelada | G6: Diego Soler
A7: Preparación técnica | G7: Equipo Casting Norte
A8: Logística | G8: Producción Álamo
A102: Reglas de edición
A103: Añade valores dentro de los rangos amarillos y evita filas vacías entre valores activos.
A104: No elimines ni renombres los encabezados.
A105: No almacenes teléfonos, DNI/NIE, direcciones, firmas ni correos personales.

Sheet Instrucciones
A1: Cómo usar el calendario de preproducción
A3: 1. Preparación inicial
A4: 1. En Resumen, indica el proyecto, la fecha de seguimiento y la fecha prevista de rodaje.
A5: 2. Revisa las listas de fases y responsables en Listas.
A6: 3. Sustituye o elimina los ejemplos de Calendario antes de usar la plantilla en un proyecto real.
A8: 2. Registro de actividades
A9: 1. Introduce una actividad concreta por fila.
A10: 2. Asigna un ID con formato PRE-001.
A11: 3. Indica inicio, fin, estado, prioridad y avance.
A12: 4. Usa Depende de cuando una tarea no pueda comenzar o cerrarse hasta completar otra.
A13: 5. Añade un entregable verificable: informe de visita, selección aprobada, solicitud preparada o acta de reunión.
A15: 3. Interpretación del semáforo
... A34: Esta plantilla es una herramienta de planificación interna. No sustituye revisiones contractuales, jurídicas, laborales, administrativas, de prevención ni de permisos que puedan corresponder al proyecto.
