Workbook

Sheet Resumen
A1: Control de baterías y tarjetas de memoria
B2: Sesión analizada | J2: Estado | K2: Cantidad
B3: Carga mínima para estar preparada | C3: 80 | J3: Baterías preparadas | K3: =B21
B4: Espacio libre mínimo en tarjeta | C4: 20 | J4: Baterías por cargar | K4: =B22
B5: Días de aviso antes de una sesión | C5: 2 | J5: Tarjetas preparadas | K5: =B24
B6: Fecha de referencia | C6: =TODAY() | J6: Pendientes de descarga | K6: =B25
J7: Pendientes de borrado | K7: =B26
A8: Resumen de la sesión seleccionada
A9: Nombre de la sesión | B9: =IF($C$2="","",IF(COUNTIF(tblSesiones[ID de sesión],$C$2)=0,"Sesión no encontrada",IFERROR(_xlfn.XLOOKUP($C$2,tblSesiones[ID de sesión],tblSesiones[Sesión],""),"")))
A10: Fecha | B10: =IF($C$2="","",IFERROR(_xlfn.XLOOKUP($C$2,tblSesiones[ID de sesión],tblSesiones[Fecha],""),""))
A11: Estado | B11: =IF($C$2="","",IFERROR(_xlfn.XLOOKUP($C$2,tblSesiones[ID de sesión],tblSesiones[Estado],""),"")) | J11: Sesión | K11: GB usados
A12: Baterías asignadas | B12: =IF($C$2="","",COUNTIFS(tblControl[ID de sesión],$C$2,tblControl[Tipo],"Batería")) | J12: =IF(Sesiones!A2="","",Sesiones!A2) | K12: =IF(J12="","",SUMIFS(tblControl[GB usados],tblControl[ID de sesión],J12))
A13: Tarjetas asignadas | B13: =IF($C$2="","",COUNTIFS(tblControl[ID de sesión],$C$2,tblControl[Tipo],"Tarjeta")) | J13: =IF(Sesiones!A3="","",Sesiones!A3) | K13: =IF(J13="","",SUMIFS(tblControl[GB usados],tblControl[ID de sesión],J13))
A14: Baterías bajo el mínimo | B14: =IF($C$2="","",COUNTIFS(tblControl[ID de sesión],$C$2,tblControl[Tipo],"Batería",tblControl[Carga de salida (%)],"<"&$C$3)) | J14: =IF(Sesiones!A4="","",Sesiones!A4) | K14: =IF(J14="","",SUMIFS(tblControl[GB usados],tblControl[ID de sesión],J14))
A15: Tarjetas bajo el mínimo | B15: =IF($C$2="","",SUMPRODUCT((tblControl[ID de sesión]=$C$2)*(tblControl[Tipo]="Tarjeta")*(tblControl[Espacio libre de salida (GB)]<>"")*(IFERROR(tblControl[Espacio libre de salida (GB)]/IFERROR(_xlfn.XLOOKUP(tblControl[ID del soporte],tblInventario[ID del soporte],tblInventario[Capacidad de tarjeta (GB)],0),0),0)<$C$4/100))) | J15: =IF(Sesiones!A5="","",Sesiones!A5) | K15: =IF(J15="","",SUMIFS(tblControl[GB usados],tblControl[ID de sesión],J15))
A16: Registros pendientes de devolución | B16: =IF($C$2="","",COUNTIFS(tblControl[ID de sesión],$C$2,tblControl[Estado del control],"Abierto")) | J16: =IF(Sesiones!A6="","",Sesiones!A6) | K16: =IF(J16="","",SUMIFS(tblControl[GB usados],tblControl[ID de sesión],J16))
A17: Tarjetas pendientes de descarga o borrado | B17: =IF($C$2="","",COUNTIFS(tblControl[ID de sesión],$C$2,tblControl[Tipo],"Tarjeta",tblControl[Estado del control],"Pendiente")) | J17: =IF(Sesiones!A7="","",Sesiones!A7) | K17: =IF(J17="","",SUMIFS(tblControl[GB usados],tblControl[ID de sesión],J17))
J18: =IF(Sesiones!A8="","",Sesiones!A8) | K18: =IF(J18="","",SUMIFS(tblControl[GB usados],tblControl[ID de sesión],J18))
A19: Indicadores operativos | J19: =IF(Sesiones!A9="","",Sesiones!A9) | K19: =IF(J19="","",SUMIFS(tblControl[GB usados],tblControl[ID de sesión],J19))
A20: Baterías activas | B20: =COUNTIFS(tblInventario[Tipo],"Batería",tblInventario[Estado del soporte],"Activo") | C20: Unidades activas registradas | J20: =IF(Sesiones!A10="","",Sesiones!A10) | K20: =IF(J20="","",SUMIFS(tblControl[GB usados],tblControl[ID de sesión],J20))
A21: Baterías preparadas | B21: =COUNTIFS(tblInventario[Tipo],"Batería",tblInventario[Estado operativo],"Preparada") | C21: Con carga suficiente | J21: =IF(Sesiones!A11="","",Sesiones!A11) | K21: =IF(J21="","",SUMIFS(tblControl[GB usados],tblControl[ID de sesión],J21))
A22: Baterías por cargar | B22: =COUNTIFS(tblInventario[Tipo],"Batería",tblInventario[Estado operativo],"Cargar") | C22: Recargar antes de asignar | J22: =IF(Sesiones!A12="","",Sesiones!A12) | K22: =IF(J22="","",SUMIFS(tblControl[GB usados],tblControl[ID de sesión],J22))
A23: Tarjetas activas | B23: =COUNTIFS(tblInventario[Tipo],"Tarjeta",tblInventario[Estado del soporte],"Activo") | C23: Tarjetas disponibles en catálogo | J23: =IF(Sesiones!A13="","",Sesiones!A13) | K23: =IF(J23="","",SUMIFS(tblControl[GB usados],tblControl[ID de sesión],J23))
A24: Tarjetas preparadas | B24: =COUNTIFS(tblInventario[Tipo],"Tarjeta",tblInventario[Estado operativo],"Preparada") | C24: Descargadas, borradas y con espacio | J24: =IF(Sesiones!A14="","",Sesiones!A14) | K24: =IF(J24="","",SUMIFS(tblControl[GB usados],tblControl[ID de sesión],J24))
A25: Pendientes de descarga | B25: =COUNTIFS(tblInventario[Tipo],"Tarjeta",tblInventario[Estado operativo],"Pendiente de descarga") | C25: Comprobar copia antes de borrar | J25: =IF(Sesiones!A15="","",Sesiones!A15) | K25: =IF(J25="","",SUMIFS(tblControl[GB usados],tblControl[ID de sesión],J25))
A26: Pendientes de borrado | B26: =COUNTIFS(tblInventario[Tipo],"Tarjeta",tblInventario[Estado operativo],"Pendiente de borrado") | C26: Liberar después de verificar | J26: =IF(Sesiones!A16="","",Sesiones!A16) | K26: =IF(J26="","",SUMIFS(tblControl[GB usados],tblControl[ID de sesión],J26))
A27: Asignaciones abiertas | B27: =COUNTIFS(tblControl[ID de control],"<>",tblControl[Estado del control],"Abierto") | C27: Soportes sin devolución | J27: =IF(Sesiones!A17="","",Sesiones!A17) | K27: =IF(J27="","",SUMIFS(tblControl[GB usados],tblControl[ID de sesión],J27))
A28: Incidencias abiertas | B28: =COUNTIFS(tblControl[ID de control],"<>",tblControl[Incidencia],"<>",tblControl[Estado del control],"Abierto") | C28: Registros abiertos con incidencia | J28: =IF(Sesiones!A18="","",Sesiones!A18) | K28: =IF(J28="","",SUMIFS(tblControl[GB usados],tblControl[ID de sesión],J28))
A29: Sesiones próximas sin cerrar | B29: =COUNTIFS(tblSesiones[ID de sesión],"<>",tblSesiones[Estado],"<>Cerrada",tblSesiones[Estado],"<>Cancelada",tblSesiones[Fecha],">="&$C$6,tblSesiones[Fecha],"<="&$C$6+$C$5) | C29: Dentro del plazo de aviso | J29: =IF(Sesiones!A19="","",Sesiones!A19) | K29: =IF(J29="","",SUMIFS(tblControl[GB usados],tblControl[ID de sesión],J29))
J30: =IF(Sesiones!A20="","",Sesiones!A20) | K30: =IF(J30="","",SUMIFS(tblControl[GB usados],tblControl[ID de sesión],J30))
J31: =IF(Sesiones!A21="","",Sesiones!A21) | K31: =IF(J31="","",SUMIFS(tblControl[GB usados],tblControl[ID de sesión],J31))

Sheet Inventario
A1: ID del soporte | B1: Tipo | C1: Marca | D1: Modelo | E1: Código interno | F1: Capacidad de batería (mAh) | G1: Capacidad de tarjeta (GB) | H1: Clase o interfaz | I1: Estado del soporte | J1: Carga actual (%) | K1: Espacio libre actual (GB) | L1: Descarga verificada | M1: Borrado realizado | N1: Fecha de última revisión | O1: Asignación abierta | P1: Sesión actual | Q1: Espacio libre (%) | R1: Estado operativo | S1: Alerta | T1: Observaciones
A2: BAT-001 | B2: Batería | C2: Voltara | D2: VX-90 | E2: B-A1 | F2: 6200 | H2: NP-F | I2: Activo | J2: 95 | L2: No procede | M2: No procede | N2: 46272 | O2: =IF(A2="","",IF(COUNTIFS(tblControl[ID del soporte],A2,tblControl[Estado del control],"Abierto")>0,"Sí","No")) | P2: =IF(A2="","",IFERROR(_xlfn.XLOOKUP(1,(tblControl[ID del soporte]=A2)*(tblControl[Estado del control]="Abierto"),tblControl[ID de sesión],"",0,-1),"")) | Q2: =IF(A2="","",IF(B2<>"Tarjeta","",IFERROR(K2/G2,""))) | R2: =IF(A2="","",IF(I2<>"Activo","No disponible",IF(O2="Sí","Asignada",IF(B2="Batería",IF(J2="","Sin revisar",IF(J2<Resumen!$C$3,"Cargar","Preparada")),IF(B2="Tarjeta",IF(OR(G2="",K2=""),"Sin revisar",IF(L2="No","Pendiente de descarga",IF(M2="No","Pendiente de borrado",IF(Q2<Resumen!$C$4,"Liberar espacio","Preparada")))),"Revisar tipo"))))) | S2: =IF(A2="","",IF(I2<>"Activo","Soporte no disponible",IF(O2="Sí","Asignado a "&P2,IF(R2="Preparada","",IF(R2="Cargar","Recargar antes de asignar",IF(R2="Pendiente de descarga","Comprobar la descarga antes de borrar",IF(R2="Pendiente de borrado","Borrar después de verificar la descarga",IF(R2="Liberar espacio","Espacio libre inferior al mínimo","Completar la revisión")))))))) | T2: Unidad principal
A3: BAT-002 | B3: Batería | C3: Voltara | D3: VX-90 | E3: B-A2 | F3: 6200 | H3: NP-F | I3: Activo | J3: 58 | L3: No procede | M3: No procede | N3: 46271 | O3: =IF(A3="","",IF(COUNTIFS(tblControl[ID del soporte],A3,tblControl[Estado del control],"Abierto")>0,"Sí","No")) | P3: =IF(A3="","",IFERROR(_xlfn.XLOOKUP(1,(tblControl[ID del soporte]=A3)*(tblControl[Estado del control]="Abierto"),tblControl[ID de sesión],"",0,-1),"")) | Q3: =IF(A3="","",IF(B3<>"Tarjeta","",IFERROR(K3/G3,""))) | R3: =IF(A3="","",IF(I3<>"Activo","No disponible",IF(O3="Sí","Asignada",IF(B3="Batería",IF(J3="","Sin revisar",IF(J3<Resumen!$C$3,"Cargar","Preparada")),IF(B3="Tarjeta",IF(OR(G3="",K3=""),"Sin revisar",IF(L3="No","Pendiente de descarga",IF(M3="No","Pendiente de borrado",IF(Q3<Resumen!$C$4,"Liberar espacio","Preparada")))),"Revisar tipo"))))) | S3: =IF(A3="","",IF(I3<>"Activo","Soporte no disponible",IF(O3="Sí","Asignado a "&P3,IF(R3="Preparada","",IF(R3="Cargar","Recargar antes de asignar",IF(R3="Pendiente de descarga","Comprobar la descarga antes de borrar",IF(R3="Pendiente de borrado","Borrar después de verificar la descarga",IF(R3="Liberar espacio","Espacio libre inferior al mínimo","Completar la revisión")))))))) | T3: Revisar carga
A4: BAT-003 | B4: Batería | C4: Lumexa | D4: LP-24 | E4: B-B1 | F4: 2400 | H4: LP | I4: Activo | J4: 100 | L4: No procede | M4: No procede | N4: 46272 | O4: =IF(A4="","",IF(COUNTIFS(tblControl[ID del soporte],A4,tblControl[Estado del control],"Abierto")>0,"Sí","No")) | P4: =IF(A4="","",IFERROR(_xlfn.XLOOKUP(1,(tblControl[ID del soporte]=A4)*(tblControl[Estado del control]="Abierto"),tblControl[ID de sesión],"",0,-1),"")) | Q4: =IF(A4="","",IF(B4<>"Tarjeta","",IFERROR(K4/G4,""))) | R4: =IF(A4="","",IF(I4<>"Activo","No disponible",IF(O4="Sí","Asignada",IF(B4="Batería",IF(J4="","Sin revisar",IF(J4<Resumen!$C$3,"Cargar","Preparada")),IF(B4="Tarjeta",IF(OR(G4="",K4=""),"Sin revisar",IF(L4="No","Pendiente de descarga",IF(M4="No","Pendiente de borrado",IF(Q4<Resumen!$C$4,"Liberar espacio","Preparada")))),"Revisar tipo"))))) | S4: =IF(A4="","",IF(I4<>"Activo","Soporte no disponible",IF(O4="Sí","Asignado a "&P4,IF(R4="Preparada","",IF(R4="Cargar","Recargar antes de asignar",IF(R4="Pendiente de descarga","Comprobar la descarga antes de borrar",IF(R4="Pendiente de borrado","Borrar después de verificar la descarga",IF(R4="Liberar espacio","Espacio libre inferior al mínimo","Completar la revisión"))))))))
A5: BAT-004 | B5: Batería | C5: Cinevolt | D5: CV-150 | E5: B-C1 | F5: 10400 | H5: V-Mount | I5: En revisión | J5: 35 | L5: No procede | M5: No procede | N5: 46267 | O5: =IF(A5="","",IF(COUNTIFS(tblControl[ID del soporte],A5,tblControl[Estado del control],"Abierto")>0,"Sí","No")) | P5: =IF(A5="","",IFERROR(_xlfn.XLOOKUP(1,(tblControl[ID del soporte]=A5)*(tblControl[Estado del control]="Abierto"),tblControl[ID de sesión],"",0,-1),"")) | Q5: =IF(A5="","",IF(B5<>"Tarjeta","",IFERROR(K5/G5,""))) | R5: =IF(A5="","",IF(I5<>"Activo","No disponible",IF(O5="Sí","Asignada",IF(B5="Batería",IF(J5="","Sin revisar",IF(J5<Resumen!$C$3,"Cargar","Preparada")),IF(B5="Tarjeta",IF(OR(G5="",K5=""),"Sin revisar",IF(L5="No","Pendiente de descarga",IF(M5="No","Pendiente de borrado",IF(Q5<Resumen!$C$4,"Liberar espacio","Preparada")))),"Revisar tipo"))))) | S5: =IF(A5="","",IF(I5<>"Activo","Soporte no disponible",IF(O5="Sí","Asignado a "&P5,IF(R5="Preparada","",IF(R5="Cargar","Recargar antes de asignar",IF(R5="Pendiente de descarga","Comprobar la descarga antes de borrar",IF(R5="Pendiente de borrado","Borrar después de verificar la descarga",IF(R5="Liberar espacio","Espacio libre inferior al mínimo","Completar la revisión")))))))) | T5: Revisión operativa
A6: BAT-005 | B6: Batería | C6: Lumexa | D6: LP-24 | E6: B-B2 | F6: 2400 | H6: LP | I6: Activo | J6: 84 | L6: No procede | M6: No procede | N6: 46271 | O6: =IF(A6="","",IF(COUNTIFS(tblControl[ID del soporte],A6,tblControl[Estado del control],"Abierto")>0,"Sí","No")) | P6: =IF(A6="","",IFERROR(_xlfn.XLOOKUP(1,(tblControl[ID del soporte]=A6)*(tblControl[Estado del control]="Abierto"),tblControl[ID de sesión],"",0,-1),"")) | Q6: =IF(A6="","",IF(B6<>"Tarjeta","",IFERROR(K6/G6,""))) | R6: =IF(A6="","",IF(I6<>"Activo","No disponible",IF(O6="Sí","Asignada",IF(B6="Batería",IF(J6="","Sin revisar",IF(J6<Resumen!$C$3,"Cargar","Preparada")),IF(B6="Tarjeta",IF(OR(G6="",K6=""),"Sin revisar",IF(L6="No","Pendiente de descarga",IF(M6="No","Pendiente de borrado",IF(Q6<Resumen!$C$4,"Liberar espacio","Preparada")))),"Revisar tipo"))))) | S6: =IF(A6="","",IF(I6<>"Activo","Soporte no disponible",IF(O6="Sí","Asignado a "&P6,IF(R6="Preparada","",IF(R6="Cargar","Recargar antes de asignar",IF(R6="Pendiente de descarga","Comprobar la descarga antes de borrar",IF(R6="Pendiente de borrado","Borrar después de verificar la descarga",IF(R6="Liberar espacio","Espacio libre inferior al mínimo","Completar la revisión"))))))))
A7: TAR-001 | B7: Tarjeta | C7: MemoriaNova | D7: Atlas 128 | E7: T-A1 | G7: 128 | H7: SDXC V60 | I7: Activo | K7: 118 | L7: Sí | M7: Sí | N7: 46272 | O7: =IF(A7="","",IF(COUNTIFS(tblControl[ID del soporte],A7,tblControl[Estado del control],"Abierto")>0,"Sí","No")) | P7: =IF(A7="","",IFERROR(_xlfn.XLOOKUP(1,(tblControl[ID del soporte]=A7)*(tblControl[Estado del control]="Abierto"),tblControl[ID de sesión],"",0,-1),"")) | Q7: =IF(A7="","",IF(B7<>"Tarjeta","",IFERROR(K7/G7,""))) | R7: =IF(A7="","",IF(I7<>"Activo","No disponible",IF(O7="Sí","Asignada",IF(B7="Batería",IF(J7="","Sin revisar",IF(J7<Resumen!$C$3,"Cargar","Preparada")),IF(B7="Tarjeta",IF(OR(G7="",K7=""),"Sin revisar",IF(L7="No","Pendiente de descarga",IF(M7="No","Pendiente de borrado",IF(Q7<Resumen!$C$4,"Liberar espacio","Preparada")))),"Revisar tipo"))))) | S7: =IF(A7="","",IF(I7<>"Activo","Soporte no disponible",IF(O7="Sí","Asignado a "&P7,IF(R7="Preparada","",IF(R7="Cargar","Recargar antes de asignar",IF(R7="Pendiente de descarga","Comprobar la descarga antes de borrar",IF(R7="Pendiente de borrado","Borrar después de verificar la descarga",IF(R7="Liberar espacio","Espacio libre inferior al mínimo","Completar la revisión"))))))))
A8: TAR-002 | B8: Tarjeta | C8: MemoriaNova | D8: Atlas 128 | E8: T-A2 | G8: 128 | H8: SDXC V60 | I8: Activo | K8: 18 | L8: Sí | M8: No | N8: 46271 | O8: =IF(A8="","",IF(COUNTIFS(tblControl[ID del soporte],A8,tblControl[Estado del control],"Abierto")>0,"Sí","No")) | P8: =IF(A8="","",IFERROR(_xlfn.XLOOKUP(1,(tblControl[ID del soporte]=A8)*(tblControl[Estado del control]="Abierto"),tblControl[ID de sesión],"",0,-1),"")) | Q8: =IF(A8="","",IF(B8<>"Tarjeta","",IFERROR(K8/G8,""))) | R8: =IF(A8="","",IF(I8<>"Activo","No disponible",IF(O8="Sí","Asignada",IF(B8="Batería",IF(J8="","Sin revisar",IF(J8<Resumen!$C$3,"Cargar","Preparada")),IF(B8="Tarjeta",IF(OR(G8="",K8=""),"Sin revisar",IF(L8="No","Pendiente de descarga",IF(M8="No","Pendiente de borrado",IF(Q8<Resumen!$C$4,"Liberar espacio","Preparada")))),"Revisar tipo"))))) | S8: =IF(A8="","",IF(I8<>"Activo","Soporte no disponible",IF(O8="Sí","Asignado a "&P8,IF(R8="Preparada","",IF(R8="Cargar","Recargar antes de asignar",IF(R8="Pendiente de descarga","Comprobar la descarga antes de borrar",IF(R8="Pendiente de borrado","Borrar después de verificar la descarga",IF(R8="Liberar espacio","Espacio libre inferior al mínimo","Completar la revisión")))))))) | T8: Pendiente de liberar
A9: TAR-003 | B9: Tarjeta | C9: PixelByte | D9: Flux 256 | E9: T-B1 | G9: 256 | H9: CFexpress B | I9: Activo | K9: 214 | L9: Sí | M9: Sí | N9: 46272 | O9: =IF(A9="","",IF(COUNTIFS(tblControl[ID del soporte],A9,tblControl[Estado del control],"Abierto")>0,"Sí","No")) | P9: =IF(A9="","",IFERROR(_xlfn.XLOOKUP(1,(tblControl[ID del soporte]=A9)*(tblControl[Estado del control]="Abierto"),tblControl[ID de sesión],"",0,-1),"")) | Q9: =IF(A9="","",IF(B9<>"Tarjeta","",IFERROR(K9/G9,""))) | R9: =IF(A9="","",IF(I9<>"Activo","No disponible",IF(O9="Sí","Asignada",IF(B9="Batería",IF(J9="","Sin revisar",IF(J9<Resumen!$C$3,"Cargar","Preparada")),IF(B9="Tarjeta",IF(OR(G9="",K9=""),"Sin revisar",IF(L9="No","Pendiente de descarga",IF(M9="No","Pendiente de borrado",IF(Q9<Resumen!$C$4,"Liberar espacio","Preparada")))),"Revisar tipo"))))) | S9: =IF(A9="","",IF(I9<>"Activo","Soporte no disponible",IF(O9="Sí","Asignado a "&P9,IF(R9="Preparada","",IF(R9="Cargar","Recargar antes de asignar",IF(R9="Pendiente de descarga","Comprobar la descarga antes de borrar",IF(R9="Pendiente de borrado","Borrar después de verificar la descarga",IF(R9="Liberar espacio","Espacio libre inferior al mínimo","Completar la revisión"))))))))
A10: TAR-004 | B10: Tarjeta | C10: PixelByte | D10: Flux 256 | E10: T-B2 | G10: 256 | H10: CFexpress B | I10: Activo | K10: 42 | L10: No | M10: No | N10: 46270 | O10: =IF(A10="","",IF(COUNTIFS(tblControl[ID del soporte],A10,tblControl[Estado del control],"Abierto")>0,"Sí","No")) | P10: =IF(A10="","",IFERROR(_xlfn.XLOOKUP(1,(tblControl[ID del soporte]=A10)*(tblControl[Estado del control]="Abierto"),tblControl[ID de sesión],"",0,-1),"")) | Q10: =IF(A10="","",IF(B10<>"Tarjeta","",IFERROR(K10/G10,""))) | R10: =IF(A10="","",IF(I10<>"Activo","No disponible",IF(O10="Sí","Asignada",IF(B10="Batería",IF(J10="","Sin revisar",IF(J10<Resumen!$C$3,"Cargar","Preparada")),IF(B10="Tarjeta",IF(OR(G10="",K10=""),"Sin revisar",IF(L10="No","Pendiente de descarga",IF(M10="No","Pendiente de borrado",IF(Q10<Resumen!$C$4,"Liberar espacio","Preparada")))),"Revisar tipo"))))) | S10: =IF(A10="","",IF(I10<>"Activo","Soporte no disponible",IF(O10="Sí","Asignado a "&P10,IF(R10="Preparada","",IF(R10="Cargar","Recargar antes de asignar",IF(R10="Pendiente de descarga","Comprobar la descarga antes de borrar",IF(R10="Pendiente de borrado","Borrar después de verificar la descarga",IF(R10="Liberar espacio","Espacio libre inferior al mínimo","Completar la revisión")))))))) | T10: Descarga pendiente
A11: TAR-005 | B11: Tarjeta | C11: Datosfera | D11: Sprint 64 | E11: T-C1 | G11: 64 | H11: SDXC V30 | I11: Retirado | K11: 0 | L11: Sí | M11: Sí | N11: 46266 | O11: =IF(A11="","",IF(COUNTIFS(tblControl[ID del soporte],A11,tblControl[Estado del control],"Abierto")>0,"Sí","No")) | P11: =IF(A11="","",IFERROR(_xlfn.XLOOKUP(1,(tblControl[ID del soporte]=A11)*(tblControl[Estado del control]="Abierto"),tblControl[ID de sesión],"",0,-1),"")) | Q11: =IF(A11="","",IF(B11<>"Tarjeta","",IFERROR(K11/G11,""))) | R11: =IF(A11="","",IF(I11<>"Activo","No disponible",IF(O11="Sí","Asignada",IF(B11="Batería",IF(J11="","Sin revisar",IF(J11<Resumen!$C$3,"Cargar","Preparada")),IF(B11="Tarjeta",IF(OR(G11="",K11=""),"Sin revisar",IF(L11="No","Pendiente de descarga",IF(M11="No","Pendiente de borrado",IF(Q11<Resumen!$C$4,"Liberar espacio","Preparada")))),"Revisar tipo"))))) | S11: =IF(A11="","",IF(I11<>"Activo","Soporte no disponible",IF(O11="Sí","Asignado a "&P11,IF(R11="Preparada","",IF(R11="Cargar","Recargar antes de asignar",IF(R11="Pendiente de descarga","Comprobar la descarga antes de borrar",IF(R11="Pendiente de borrado","Borrar después de verificar la descarga",IF(R11="Liberar espacio","Espacio libre inferior al mínimo","Completar la revisión")))))))) | T11: Retirada del servicio
O12: =IF(A12="","",IF(COUNTIFS(tblControl[ID del soporte],A12,tblControl[Estado del control],"Abierto")>0,"Sí","No")) | P12: =IF(A12="","",IFERROR(_xlfn.XLOOKUP(1,(tblControl[ID del soporte]=A12)*(tblControl[Estado del control]="Abierto"),tblControl[ID de sesión],"",0,-1),"")) | Q12: =IF(A12="","",IF(B12<>"Tarjeta","",IFERROR(K12/G12,""))) | R12: =IF(A12="","",IF(I12<>"Activo","No disponible",IF(O12="Sí","Asignada",IF(B12="Batería",IF(J12="","Sin revisar",IF(J12<Resumen!$C$3,"Cargar","Preparada")),IF(B12="Tarjeta",IF(OR(G12="",K12=""),"Sin revisar",IF(L12="No","Pendiente de descarga",IF(M12="No","Pendiente de borrado",IF(Q12<Resumen!$C$4,"Liberar espacio","Preparada")))),"Revisar tipo"))))) | S12: =IF(A12="","",IF(I12<>"Activo","Soporte no disponible",IF(O12="Sí","Asignado a "&P12,IF(R12="Preparada","",IF(R12="Cargar","Recargar antes de asignar",IF(R12="Pendiente de descarga","Comprobar la descarga antes de borrar",IF(R12="Pendiente de borrado","Borrar después de verificar la descarga",IF(R12="Liberar espacio","Espacio libre inferior al mínimo","Completar la revisión"))))))))
O13: =IF(A13="","",IF(COUNTIFS(tblControl[ID del soporte],A13,tblControl[Estado del control],"Abierto")>0,"Sí","No")) | P13: =IF(A13="","",IFERROR(_xlfn.XLOOKUP(1,(tblControl[ID del soporte]=A13)*(tblControl[Estado del control]="Abierto"),tblControl[ID de sesión],"",0,-1),"")) | Q13: =IF(A13="","",IF(B13<>"Tarjeta","",IFERROR(K13/G13,""))) | R13: =IF(A13="","",IF(I13<>"Activo","No disponible",IF(O13="Sí","Asignada",IF(B13="Batería",IF(J13="","Sin revisar",IF(J13<Resumen!$C$3,"Cargar","Preparada")),IF(B13="Tarjeta",IF(OR(G13="",K13=""),"Sin revisar",IF(L13="No","Pendiente de descarga",IF(M13="No","Pendiente de borrado",IF(Q13<Resumen!$C$4,"Liberar espacio","Preparada")))),"Revisar tipo"))))) | S13: =IF(A13="","",IF(I13<>"Activo","Soporte no disponible",IF(O13="Sí","Asignado a "&P13,IF(R13="Preparada","",IF(R13="Cargar","Recargar antes de asignar",IF(R13="Pendiente de descarga","Comprobar la descarga antes de borrar",IF(R13="Pendiente de borrado","Borrar después de verificar la descarga",IF(R13="Liberar espacio","Espacio libre inferior al mínimo","Completar la revisión"))))))))
O14: =IF(A14="","",IF(COUNTIFS(tblControl[ID del soporte],A14,tblControl[Estado del control],"Abierto")>0,"Sí","No")) | P14: =IF(A14="","",IFERROR(_xlfn.XLOOKUP(1,(tblControl[ID del soporte]=A14)*(tblControl[Estado del control]="Abierto"),tblControl[ID de sesión],"",0,-1),"")) | Q14: =IF(A14="","",IF(B14<>"Tarjeta","",IFERROR(K14/G14,""))) | R14: =IF(A14="","",IF(I14<>"Activo","No disponible",IF(O14="Sí","Asignada",IF(B14="Batería",IF(J14="","Sin revisar",IF(J14<Resumen!$C$3,"Cargar","Preparada")),IF(B14="Tarjeta",IF(OR(G14="",K14=""),"Sin revisar",IF(L14="No","Pendiente de descarga",IF(M14="No","Pendiente de borrado",IF(Q14<Resumen!$C$4,"Liberar espacio","Preparada")))),"Revisar tipo"))))) | S14: =IF(A14="","",IF(I14<>"Activo","Soporte no disponible",IF(O14="Sí","Asignado a "&P14,IF(R14="Preparada","",IF(R14="Cargar","Recargar antes de asignar",IF(R14="Pendiente de descarga","Comprobar la descarga antes de borrar",IF(R14="Pendiente de borrado","Borrar después de verificar la descarga",IF(R14="Liberar espacio","Espacio libre inferior al mínimo","Completar la revisión"))))))))
O15: =IF(A15="","",IF(COUNTIFS(tblControl[ID del soporte],A15,tblControl[Estado del control],"Abierto")>0,"Sí","No")) | P15: =IF(A15="","",IFERROR(_xlfn.XLOOKUP(1,(tblControl[ID del soporte]=A15)*(tblControl[Estado del control]="Abierto"),tblControl[ID de sesión],"",0,-1),"")) | Q15: =IF(A15="","",IF(B15<>"Tarjeta","",IFERROR(K15/G15,""))) | R15: =IF(A15="","",IF(I15<>"Activo","No disponible",IF(O15="Sí","Asignada",IF(B15="Batería",IF(J15="","Sin revisar",IF(J15<Resumen!$C$3,"Cargar","Preparada")),IF(B15="Tarjeta",IF(OR(G15="",K15=""),"Sin revisar",IF(L15="No","Pendiente de descarga",IF(M15="No","Pendiente de borrado",IF(Q15<Resumen!$C$4,"Liberar espacio","Preparada")))),"Revisar tipo"))))) | S15: =IF(A15="","",IF(I15<>"Activo","Soporte no disponible",IF(O15="Sí","Asignado a "&P15,IF(R15="Preparada","",IF(R15="Cargar","Recargar antes de asignar",IF(R15="Pendiente de descarga","Comprobar la descarga antes de borrar",IF(R15="Pendiente de borrado","Borrar después de verificar la descarga",IF(R15="Liberar espacio","Espacio libre inferior al mínimo","Completar la revisión"))))))))
O16: =IF(A16="","",IF(COUNTIFS(tblControl[ID del soporte],A16,tblControl[Estado del control],"Abierto")>0,"Sí","No")) | P16: =IF(A16="","",IFERROR(_xlfn.XLOOKUP(1,(tblControl[ID del soporte]=A16)*(tblControl[Estado del control]="Abierto"),tblControl[ID de sesión],"",0,-1),"")) | Q16: =IF(A16="","",IF(B16<>"Tarjeta","",IFERROR(K16/G16,""))) | R16: =IF(A16="","",IF(I16<>"Activo","No disponible",IF(O16="Sí","Asignada",IF(B16="Batería",IF(J16="","Sin revisar",IF(J16<Resumen!$C$3,"Cargar","Preparada")),IF(B16="Tarjeta",IF(OR(G16="",K16=""),"Sin revisar",IF(L16="No","Pendiente de descarga",IF(M16="No","Pendiente de borrado",IF(Q16<Resumen!$C$4,"Liberar espacio","Preparada")))),"Revisar tipo"))))) | S16: =IF(A16="","",IF(I16<>"Activo","Soporte no disponible",IF(O16="Sí","Asignado a "&P16,IF(R16="Preparada","",IF(R16="Cargar","Recargar antes de asignar",IF(R16="Pendiente de descarga","Comprobar la descarga antes de borrar",IF(R16="Pendiente de borrado","Borrar después de verificar la descarga",IF(R16="Liberar espacio","Espacio libre inferior al mínimo","Completar la revisión"))))))))
O17: =IF(A17="","",IF(COUNTIFS(tblControl[ID del soporte],A17,tblControl[Estado del control],"Abierto")>0,"Sí","No")) | P17: =IF(A17="","",IFERROR(_xlfn.XLOOKUP(1,(tblControl[ID del soporte]=A17)*(tblControl[Estado del control]="Abierto"),tblControl[ID de sesión],"",0,-1),"")) | Q17: =IF(A17="","",IF(B17<>"Tarjeta","",IFERROR(K17/G17,""))) | R17: =IF(A17="","",IF(I17<>"Activo","No disponible",IF(O17="Sí","Asignada",IF(B17="Batería",IF(J17="","Sin revisar",IF(J17<Resumen!$C$3,"Cargar","Preparada")),IF(B17="Tarjeta",IF(OR(G17="",K17=""),"Sin revisar",IF(L17="No","Pendiente de descarga",IF(M17="No","Pendiente de borrado",IF(Q17<Resumen!$C$4,"Liberar espacio","Preparada")))),"Revisar tipo"))))) | S17: =IF(A17="","",IF(I17<>"Activo","Soporte no disponible",IF(O17="Sí","Asignado a "&P17,IF(R17="Preparada","",IF(R17="Cargar","Recargar antes de asignar",IF(R17="Pendiente de descarga","Comprobar la descarga antes de borrar",IF(R17="Pendiente de borrado","Borrar después de verificar la descarga",IF(R17="Liberar espacio","Espacio libre inferior al mínimo","Completar la revisión"))))))))
O18: =IF(A18="","",IF(COUNTIFS(tblControl[ID del soporte],A18,tblControl[Estado del control],"Abierto")>0,"Sí","No")) | P18: =IF(A18="","",IFERROR(_xlfn.XLOOKUP(1,(tblControl[ID del soporte]=A18)*(tblControl[Estado del control]="Abierto"),tblControl[ID de sesión],"",0,-1),"")) | Q18: =IF(A18="","",IF(B18<>"Tarjeta","",IFERROR(K18/G18,""))) | R18: =IF(A18="","",IF(I18<>"Activo","No disponible",IF(O18="Sí","Asignada",IF(B18="Batería",IF(J18="","Sin revisar",IF(J18<Resumen!$C$3,"Cargar","Preparada")),IF(B18="Tarjeta",IF(OR(G18="",K18=""),"Sin revisar",IF(L18="No","Pendiente de descarga",IF(M18="No","Pendiente de borrado",IF(Q18<Resumen!$C$4,"Liberar espacio","Preparada")))),"Revisar tipo"))))) | S18: =IF(A18="","",IF(I18<>"Activo","Soporte no disponible",IF(O18="Sí","Asignado a "&P18,IF(R18="Preparada","",IF(R18="Cargar","Recargar antes de asignar",IF(R18="Pendiente de descarga","Comprobar la descarga antes de borrar",IF(R18="Pendiente de borrado","Borrar después de verificar la descarga",IF(R18="Liberar espacio","Espacio libre inferior al mínimo","Completar la revisión"))))))))
O19: =IF(A19="","",IF(COUNTIFS(tblControl[ID del soporte],A19,tblControl[Estado del control],"Abierto")>0,"Sí","No")) | P19: =IF(A19="","",IFERROR(_xlfn.XLOOKUP(1,(tblControl[ID del soporte]=A19)*(tblControl[Estado del control]="Abierto"),tblControl[ID de sesión],"",0,-1),"")) | Q19: =IF(A19="","",IF(B19<>"Tarjeta","",IFERROR(K19/G19,""))) | R19: =IF(A19="","",IF(I19<>"Activo","No disponible",IF(O19="Sí","Asignada",IF(B19="Batería",IF(J19="","Sin revisar",IF(J19<Resumen!$C$3,"Cargar","Preparada")),IF(B19="Tarjeta",IF(OR(G19="",K19=""),"Sin revisar",IF(L19="No","Pendiente de descarga",IF(M19="No","Pendiente de borrado",IF(Q19<Resumen!$C$4,"Liberar espacio","Preparada")))),"Revisar tipo"))))) | S19: =IF(A19="","",IF(I19<>"Activo","Soporte no disponible",IF(O19="Sí","Asignado a "&P19,IF(R19="Preparada","",IF(R19="Cargar","Recargar antes de asignar",IF(R19="Pendiente de descarga","Comprobar la descarga antes de borrar",IF(R19="Pendiente de borrado","Borrar después de verificar la descarga",IF(R19="Liberar espacio","Espacio libre inferior al mínimo","Completar la revisión"))))))))
O20: =IF(A20="","",IF(COUNTIFS(tblControl[ID del soporte],A20,tblControl[Estado del control],"Abierto")>0,"Sí","No")) | P20: =IF(A20="","",IFERROR(_xlfn.XLOOKUP(1,(tblControl[ID del soporte]=A20)*(tblControl[Estado del control]="Abierto"),tblControl[ID de sesión],"",0,-1),"")) | Q20: =IF(A20="","",IF(B20<>"Tarjeta","",IFERROR(K20/G20,""))) | R20: =IF(A20="","",IF(I20<>"Activo","No disponible",IF(O20="Sí","Asignada",IF(B20="Batería",IF(J20="","Sin revisar",IF(J20<Resumen!$C$3,"Cargar","Preparada")),IF(B20="Tarjeta",IF(OR(G20="",K20=""),"Sin revisar",IF(L20="No","Pendiente de descarga",IF(M20="No","Pendiente de borrado",IF(Q20<Resumen!$C$4,"Liberar espacio","Preparada")))),"Revisar tipo"))))) | S20: =IF(A20="","",IF(I20<>"Activo","Soporte no disponible",IF(O20="Sí","Asignado a "&P20,IF(R20="Preparada","",IF(R20="Cargar","Recargar antes de asignar",IF(R20="Pendiente de descarga","Comprobar la descarga antes de borrar",IF(R20="Pendiente de borrado","Borrar después de verificar la descarga",IF(R20="Liberar espacio","Espacio libre inferior al mínimo","Completar la revisión"))))))))
O21: =IF(A21="","",IF(COUNTIFS(tblControl[ID del soporte],A21,tblControl[Estado del control],"Abierto")>0,"Sí","No")) | P21: =IF(A21="","",IFERROR(_xlfn.XLOOKUP(1,(tblControl[ID del soporte]=A21)*(tblControl[Estado del control]="Abierto"),tblControl[ID de sesión],"",0,-1),"")) | Q21: =IF(A21="","",IF(B21<>"Tarjeta","",IFERROR(K21/G21,""))) | R21: =IF(A21="","",IF(I21<>"Activo","No disponible",IF(O21="Sí","Asignada",IF(B21="Batería",IF(J21="","Sin revisar",IF(J21<Resumen!$C$3,"Cargar","Preparada")),IF(B21="Tarjeta",IF(OR(G21="",K21=""),"Sin revisar",IF(L21="No","Pendiente de descarga",IF(M21="No","Pendiente de borrado",IF(Q21<Resumen!$C$4,"Liberar espacio","Preparada")))),"Revisar tipo"))))) | S21: =IF(A21="","",IF(I21<>"Activo","Soporte no disponible",IF(O21="Sí","Asignado a "&P21,IF(R21="Preparada","",IF(R21="Cargar","Recargar antes de asignar",IF(R21="Pendiente de descarga","Comprobar la descarga antes de borrar",IF(R21="Pendiente de borrado","Borrar después de verificar la descarga",IF(R21="Liberar espacio","Espacio libre inferior al mínimo","Completar la revisión"))))))))
O22: =IF(A22="","",IF(COUNTIFS(tblControl[ID del soporte],A22,tblControl[Estado del control],"Abierto")>0,"Sí","No")) | P22: =IF(A22="","",IFERROR(_xlfn.XLOOKUP(1,(tblControl[ID del soporte]=A22)*(tblControl[Estado del control]="Abierto"),tblControl[ID de sesión],"",0,-1),"")) | Q22: =IF(A22="","",IF(B22<>"Tarjeta","",IFERROR(K22/G22,""))) | R22: =IF(A22="","",IF(I22<>"Activo","No disponible",IF(O22="Sí","Asignada",IF(B22="Batería",IF(J22="","Sin revisar",IF(J22<Resumen!$C$3,"Cargar","Preparada")),IF(B22="Tarjeta",IF(OR(G22="",K22=""),"Sin revisar",IF(L22="No","Pendiente de descarga",IF(M22="No","Pendiente de borrado",IF(Q22<Resumen!$C$4,"Liberar espacio","Preparada")))),"Revisar tipo"))))) | S22: =IF(A22="","",IF(I22<>"Activo","Soporte no disponible",IF(O22="Sí","Asignado a "&P22,IF(R22="Preparada","",IF(R22="Cargar","Recargar antes de asignar",IF(R22="Pendiente de descarga","Comprobar la descarga antes de borrar",IF(R22="Pendiente de borrado","Borrar después de verificar la descarga",IF(R22="Liberar espacio","Espacio libre inferior al mínimo","Completar la revisión"))))))))
O23: =IF(A23="","",IF(COUNTIFS(tblControl[ID del soporte],A23,tblControl[Estado del control],"Abierto")>0,"Sí","No")) | P23: =IF(A23="","",IFERROR(_xlfn.XLOOKUP(1,(tblControl[ID del soporte]=A23)*(tblControl[Estado del control]="Abierto"),tblControl[ID de sesión],"",0,-1),"")) | Q23: =IF(A23="","",IF(B23<>"Tarjeta","",IFERROR(K23/G23,""))) | R23: =IF(A23="","",IF(I23<>"Activo","No disponible",IF(O23="Sí","Asignada",IF(B23="Batería",IF(J23="","Sin revisar",IF(J23<Resumen!$C$3,"Cargar","Preparada")),IF(B23="Tarjeta",IF(OR(G23="",K23=""),"Sin revisar",IF(L23="No","Pendiente de descarga",IF(M23="No","Pendiente de borrado",IF(Q23<Resumen!$C$4,"Liberar espacio","Preparada")))),"Revisar tipo"))))) | S23: =IF(A23="","",IF(I23<>"Activo","Soporte no disponible",IF(O23="Sí","Asignado a "&P23,IF(R23="Preparada","",IF(R23="Cargar","Recargar antes de asignar",IF(R23="Pendiente de descarga","Comprobar la descarga antes de borrar",IF(R23="Pendiente de borrado","Borrar después de verificar la descarga",IF(R23="Liberar espacio","Espacio libre inferior al mínimo","Completar la revisión"))))))))
... O151: =IF(A151="","",IF(COUNTIFS(tblControl[ID del soporte],A151,tblControl[Estado del control],"Abierto")>0,"Sí","No")) | P151: =IF(A151="","",IFERROR(_xlfn.XLOOKUP(1,(tblControl[ID del soporte]=A151)*(tblControl[Estado del control]="Abierto"),tblControl[ID de sesión],"",0,-1),"")) | Q151: =IF(A151="","",IF(B151<>"Tarjeta","",IFERROR(K151/G151,""))) | R151: =IF(A151="","",IF(I151<>"Activo","No disponible",IF(O151="Sí","Asignada",IF(B151="Batería",IF(J151="","Sin revisar",IF(J151<Resumen!$C$3,"Cargar","Preparada")),IF(B151="Tarjeta",IF(OR(G151="",K151=""),"Sin revisar",IF(L151="No","Pendiente de descarga",IF(M151="No","Pendiente de borrado",IF(Q151<Resumen!$C$4,"Liberar espacio","Preparada")))),"Revisar tipo"))))) | S151: =IF(A151="","",IF(I151<>"Activo","Soporte no disponible",IF(O151="Sí","Asignado a "&P151,IF(R151="Preparada","",IF(R151="Cargar","Recargar antes de asignar",IF(R151="Pendiente de descarga","Comprobar la descarga antes de borrar",IF(R151="Pendiente de borrado","Borrar después de verificar la descarga",IF(R151="Liberar espacio","Espacio libre inferior al mínimo","Completar la revisión"))))))))

Sheet Sesiones
A1: ID de sesión | B1: Sesión | C1: Empresa o proyecto | D1: Fecha | E1: Tipo de trabajo | F1: Equipo principal | G1: Responsable | H1: Estado | I1: Baterías asignadas | J1: Tarjetas asignadas | K1: Controles abiertos | L1: GB registrados | M1: Alerta | N1: Observaciones
A2: SES-260901 | B2: Retratos Bruma | C2: Estudio Nube Clara | D2: 46266 | E2: Fotografía | F2: Cámara Alfa | G2: Equipo A | H2: Cerrada | I2: =IF(A2="","",COUNTIFS(tblControl[ID de sesión],A2,tblControl[Tipo],"Batería")) | J2: =IF(A2="","",COUNTIFS(tblControl[ID de sesión],A2,tblControl[Tipo],"Tarjeta")) | K2: =IF(A2="","",COUNTIFS(tblControl[ID de sesión],A2,tblControl[Estado del control],"Abierto")) | L2: =IF(A2="","",SUMIFS(tblControl[GB usados],tblControl[ID de sesión],A2)) | M2: =IF(A2="","",IF(AND(D2<Resumen!$C$6,H2<>"Cerrada",H2<>"Cancelada"),"Sesión pasada sin cerrar",IF(AND(D2>=Resumen!$C$6,D2<=Resumen!$C$6+Resumen!$C$5,H2<>"Cerrada",OR(I2=0,J2=0)),"Revisar asignación",IF(AND(H2="Cerrada",K2>0),"Hay soportes sin devolver","")))) | N2: Sesión completada
A3: SES-260905 | B3: Producto Órbita | C3: Taller Prisma Ficticio | D3: 46270 | E3: Híbrido | F3: Cámara Beta | G3: Equipo B | H3: Finalizada | I3: =IF(A3="","",COUNTIFS(tblControl[ID de sesión],A3,tblControl[Tipo],"Batería")) | J3: =IF(A3="","",COUNTIFS(tblControl[ID de sesión],A3,tblControl[Tipo],"Tarjeta")) | K3: =IF(A3="","",COUNTIFS(tblControl[ID de sesión],A3,tblControl[Estado del control],"Abierto")) | L3: =IF(A3="","",SUMIFS(tblControl[GB usados],tblControl[ID de sesión],A3)) | M3: =IF(A3="","",IF(AND(D3<Resumen!$C$6,H3<>"Cerrada",H3<>"Cancelada"),"Sesión pasada sin cerrar",IF(AND(D3>=Resumen!$C$6,D3<=Resumen!$C$6+Resumen!$C$5,H3<>"Cerrada",OR(I3=0,J3=0)),"Revisar asignación",IF(AND(H3="Cerrada",K3>0),"Hay soportes sin devolver","")))) | N3: Pendiente de cerrar
A4: SES-260909 | B4: Rodaje Horizonte | C4: Producciones Faro Azul | D4: 46274 | E4: Vídeo | F4: Cámara Gamma | G4: Equipo A | H4: Planificada | I4: =IF(A4="","",COUNTIFS(tblControl[ID de sesión],A4,tblControl[Tipo],"Batería")) | J4: =IF(A4="","",COUNTIFS(tblControl[ID de sesión],A4,tblControl[Tipo],"Tarjeta")) | K4: =IF(A4="","",COUNTIFS(tblControl[ID de sesión],A4,tblControl[Estado del control],"Abierto")) | L4: =IF(A4="","",SUMIFS(tblControl[GB usados],tblControl[ID de sesión],A4)) | M4: =IF(A4="","",IF(AND(D4<Resumen!$C$6,H4<>"Cerrada",H4<>"Cancelada"),"Sesión pasada sin cerrar",IF(AND(D4>=Resumen!$C$6,D4<=Resumen!$C$6+Resumen!$C$5,H4<>"Cerrada",OR(I4=0,J4=0)),"Revisar asignación",IF(AND(H4="Cerrada",K4>0),"Hay soportes sin devolver",""))))
A5: SES-260910 | B5: Ensayo Lumen | C5: Proyecto Lumen Norte | D5: 46275 | E5: Prueba técnica | F5: Cámara Delta | G5: Equipo técnico | H5: Planificada | I5: =IF(A5="","",COUNTIFS(tblControl[ID de sesión],A5,tblControl[Tipo],"Batería")) | J5: =IF(A5="","",COUNTIFS(tblControl[ID de sesión],A5,tblControl[Tipo],"Tarjeta")) | K5: =IF(A5="","",COUNTIFS(tblControl[ID de sesión],A5,tblControl[Estado del control],"Abierto")) | L5: =IF(A5="","",SUMIFS(tblControl[GB usados],tblControl[ID de sesión],A5)) | M5: =IF(A5="","",IF(AND(D5<Resumen!$C$6,H5<>"Cerrada",H5<>"Cancelada"),"Sesión pasada sin cerrar",IF(AND(D5>=Resumen!$C$6,D5<=Resumen!$C$6+Resumen!$C$5,H5<>"Cerrada",OR(I5=0,J5=0)),"Revisar asignación",IF(AND(H5="Cerrada",K5>0),"Hay soportes sin devolver",""))))
A6: SES-260914 | B6: Editorial Neblina | C6: Archivo Violeta Ficticio | D6: 46279 | E6: Fotografía | F6: Cámara Épsilon | G6: Equipo C | H6: Planificada | I6: =IF(A6="","",COUNTIFS(tblControl[ID de sesión],A6,tblControl[Tipo],"Batería")) | J6: =IF(A6="","",COUNTIFS(tblControl[ID de sesión],A6,tblControl[Tipo],"Tarjeta")) | K6: =IF(A6="","",COUNTIFS(tblControl[ID de sesión],A6,tblControl[Estado del control],"Abierto")) | L6: =IF(A6="","",SUMIFS(tblControl[GB usados],tblControl[ID de sesión],A6)) | M6: =IF(A6="","",IF(AND(D6<Resumen!$C$6,H6<>"Cerrada",H6<>"Cancelada"),"Sesión pasada sin cerrar",IF(AND(D6>=Resumen!$C$6,D6<=Resumen!$C$6+Resumen!$C$5,H6<>"Cerrada",OR(I6=0,J6=0)),"Revisar asignación",IF(AND(H6="Cerrada",K6>0),"Hay soportes sin devolver","")))) | N6: Prueba de iluminación
A7: SES-260918 | B7: Pieza Cenit | C7: Colectivo Cenit Imaginario | D7: 46283 | E7: Vídeo | F7: Cámara Gamma | G7: Equipo B | H7: Planificada | I7: =IF(A7="","",COUNTIFS(tblControl[ID de sesión],A7,tblControl[Tipo],"Batería")) | J7: =IF(A7="","",COUNTIFS(tblControl[ID de sesión],A7,tblControl[Tipo],"Tarjeta")) | K7: =IF(A7="","",COUNTIFS(tblControl[ID de sesión],A7,tblControl[Estado del control],"Abierto")) | L7: =IF(A7="","",SUMIFS(tblControl[GB usados],tblControl[ID de sesión],A7)) | M7: =IF(A7="","",IF(AND(D7<Resumen!$C$6,H7<>"Cerrada",H7<>"Cancelada"),"Sesión pasada sin cerrar",IF(AND(D7>=Resumen!$C$6,D7<=Resumen!$C$6+Resumen!$C$5,H7<>"Cerrada",OR(I7=0,J7=0)),"Revisar asignación",IF(AND(H7="Cerrada",K7>0),"Hay soportes sin devolver",""))))
A8: SES-260922 | B8: Prueba Aurora | C8: Laboratorio Aurora Ficticio | D8: 46287 | E8: Prueba técnica | F8: Cámara Delta | G8: Equipo técnico | H8: Planificada | I8: =IF(A8="","",COUNTIFS(tblControl[ID de sesión],A8,tblControl[Tipo],"Batería")) | J8: =IF(A8="","",COUNTIFS(tblControl[ID de sesión],A8,tblControl[Tipo],"Tarjeta")) | K8: =IF(A8="","",COUNTIFS(tblControl[ID de sesión],A8,tblControl[Estado del control],"Abierto")) | L8: =IF(A8="","",SUMIFS(tblControl[GB usados],tblControl[ID de sesión],A8)) | M8: =IF(A8="","",IF(AND(D8<Resumen!$C$6,H8<>"Cerrada",H8<>"Cancelada"),"Sesión pasada sin cerrar",IF(AND(D8>=Resumen!$C$6,D8<=Resumen!$C$6+Resumen!$C$5,H8<>"Cerrada",OR(I8=0,J8=0)),"Revisar asignación",IF(AND(H8="Cerrada",K8>0),"Hay soportes sin devolver","")))) | N8: Comprobar soportes
A9: SES-260928 | B9: Campaña Espejo | C9: Proyecto Espejo Sur | D9: 46293 | E9: Híbrido | F9: Cámara Beta | G9: Equipo C | H9: Planificada | I9: =IF(A9="","",COUNTIFS(tblControl[ID de sesión],A9,tblControl[Tipo],"Batería")) | J9: =IF(A9="","",COUNTIFS(tblControl[ID de sesión],A9,tblControl[Tipo],"Tarjeta")) | K9: =IF(A9="","",COUNTIFS(tblControl[ID de sesión],A9,tblControl[Estado del control],"Abierto")) | L9: =IF(A9="","",SUMIFS(tblControl[GB usados],tblControl[ID de sesión],A9)) | M9: =IF(A9="","",IF(AND(D9<Resumen!$C$6,H9<>"Cerrada",H9<>"Cancelada"),"Sesión pasada sin cerrar",IF(AND(D9>=Resumen!$C$6,D9<=Resumen!$C$6+Resumen!$C$5,H9<>"Cerrada",OR(I9=0,J9=0)),"Revisar asignación",IF(AND(H9="Cerrada",K9>0),"Hay soportes sin devolver",""))))
I10: =IF(A10="","",COUNTIFS(tblControl[ID de sesión],A10,tblControl[Tipo],"Batería")) | J10: =IF(A10="","",COUNTIFS(tblControl[ID de sesión],A10,tblControl[Tipo],"Tarjeta")) | K10: =IF(A10="","",COUNTIFS(tblControl[ID de sesión],A10,tblControl[Estado del control],"Abierto")) | L10: =IF(A10="","",SUMIFS(tblControl[GB usados],tblControl[ID de sesión],A10)) | M10: =IF(A10="","",IF(AND(D10<Resumen!$C$6,H10<>"Cerrada",H10<>"Cancelada"),"Sesión pasada sin cerrar",IF(AND(D10>=Resumen!$C$6,D10<=Resumen!$C$6+Resumen!$C$5,H10<>"Cerrada",OR(I10=0,J10=0)),"Revisar asignación",IF(AND(H10="Cerrada",K10>0),"Hay soportes sin devolver",""))))
I11: =IF(A11="","",COUNTIFS(tblControl[ID de sesión],A11,tblControl[Tipo],"Batería")) | J11: =IF(A11="","",COUNTIFS(tblControl[ID de sesión],A11,tblControl[Tipo],"Tarjeta")) | K11: =IF(A11="","",COUNTIFS(tblControl[ID de sesión],A11,tblControl[Estado del control],"Abierto")) | L11: =IF(A11="","",SUMIFS(tblControl[GB usados],tblControl[ID de sesión],A11)) | M11: =IF(A11="","",IF(AND(D11<Resumen!$C$6,H11<>"Cerrada",H11<>"Cancelada"),"Sesión pasada sin cerrar",IF(AND(D11>=Resumen!$C$6,D11<=Resumen!$C$6+Resumen!$C$5,H11<>"Cerrada",OR(I11=0,J11=0)),"Revisar asignación",IF(AND(H11="Cerrada",K11>0),"Hay soportes sin devolver",""))))
I12: =IF(A12="","",COUNTIFS(tblControl[ID de sesión],A12,tblControl[Tipo],"Batería")) | J12: =IF(A12="","",COUNTIFS(tblControl[ID de sesión],A12,tblControl[Tipo],"Tarjeta")) | K12: =IF(A12="","",COUNTIFS(tblControl[ID de sesión],A12,tblControl[Estado del control],"Abierto")) | L12: =IF(A12="","",SUMIFS(tblControl[GB usados],tblControl[ID de sesión],A12)) | M12: =IF(A12="","",IF(AND(D12<Resumen!$C$6,H12<>"Cerrada",H12<>"Cancelada"),"Sesión pasada sin cerrar",IF(AND(D12>=Resumen!$C$6,D12<=Resumen!$C$6+Resumen!$C$5,H12<>"Cerrada",OR(I12=0,J12=0)),"Revisar asignación",IF(AND(H12="Cerrada",K12>0),"Hay soportes sin devolver",""))))
I13: =IF(A13="","",COUNTIFS(tblControl[ID de sesión],A13,tblControl[Tipo],"Batería")) | J13: =IF(A13="","",COUNTIFS(tblControl[ID de sesión],A13,tblControl[Tipo],"Tarjeta")) | K13: =IF(A13="","",COUNTIFS(tblControl[ID de sesión],A13,tblControl[Estado del control],"Abierto")) | L13: =IF(A13="","",SUMIFS(tblControl[GB usados],tblControl[ID de sesión],A13)) | M13: =IF(A13="","",IF(AND(D13<Resumen!$C$6,H13<>"Cerrada",H13<>"Cancelada"),"Sesión pasada sin cerrar",IF(AND(D13>=Resumen!$C$6,D13<=Resumen!$C$6+Resumen!$C$5,H13<>"Cerrada",OR(I13=0,J13=0)),"Revisar asignación",IF(AND(H13="Cerrada",K13>0),"Hay soportes sin devolver",""))))
I14: =IF(A14="","",COUNTIFS(tblControl[ID de sesión],A14,tblControl[Tipo],"Batería")) | J14: =IF(A14="","",COUNTIFS(tblControl[ID de sesión],A14,tblControl[Tipo],"Tarjeta")) | K14: =IF(A14="","",COUNTIFS(tblControl[ID de sesión],A14,tblControl[Estado del control],"Abierto")) | L14: =IF(A14="","",SUMIFS(tblControl[GB usados],tblControl[ID de sesión],A14)) | M14: =IF(A14="","",IF(AND(D14<Resumen!$C$6,H14<>"Cerrada",H14<>"Cancelada"),"Sesión pasada sin cerrar",IF(AND(D14>=Resumen!$C$6,D14<=Resumen!$C$6+Resumen!$C$5,H14<>"Cerrada",OR(I14=0,J14=0)),"Revisar asignación",IF(AND(H14="Cerrada",K14>0),"Hay soportes sin devolver",""))))
I15: =IF(A15="","",COUNTIFS(tblControl[ID de sesión],A15,tblControl[Tipo],"Batería")) | J15: =IF(A15="","",COUNTIFS(tblControl[ID de sesión],A15,tblControl[Tipo],"Tarjeta")) | K15: =IF(A15="","",COUNTIFS(tblControl[ID de sesión],A15,tblControl[Estado del control],"Abierto")) | L15: =IF(A15="","",SUMIFS(tblControl[GB usados],tblControl[ID de sesión],A15)) | M15: =IF(A15="","",IF(AND(D15<Resumen!$C$6,H15<>"Cerrada",H15<>"Cancelada"),"Sesión pasada sin cerrar",IF(AND(D15>=Resumen!$C$6,D15<=Resumen!$C$6+Resumen!$C$5,H15<>"Cerrada",OR(I15=0,J15=0)),"Revisar asignación",IF(AND(H15="Cerrada",K15>0),"Hay soportes sin devolver",""))))
I16: =IF(A16="","",COUNTIFS(tblControl[ID de sesión],A16,tblControl[Tipo],"Batería")) | J16: =IF(A16="","",COUNTIFS(tblControl[ID de sesión],A16,tblControl[Tipo],"Tarjeta")) | K16: =IF(A16="","",COUNTIFS(tblControl[ID de sesión],A16,tblControl[Estado del control],"Abierto")) | L16: =IF(A16="","",SUMIFS(tblControl[GB usados],tblControl[ID de sesión],A16)) | M16: =IF(A16="","",IF(AND(D16<Resumen!$C$6,H16<>"Cerrada",H16<>"Cancelada"),"Sesión pasada sin cerrar",IF(AND(D16>=Resumen!$C$6,D16<=Resumen!$C$6+Resumen!$C$5,H16<>"Cerrada",OR(I16=0,J16=0)),"Revisar asignación",IF(AND(H16="Cerrada",K16>0),"Hay soportes sin devolver",""))))
I17: =IF(A17="","",COUNTIFS(tblControl[ID de sesión],A17,tblControl[Tipo],"Batería")) | J17: =IF(A17="","",COUNTIFS(tblControl[ID de sesión],A17,tblControl[Tipo],"Tarjeta")) | K17: =IF(A17="","",COUNTIFS(tblControl[ID de sesión],A17,tblControl[Estado del control],"Abierto")) | L17: =IF(A17="","",SUMIFS(tblControl[GB usados],tblControl[ID de sesión],A17)) | M17: =IF(A17="","",IF(AND(D17<Resumen!$C$6,H17<>"Cerrada",H17<>"Cancelada"),"Sesión pasada sin cerrar",IF(AND(D17>=Resumen!$C$6,D17<=Resumen!$C$6+Resumen!$C$5,H17<>"Cerrada",OR(I17=0,J17=0)),"Revisar asignación",IF(AND(H17="Cerrada",K17>0),"Hay soportes sin devolver",""))))
I18: =IF(A18="","",COUNTIFS(tblControl[ID de sesión],A18,tblControl[Tipo],"Batería")) | J18: =IF(A18="","",COUNTIFS(tblControl[ID de sesión],A18,tblControl[Tipo],"Tarjeta")) | K18: =IF(A18="","",COUNTIFS(tblControl[ID de sesión],A18,tblControl[Estado del control],"Abierto")) | L18: =IF(A18="","",SUMIFS(tblControl[GB usados],tblControl[ID de sesión],A18)) | M18: =IF(A18="","",IF(AND(D18<Resumen!$C$6,H18<>"Cerrada",H18<>"Cancelada"),"Sesión pasada sin cerrar",IF(AND(D18>=Resumen!$C$6,D18<=Resumen!$C$6+Resumen!$C$5,H18<>"Cerrada",OR(I18=0,J18=0)),"Revisar asignación",IF(AND(H18="Cerrada",K18>0),"Hay soportes sin devolver",""))))
I19: =IF(A19="","",COUNTIFS(tblControl[ID de sesión],A19,tblControl[Tipo],"Batería")) | J19: =IF(A19="","",COUNTIFS(tblControl[ID de sesión],A19,tblControl[Tipo],"Tarjeta")) | K19: =IF(A19="","",COUNTIFS(tblControl[ID de sesión],A19,tblControl[Estado del control],"Abierto")) | L19: =IF(A19="","",SUMIFS(tblControl[GB usados],tblControl[ID de sesión],A19)) | M19: =IF(A19="","",IF(AND(D19<Resumen!$C$6,H19<>"Cerrada",H19<>"Cancelada"),"Sesión pasada sin cerrar",IF(AND(D19>=Resumen!$C$6,D19<=Resumen!$C$6+Resumen!$C$5,H19<>"Cerrada",OR(I19=0,J19=0)),"Revisar asignación",IF(AND(H19="Cerrada",K19>0),"Hay soportes sin devolver",""))))
I20: =IF(A20="","",COUNTIFS(tblControl[ID de sesión],A20,tblControl[Tipo],"Batería")) | J20: =IF(A20="","",COUNTIFS(tblControl[ID de sesión],A20,tblControl[Tipo],"Tarjeta")) | K20: =IF(A20="","",COUNTIFS(tblControl[ID de sesión],A20,tblControl[Estado del control],"Abierto")) | L20: =IF(A20="","",SUMIFS(tblControl[GB usados],tblControl[ID de sesión],A20)) | M20: =IF(A20="","",IF(AND(D20<Resumen!$C$6,H20<>"Cerrada",H20<>"Cancelada"),"Sesión pasada sin cerrar",IF(AND(D20>=Resumen!$C$6,D20<=Resumen!$C$6+Resumen!$C$5,H20<>"Cerrada",OR(I20=0,J20=0)),"Revisar asignación",IF(AND(H20="Cerrada",K20>0),"Hay soportes sin devolver",""))))
I21: =IF(A21="","",COUNTIFS(tblControl[ID de sesión],A21,tblControl[Tipo],"Batería")) | J21: =IF(A21="","",COUNTIFS(tblControl[ID de sesión],A21,tblControl[Tipo],"Tarjeta")) | K21: =IF(A21="","",COUNTIFS(tblControl[ID de sesión],A21,tblControl[Estado del control],"Abierto")) | L21: =IF(A21="","",SUMIFS(tblControl[GB usados],tblControl[ID de sesión],A21)) | M21: =IF(A21="","",IF(AND(D21<Resumen!$C$6,H21<>"Cerrada",H21<>"Cancelada"),"Sesión pasada sin cerrar",IF(AND(D21>=Resumen!$C$6,D21<=Resumen!$C$6+Resumen!$C$5,H21<>"Cerrada",OR(I21=0,J21=0)),"Revisar asignación",IF(AND(H21="Cerrada",K21>0),"Hay soportes sin devolver",""))))
... I101: =IF(A101="","",COUNTIFS(tblControl[ID de sesión],A101,tblControl[Tipo],"Batería")) | J101: =IF(A101="","",COUNTIFS(tblControl[ID de sesión],A101,tblControl[Tipo],"Tarjeta")) | K101: =IF(A101="","",COUNTIFS(tblControl[ID de sesión],A101,tblControl[Estado del control],"Abierto")) | L101: =IF(A101="","",SUMIFS(tblControl[GB usados],tblControl[ID de sesión],A101)) | M101: =IF(A101="","",IF(AND(D101<Resumen!$C$6,H101<>"Cerrada",H101<>"Cancelada"),"Sesión pasada sin cerrar",IF(AND(D101>=Resumen!$C$6,D101<=Resumen!$C$6+Resumen!$C$5,H101<>"Cerrada",OR(I101=0,J101=0)),"Revisar asignación",IF(AND(H101="Cerrada",K101>0),"Hay soportes sin devolver",""))))

Sheet Control
A1: ID de control | B1: ID de sesión | C1: ID del soporte | D1: Tipo | E1: Equipo o destino | F1: Fecha de salida | G1: Carga de salida (%) | H1: Espacio libre de salida (GB) | I1: Fecha de devolución | J1: Carga de devolución (%) | K1: GB usados | L1: Descarga realizada | M1: Fecha de descarga | N1: Descarga verificada | O1: Borrado realizado | P1: Fecha de borrado | Q1: Incidencia | R1: Estado del control | S1: Comprobación | T1: Responsable
A2: CTL-0001 | B2: SES-260901 | C2: BAT-001 | D2: =IF(C2="","",IFERROR(_xlfn.XLOOKUP(C2,tblInventario[ID del soporte],tblInventario[Tipo],""),"")) | E2: Cámara Alfa | F2: 46266 | G2: 100 | I2: 46266 | J2: 47 | L2: No procede | N2: No procede | O2: No procede | R2: =IF(A2="","",IF(I2="","Abierto",IF(D2="Tarjeta",IF(OR(L2<>"Sí",N2<>"Sí",O2<>"Sí"),"Pendiente","Cerrado"),IF(D2="Batería","Cerrado","Revisar")))) | S2: =IF(A2="","",IF(B2="","Falta la sesión",IF(C2="","Falta el soporte",IF(D2="","Soporte no encontrado",IF(COUNTIFS(tblControl[ID del soporte],C2,tblControl[Estado del control],"Abierto")>1,"Soporte asignado más de una vez",IF(F2="","Falta la fecha de salida",IF(AND(I2<>"",I2<F2),"La devolución es anterior a la salida",IF(AND(D2="Batería",G2=""),"Falta la carga de salida",IF(AND(D2="Batería",G2<Resumen!$C$3),"Carga de salida inferior al mínimo",IF(AND(D2="Tarjeta",H2=""),"Falta el espacio libre de salida",IF(AND(D2="Tarjeta",I2<>"",L2<>"Sí"),"Descarga pendiente",IF(AND(D2="Tarjeta",L2="Sí",N2<>"Sí"),"Verificación pendiente",IF(AND(D2="Tarjeta",N2="Sí",O2<>"Sí"),"Borrado pendiente",IF(Q2<>"","Revisar incidencia","Correcto")))))))))))))) | T2: Equipo A
A3: CTL-0002 | B3: SES-260901 | C3: TAR-001 | D3: =IF(C3="","",IFERROR(_xlfn.XLOOKUP(C3,tblInventario[ID del soporte],tblInventario[Tipo],""),"")) | E3: Cámara Alfa | F3: 46266 | H3: 124 | I3: 46266 | K3: 36 | L3: Sí | M3: 46266 | N3: Sí | O3: Sí | P3: 46267 | R3: =IF(A3="","",IF(I3="","Abierto",IF(D3="Tarjeta",IF(OR(L3<>"Sí",N3<>"Sí",O3<>"Sí"),"Pendiente","Cerrado"),IF(D3="Batería","Cerrado","Revisar")))) | S3: =IF(A3="","",IF(B3="","Falta la sesión",IF(C3="","Falta el soporte",IF(D3="","Soporte no encontrado",IF(COUNTIFS(tblControl[ID del soporte],C3,tblControl[Estado del control],"Abierto")>1,"Soporte asignado más de una vez",IF(F3="","Falta la fecha de salida",IF(AND(I3<>"",I3<F3),"La devolución es anterior a la salida",IF(AND(D3="Batería",G3=""),"Falta la carga de salida",IF(AND(D3="Batería",G3<Resumen!$C$3),"Carga de salida inferior al mínimo",IF(AND(D3="Tarjeta",H3=""),"Falta el espacio libre de salida",IF(AND(D3="Tarjeta",I3<>"",L3<>"Sí"),"Descarga pendiente",IF(AND(D3="Tarjeta",L3="Sí",N3<>"Sí"),"Verificación pendiente",IF(AND(D3="Tarjeta",N3="Sí",O3<>"Sí"),"Borrado pendiente",IF(Q3<>"","Revisar incidencia","Correcto")))))))))))))) | T3: Equipo A
A4: CTL-0003 | B4: SES-260901 | C4: BAT-003 | D4: =IF(C4="","",IFERROR(_xlfn.XLOOKUP(C4,tblInventario[ID del soporte],tblInventario[Tipo],""),"")) | E4: Flash principal | F4: 46266 | G4: 92 | I4: 46266 | J4: 61 | L4: No procede | N4: No procede | O4: No procede | R4: =IF(A4="","",IF(I4="","Abierto",IF(D4="Tarjeta",IF(OR(L4<>"Sí",N4<>"Sí",O4<>"Sí"),"Pendiente","Cerrado"),IF(D4="Batería","Cerrado","Revisar")))) | S4: =IF(A4="","",IF(B4="","Falta la sesión",IF(C4="","Falta el soporte",IF(D4="","Soporte no encontrado",IF(COUNTIFS(tblControl[ID del soporte],C4,tblControl[Estado del control],"Abierto")>1,"Soporte asignado más de una vez",IF(F4="","Falta la fecha de salida",IF(AND(I4<>"",I4<F4),"La devolución es anterior a la salida",IF(AND(D4="Batería",G4=""),"Falta la carga de salida",IF(AND(D4="Batería",G4<Resumen!$C$3),"Carga de salida inferior al mínimo",IF(AND(D4="Tarjeta",H4=""),"Falta el espacio libre de salida",IF(AND(D4="Tarjeta",I4<>"",L4<>"Sí"),"Descarga pendiente",IF(AND(D4="Tarjeta",L4="Sí",N4<>"Sí"),"Verificación pendiente",IF(AND(D4="Tarjeta",N4="Sí",O4<>"Sí"),"Borrado pendiente",IF(Q4<>"","Revisar incidencia","Correcto")))))))))))))) | T4: Equipo A
A5: CTL-0004 | B5: SES-260905 | C5: BAT-002 | D5: =IF(C5="","",IFERROR(_xlfn.XLOOKUP(C5,tblInventario[ID del soporte],tblInventario[Tipo],""),"")) | E5: Monitor auxiliar | F5: 46270 | G5: 88 | I5: 46270 | J5: 58 | L5: No procede | N5: No procede | O5: No procede | R5: =IF(A5="","",IF(I5="","Abierto",IF(D5="Tarjeta",IF(OR(L5<>"Sí",N5<>"Sí",O5<>"Sí"),"Pendiente","Cerrado"),IF(D5="Batería","Cerrado","Revisar")))) | S5: =IF(A5="","",IF(B5="","Falta la sesión",IF(C5="","Falta el soporte",IF(D5="","Soporte no encontrado",IF(COUNTIFS(tblControl[ID del soporte],C5,tblControl[Estado del control],"Abierto")>1,"Soporte asignado más de una vez",IF(F5="","Falta la fecha de salida",IF(AND(I5<>"",I5<F5),"La devolución es anterior a la salida",IF(AND(D5="Batería",G5=""),"Falta la carga de salida",IF(AND(D5="Batería",G5<Resumen!$C$3),"Carga de salida inferior al mínimo",IF(AND(D5="Tarjeta",H5=""),"Falta el espacio libre de salida",IF(AND(D5="Tarjeta",I5<>"",L5<>"Sí"),"Descarga pendiente",IF(AND(D5="Tarjeta",L5="Sí",N5<>"Sí"),"Verificación pendiente",IF(AND(D5="Tarjeta",N5="Sí",O5<>"Sí"),"Borrado pendiente",IF(Q5<>"","Revisar incidencia","Correcto")))))))))))))) | T5: Equipo B
A6: CTL-0005 | B6: SES-260905 | C6: TAR-002 | D6: =IF(C6="","",IFERROR(_xlfn.XLOOKUP(C6,tblInventario[ID del soporte],tblInventario[Tipo],""),"")) | E6: Cámara Beta | F6: 46270 | H6: 120 | I6: 46270 | K6: 102 | L6: Sí | M6: 46271 | N6: Sí | O6: No | Q6: Pendiente de liberar la tarjeta | R6: =IF(A6="","",IF(I6="","Abierto",IF(D6="Tarjeta",IF(OR(L6<>"Sí",N6<>"Sí",O6<>"Sí"),"Pendiente","Cerrado"),IF(D6="Batería","Cerrado","Revisar")))) | S6: =IF(A6="","",IF(B6="","Falta la sesión",IF(C6="","Falta el soporte",IF(D6="","Soporte no encontrado",IF(COUNTIFS(tblControl[ID del soporte],C6,tblControl[Estado del control],"Abierto")>1,"Soporte asignado más de una vez",IF(F6="","Falta la fecha de salida",IF(AND(I6<>"",I6<F6),"La devolución es anterior a la salida",IF(AND(D6="Batería",G6=""),"Falta la carga de salida",IF(AND(D6="Batería",G6<Resumen!$C$3),"Carga de salida inferior al mínimo",IF(AND(D6="Tarjeta",H6=""),"Falta el espacio libre de salida",IF(AND(D6="Tarjeta",I6<>"",L6<>"Sí"),"Descarga pendiente",IF(AND(D6="Tarjeta",L6="Sí",N6<>"Sí"),"Verificación pendiente",IF(AND(D6="Tarjeta",N6="Sí",O6<>"Sí"),"Borrado pendiente",IF(Q6<>"","Revisar incidencia","Correcto")))))))))))))) | T6: Equipo B
A7: CTL-0006 | B7: SES-260905 | C7: TAR-004 | D7: =IF(C7="","",IFERROR(_xlfn.XLOOKUP(C7,tblInventario[ID del soporte],tblInventario[Tipo],""),"")) | E7: Cámara de apoyo | F7: 46270 | H7: 238 | I7: 46270 | K7: 196 | L7: No | N7: No | O7: No | Q7: Descarga aún no comprobada | R7: =IF(A7="","",IF(I7="","Abierto",IF(D7="Tarjeta",IF(OR(L7<>"Sí",N7<>"Sí",O7<>"Sí"),"Pendiente","Cerrado"),IF(D7="Batería","Cerrado","Revisar")))) | S7: =IF(A7="","",IF(B7="","Falta la sesión",IF(C7="","Falta el soporte",IF(D7="","Soporte no encontrado",IF(COUNTIFS(tblControl[ID del soporte],C7,tblControl[Estado del control],"Abierto")>1,"Soporte asignado más de una vez",IF(F7="","Falta la fecha de salida",IF(AND(I7<>"",I7<F7),"La devolución es anterior a la salida",IF(AND(D7="Batería",G7=""),"Falta la carga de salida",IF(AND(D7="Batería",G7<Resumen!$C$3),"Carga de salida inferior al mínimo",IF(AND(D7="Tarjeta",H7=""),"Falta el espacio libre de salida",IF(AND(D7="Tarjeta",I7<>"",L7<>"Sí"),"Descarga pendiente",IF(AND(D7="Tarjeta",L7="Sí",N7<>"Sí"),"Verificación pendiente",IF(AND(D7="Tarjeta",N7="Sí",O7<>"Sí"),"Borrado pendiente",IF(Q7<>"","Revisar incidencia","Correcto")))))))))))))) | T7: Equipo B
A8: CTL-0007 | B8: SES-260909 | C8: BAT-001 | D8: =IF(C8="","",IFERROR(_xlfn.XLOOKUP(C8,tblInventario[ID del soporte],tblInventario[Tipo],""),"")) | E8: Cámara Gamma | F8: 46273 | G8: 95 | L8: No procede | N8: No procede | O8: No procede | R8: =IF(A8="","",IF(I8="","Abierto",IF(D8="Tarjeta",IF(OR(L8<>"Sí",N8<>"Sí",O8<>"Sí"),"Pendiente","Cerrado"),IF(D8="Batería","Cerrado","Revisar")))) | S8: =IF(A8="","",IF(B8="","Falta la sesión",IF(C8="","Falta el soporte",IF(D8="","Soporte no encontrado",IF(COUNTIFS(tblControl[ID del soporte],C8,tblControl[Estado del control],"Abierto")>1,"Soporte asignado más de una vez",IF(F8="","Falta la fecha de salida",IF(AND(I8<>"",I8<F8),"La devolución es anterior a la salida",IF(AND(D8="Batería",G8=""),"Falta la carga de salida",IF(AND(D8="Batería",G8<Resumen!$C$3),"Carga de salida inferior al mínimo",IF(AND(D8="Tarjeta",H8=""),"Falta el espacio libre de salida",IF(AND(D8="Tarjeta",I8<>"",L8<>"Sí"),"Descarga pendiente",IF(AND(D8="Tarjeta",L8="Sí",N8<>"Sí"),"Verificación pendiente",IF(AND(D8="Tarjeta",N8="Sí",O8<>"Sí"),"Borrado pendiente",IF(Q8<>"","Revisar incidencia","Correcto")))))))))))))) | T8: Equipo A
A9: CTL-0008 | B9: SES-260909 | C9: BAT-005 | D9: =IF(C9="","",IFERROR(_xlfn.XLOOKUP(C9,tblInventario[ID del soporte],tblInventario[Tipo],""),"")) | E9: Monitor Gamma | F9: 46273 | G9: 84 | L9: No procede | N9: No procede | O9: No procede | R9: =IF(A9="","",IF(I9="","Abierto",IF(D9="Tarjeta",IF(OR(L9<>"Sí",N9<>"Sí",O9<>"Sí"),"Pendiente","Cerrado"),IF(D9="Batería","Cerrado","Revisar")))) | S9: =IF(A9="","",IF(B9="","Falta la sesión",IF(C9="","Falta el soporte",IF(D9="","Soporte no encontrado",IF(COUNTIFS(tblControl[ID del soporte],C9,tblControl[Estado del control],"Abierto")>1,"Soporte asignado más de una vez",IF(F9="","Falta la fecha de salida",IF(AND(I9<>"",I9<F9),"La devolución es anterior a la salida",IF(AND(D9="Batería",G9=""),"Falta la carga de salida",IF(AND(D9="Batería",G9<Resumen!$C$3),"Carga de salida inferior al mínimo",IF(AND(D9="Tarjeta",H9=""),"Falta el espacio libre de salida",IF(AND(D9="Tarjeta",I9<>"",L9<>"Sí"),"Descarga pendiente",IF(AND(D9="Tarjeta",L9="Sí",N9<>"Sí"),"Verificación pendiente",IF(AND(D9="Tarjeta",N9="Sí",O9<>"Sí"),"Borrado pendiente",IF(Q9<>"","Revisar incidencia","Correcto")))))))))))))) | T9: Equipo A
A10: CTL-0009 | B10: SES-260909 | C10: TAR-003 | D10: =IF(C10="","",IFERROR(_xlfn.XLOOKUP(C10,tblInventario[ID del soporte],tblInventario[Tipo],""),"")) | E10: Cámara Gamma | F10: 46273 | H10: 214 | L10: No | N10: No | O10: No | R10: =IF(A10="","",IF(I10="","Abierto",IF(D10="Tarjeta",IF(OR(L10<>"Sí",N10<>"Sí",O10<>"Sí"),"Pendiente","Cerrado"),IF(D10="Batería","Cerrado","Revisar")))) | S10: =IF(A10="","",IF(B10="","Falta la sesión",IF(C10="","Falta el soporte",IF(D10="","Soporte no encontrado",IF(COUNTIFS(tblControl[ID del soporte],C10,tblControl[Estado del control],"Abierto")>1,"Soporte asignado más de una vez",IF(F10="","Falta la fecha de salida",IF(AND(I10<>"",I10<F10),"La devolución es anterior a la salida",IF(AND(D10="Batería",G10=""),"Falta la carga de salida",IF(AND(D10="Batería",G10<Resumen!$C$3),"Carga de salida inferior al mínimo",IF(AND(D10="Tarjeta",H10=""),"Falta el espacio libre de salida",IF(AND(D10="Tarjeta",I10<>"",L10<>"Sí"),"Descarga pendiente",IF(AND(D10="Tarjeta",L10="Sí",N10<>"Sí"),"Verificación pendiente",IF(AND(D10="Tarjeta",N10="Sí",O10<>"Sí"),"Borrado pendiente",IF(Q10<>"","Revisar incidencia","Correcto")))))))))))))) | T10: Equipo A
