Workbook

Sheet Resumen
A1: Disponibilidad de reparto para rodaje
N2: Distribución de resultados | O2: Recuento | Q2: Estados de disponibilidad | R2: Estados de planificación | S2: Tipos de jornada | T2: Sí / No | U2: Tipos de restricción | V2: Tipo de participación
B3: Producción | C3: La brújula de cartón | E3: Comprobación | N3: OK | O3: =IF(OR($C$4="",$C$5="",$C$5<$C$4),0,COUNTIFS(tblEscenas[Fecha propuesta],">="&$C$4,tblEscenas[Fecha propuesta],"<="&$C$5,tblEscenas[Incluir en resumen],"Sí",tblEscenas[Resultado],N3)) | Q3: Disponible | R3: Propuesta | S3: Mañana | T3: Sí | U3: Ninguna | V3: Principal
B4: Inicio del periodo | C4: 46279 | E4: =IF(OR(C4="",C5=""),"FALTA DEFINIR EL PERIODO",IF(C5<C4,"REVISAR FECHAS","PERIODO VÁLIDO")) | N4: NO DISPONIBLE | O4: =IF(OR($C$4="",$C$5="",$C$5<$C$4),0,COUNTIFS(tblEscenas[Fecha propuesta],">="&$C$4,tblEscenas[Fecha propuesta],"<="&$C$5,tblEscenas[Incluir en resumen],"Sí",tblEscenas[Resultado],N4)) | Q4: Disponibilidad parcial | R4: Confirmada | S4: Tarde | T4: No | U4: Horaria | V4: Secundario
B5: Fin del periodo | C5: 46283 | N5: FUERA DE HORARIO | O5: =IF(OR($C$4="",$C$5="",$C$5<$C$4),0,COUNTIFS(tblEscenas[Fecha propuesta],">="&$C$4,tblEscenas[Fecha propuesta],"<="&$C$5,tblEscenas[Incluir en resumen],"Sí",tblEscenas[Resultado],N5)) | Q5: No disponible | R5: Cancelada | S5: Noche | U5: Desplazamiento | V5: Episódico
B6: Incluir escenas canceladas | C6: No | N6: SOLAPE | O6: =IF(OR($C$4="",$C$5="",$C$5<$C$4),0,COUNTIFS(tblEscenas[Fecha propuesta],">="&$C$4,tblEscenas[Fecha propuesta],"<="&$C$5,tblEscenas[Incluir en resumen],"Sí",tblEscenas[Resultado],N6)) | Q6: Pendiente | S6: Jornada completa | U6: Vestuario o caracterización | V6: Figurante especial
B7: Fecha de revisión | C7: 46272 | N7: PENDIENTE | O7: =IF(OR($C$4="",$C$5="",$C$5<$C$4),0,COUNTIFS(tblEscenas[Fecha propuesta],">="&$C$4,tblEscenas[Fecha propuesta],"<="&$C$5,tblEscenas[Incluir en resumen],"Sí",tblEscenas[Resultado],N7)) | S7: Horario específico | U7: Otra
N8: SIN REGISTRO | O8: =IF(OR($C$4="",$C$5="",$C$5<$C$4),0,COUNTIFS(tblEscenas[Fecha propuesta],">="&$C$4,tblEscenas[Fecha propuesta],"<="&$C$5,tblEscenas[Incluir en resumen],"Sí",tblEscenas[Resultado],N8))
N9: PERSONAJE SIN ASIGNAR | O9: =IF(OR($C$4="",$C$5="",$C$5<$C$4),0,COUNTIFS(tblEscenas[Fecha propuesta],">="&$C$4,tblEscenas[Fecha propuesta],"<="&$C$5,tblEscenas[Incluir en resumen],"Sí",tblEscenas[Resultado],N9))
B10: Escenas distintas | C10: =IF(OR($C$4="",$C$5="",$C$5<$C$4),0,SUMIFS(tblEscenas[Primera fila de escena],tblEscenas[Fecha propuesta],">="&$C$4,tblEscenas[Fecha propuesta],"<="&$C$5,tblEscenas[Incluir en resumen],"Sí")) | E10: Asignaciones | F10: =IF(OR($C$4="",$C$5="",$C$5<$C$4),0,COUNTIFS(tblEscenas[Fecha propuesta],">="&$C$4,tblEscenas[Fecha propuesta],"<="&$C$5,tblEscenas[Incluir en resumen],"Sí")) | N10: INCOMPLETO | O10: =IF(OR($C$4="",$C$5="",$C$5<$C$4),0,COUNTIFS(tblEscenas[Fecha propuesta],">="&$C$4,tblEscenas[Fecha propuesta],"<="&$C$5,tblEscenas[Incluir en resumen],"Sí",tblEscenas[Resultado],N10))
B12: Asignaciones correctas | C12: =IF(OR($C$4="",$C$5="",$C$5<$C$4),0,COUNTIFS(tblEscenas[Fecha propuesta],">="&$C$4,tblEscenas[Fecha propuesta],"<="&$C$5,tblEscenas[Incluir en resumen],"Sí",tblEscenas[Resultado],"OK")) | E12: Conflictos críticos | F12: =IF(OR($C$4="",$C$5="",$C$5<$C$4),0,COUNTIFS(tblEscenas[Fecha propuesta],">="&$C$4,tblEscenas[Fecha propuesta],"<="&$C$5,tblEscenas[Incluir en resumen],"Sí",tblEscenas[Resultado],"NO DISPONIBLE")+COUNTIFS(tblEscenas[Fecha propuesta],">="&$C$4,tblEscenas[Fecha propuesta],"<="&$C$5,tblEscenas[Incluir en resumen],"Sí",tblEscenas[Resultado],"FUERA DE HORARIO")+COUNTIFS(tblEscenas[Fecha propuesta],">="&$C$4,tblEscenas[Fecha propuesta],"<="&$C$5,tblEscenas[Incluir en resumen],"Sí",tblEscenas[Resultado],"SOLAPE")+COUNTIFS(tblEscenas[Fecha propuesta],">="&$C$4,tblEscenas[Fecha propuesta],"<="&$C$5,tblEscenas[Incluir en resumen],"Sí",tblEscenas[Resultado],"PERSONAJE SIN ASIGNAR"))
B14: Pendientes | C14: =IF(OR($C$4="",$C$5="",$C$5<$C$4),0,COUNTIFS(tblEscenas[Fecha propuesta],">="&$C$4,tblEscenas[Fecha propuesta],"<="&$C$5,tblEscenas[Incluir en resumen],"Sí",tblEscenas[Resultado],"PENDIENTE")) | E14: Sin registro | F14: =IF(OR($C$4="",$C$5="",$C$5<$C$4),0,COUNTIFS(tblEscenas[Fecha propuesta],">="&$C$4,tblEscenas[Fecha propuesta],"<="&$C$5,tblEscenas[Incluir en resumen],"Sí",tblEscenas[Resultado],"SIN REGISTRO"))
B16: Personajes sin asignar | C16: =IF(OR($C$4="",$C$5="",$C$5<$C$4),0,COUNTIFS(tblEscenas[Fecha propuesta],">="&$C$4,tblEscenas[Fecha propuesta],"<="&$C$5,tblEscenas[Incluir en resumen],"Sí",tblEscenas[Resultado],"PERSONAJE SIN ASIGNAR")) | E16: Solapes horarios | F16: =IF(OR($C$4="",$C$5="",$C$5<$C$4),0,COUNTIFS(tblEscenas[Fecha propuesta],">="&$C$4,tblEscenas[Fecha propuesta],"<="&$C$5,tblEscenas[Incluir en resumen],"Sí",tblEscenas[Resultado],"SOLAPE"))
B18: Porcentaje listo | C18: =IF(F10=0,0,C12/F10)
B20: Incidencias que requieren revisión
B22: Abra la hoja Escenas y filtre la columna Resultado para revisar el detalle.
B25: Conflictos críticos | C25: =F12
B27: Pendientes de confirmar | C27: =C14

Sheet Reparto
A1: Reparto
A2: Una fila por personaje. Utilice exclusivamente información operativa imprescindible.
A4: ID de intérprete | B4: Intérprete | C4: Personaje | D4: Tipo de participación | E4: Teléfono interno o canal | F4: Restricción general | G4: Observaciones de planificación | H4: Revisión
A5: INT-001 | B5: Vera Monteclaro | C5: Alma Ríos | D5: Principal | E5: Producción | F5: Horaria | G5: Evitar convocatorias anteriores a las 08:00 | H5: =IF(COUNTA(A5:G5)=0,"",IF(OR(A5="",B5="",C5=""),"INCOMPLETO",IF(COUNTIF(tblReparto[ID de intérprete],A5)>1,"ID DUPLICADO",IF(COUNTIF(tblReparto[Personaje],C5)>1,"PERSONAJE DUPLICADO","OK"))))
A6: INT-002 | B6: Bruno Salceda | C6: Leo Ferrán | D6: Principal | E6: Producción | F6: Ninguna | G6: — | H6: =IF(COUNTA(A6:G6)=0,"",IF(OR(A6="",B6="",C6=""),"INCOMPLETO",IF(COUNTIF(tblReparto[ID de intérprete],A6)>1,"ID DUPLICADO",IF(COUNTIF(tblReparto[Personaje],C6)>1,"PERSONAJE DUPLICADO","OK"))))
A7: INT-003 | B7: Nerea Valcárcel | C7: Inés Prado | D7: Secundario | E7: Representación | F7: Desplazamiento | G7: Requiere previsión para exteriores | H7: =IF(COUNTA(A7:G7)=0,"",IF(OR(A7="",B7="",C7=""),"INCOMPLETO",IF(COUNTIF(tblReparto[ID de intérprete],A7)>1,"ID DUPLICADO",IF(COUNTIF(tblReparto[Personaje],C7)>1,"PERSONAJE DUPLICADO","OK"))))
A8: INT-004 | B8: Gael Miravento | C8: Tomás Luján | D8: Secundario | E8: Producción | F8: Ninguna | G8: — | H8: =IF(COUNTA(A8:G8)=0,"",IF(OR(A8="",B8="",C8=""),"INCOMPLETO",IF(COUNTIF(tblReparto[ID de intérprete],A8)>1,"ID DUPLICADO",IF(COUNTIF(tblReparto[Personaje],C8)>1,"PERSONAJE DUPLICADO","OK"))))
A9: INT-005 | B9: Lidia Castañer | C9: Comisaria Vega | D9: Episódico | E9: Representación | F9: Horaria | G9: Solo tardes el 15/09/2026 | H9: =IF(COUNTA(A9:G9)=0,"",IF(OR(A9="",B9="",C9=""),"INCOMPLETO",IF(COUNTIF(tblReparto[ID de intérprete],A9)>1,"ID DUPLICADO",IF(COUNTIF(tblReparto[Personaje],C9)>1,"PERSONAJE DUPLICADO","OK"))))
A10: INT-006 | B10: Joel Marquina | C10: Nico Soler | D10: Episódico | E10: Producción | F10: Ninguna | G10: — | H10: =IF(COUNTA(A10:G10)=0,"",IF(OR(A10="",B10="",C10=""),"INCOMPLETO",IF(COUNTIF(tblReparto[ID de intérprete],A10)>1,"ID DUPLICADO",IF(COUNTIF(tblReparto[Personaje],C10)>1,"PERSONAJE DUPLICADO","OK"))))
A11: INT-007 | B11: Aroa Lunaverde | C11: Mara Cid | D11: Secundario | E11: Producción ficticia | F11: Vestuario o caracterización | G11: Prever tiempo adicional de caracterización | H11: =IF(COUNTA(A11:G11)=0,"",IF(OR(A11="",B11="",C11=""),"INCOMPLETO",IF(COUNTIF(tblReparto[ID de intérprete],A11)>1,"ID DUPLICADO",IF(COUNTIF(tblReparto[Personaje],C11)>1,"PERSONAJE DUPLICADO","OK"))))
A12: INT-008 | B12: Damián Valdorna | C12: Inspector Roble | D12: Episódico | E12: Representación ficticia | F12: Ninguna | G12: — | H12: =IF(COUNTA(A12:G12)=0,"",IF(OR(A12="",B12="",C12=""),"INCOMPLETO",IF(COUNTIF(tblReparto[ID de intérprete],A12)>1,"ID DUPLICADO",IF(COUNTIF(tblReparto[Personaje],C12)>1,"PERSONAJE DUPLICADO","OK"))))
A13: INT-009 | B13: Elia Brumaclara | C13: Clara Vento | D13: Figurante especial | E13: Producción ficticia | F13: Otra | G13: Confirmar ensayo técnico | H13: =IF(COUNTA(A13:G13)=0,"",IF(OR(A13="",B13="",C13=""),"INCOMPLETO",IF(COUNTIF(tblReparto[ID de intérprete],A13)>1,"ID DUPLICADO",IF(COUNTIF(tblReparto[Personaje],C13)>1,"PERSONAJE DUPLICADO","OK"))))
A14: INT-010 | B14: Siro Monteluz | C14: Mensajero | D14: Figurante especial | E14: Producción ficticia | F14: Ninguna | G14: — | H14: =IF(COUNTA(A14:G14)=0,"",IF(OR(A14="",B14="",C14=""),"INCOMPLETO",IF(COUNTIF(tblReparto[ID de intérprete],A14)>1,"ID DUPLICADO",IF(COUNTIF(tblReparto[Personaje],C14)>1,"PERSONAJE DUPLICADO","OK"))))
H15: =IF(COUNTA(A15:G15)=0,"",IF(OR(A15="",B15="",C15=""),"INCOMPLETO",IF(COUNTIF(tblReparto[ID de intérprete],A15)>1,"ID DUPLICADO",IF(COUNTIF(tblReparto[Personaje],C15)>1,"PERSONAJE DUPLICADO","OK"))))
H16: =IF(COUNTA(A16:G16)=0,"",IF(OR(A16="",B16="",C16=""),"INCOMPLETO",IF(COUNTIF(tblReparto[ID de intérprete],A16)>1,"ID DUPLICADO",IF(COUNTIF(tblReparto[Personaje],C16)>1,"PERSONAJE DUPLICADO","OK"))))
H17: =IF(COUNTA(A17:G17)=0,"",IF(OR(A17="",B17="",C17=""),"INCOMPLETO",IF(COUNTIF(tblReparto[ID de intérprete],A17)>1,"ID DUPLICADO",IF(COUNTIF(tblReparto[Personaje],C17)>1,"PERSONAJE DUPLICADO","OK"))))
H18: =IF(COUNTA(A18:G18)=0,"",IF(OR(A18="",B18="",C18=""),"INCOMPLETO",IF(COUNTIF(tblReparto[ID de intérprete],A18)>1,"ID DUPLICADO",IF(COUNTIF(tblReparto[Personaje],C18)>1,"PERSONAJE DUPLICADO","OK"))))
H19: =IF(COUNTA(A19:G19)=0,"",IF(OR(A19="",B19="",C19=""),"INCOMPLETO",IF(COUNTIF(tblReparto[ID de intérprete],A19)>1,"ID DUPLICADO",IF(COUNTIF(tblReparto[Personaje],C19)>1,"PERSONAJE DUPLICADO","OK"))))
H20: =IF(COUNTA(A20:G20)=0,"",IF(OR(A20="",B20="",C20=""),"INCOMPLETO",IF(COUNTIF(tblReparto[ID de intérprete],A20)>1,"ID DUPLICADO",IF(COUNTIF(tblReparto[Personaje],C20)>1,"PERSONAJE DUPLICADO","OK"))))
H21: =IF(COUNTA(A21:G21)=0,"",IF(OR(A21="",B21="",C21=""),"INCOMPLETO",IF(COUNTIF(tblReparto[ID de intérprete],A21)>1,"ID DUPLICADO",IF(COUNTIF(tblReparto[Personaje],C21)>1,"PERSONAJE DUPLICADO","OK"))))
H22: =IF(COUNTA(A22:G22)=0,"",IF(OR(A22="",B22="",C22=""),"INCOMPLETO",IF(COUNTIF(tblReparto[ID de intérprete],A22)>1,"ID DUPLICADO",IF(COUNTIF(tblReparto[Personaje],C22)>1,"PERSONAJE DUPLICADO","OK"))))
H23: =IF(COUNTA(A23:G23)=0,"",IF(OR(A23="",B23="",C23=""),"INCOMPLETO",IF(COUNTIF(tblReparto[ID de intérprete],A23)>1,"ID DUPLICADO",IF(COUNTIF(tblReparto[Personaje],C23)>1,"PERSONAJE DUPLICADO","OK"))))
H24: =IF(COUNTA(A24:G24)=0,"",IF(OR(A24="",B24="",C24=""),"INCOMPLETO",IF(COUNTIF(tblReparto[ID de intérprete],A24)>1,"ID DUPLICADO",IF(COUNTIF(tblReparto[Personaje],C24)>1,"PERSONAJE DUPLICADO","OK"))))
H25: =IF(COUNTA(A25:G25)=0,"",IF(OR(A25="",B25="",C25=""),"INCOMPLETO",IF(COUNTIF(tblReparto[ID de intérprete],A25)>1,"ID DUPLICADO",IF(COUNTIF(tblReparto[Personaje],C25)>1,"PERSONAJE DUPLICADO","OK"))))
H26: =IF(COUNTA(A26:G26)=0,"",IF(OR(A26="",B26="",C26=""),"INCOMPLETO",IF(COUNTIF(tblReparto[ID de intérprete],A26)>1,"ID DUPLICADO",IF(COUNTIF(tblReparto[Personaje],C26)>1,"PERSONAJE DUPLICADO","OK"))))
... H104: =IF(COUNTA(A104:G104)=0,"",IF(OR(A104="",B104="",C104=""),"INCOMPLETO",IF(COUNTIF(tblReparto[ID de intérprete],A104)>1,"ID DUPLICADO",IF(COUNTIF(tblReparto[Personaje],C104)>1,"PERSONAJE DUPLICADO","OK"))))

Sheet Disponibilidad
A1: Disponibilidad
A2: Una fila por intérprete y fecha. Las horas solo son obligatorias para disponibilidad parcial.
A4: ID de disponibilidad | B4: ID de intérprete | C4: Intérprete | D4: Fecha | E4: Estado | F4: Disponible desde | G4: Disponible hasta | H4: Tipo de jornada preferente | I4: Restricción del día | J4: Última confirmación | K4: Revisión
A5: DIS-001 | B5: INT-001 | C5: =IF(B5="","",IFERROR(INDEX(tblReparto[Intérprete],MATCH(B5,tblReparto[ID de intérprete],0)),"ID NO ENCONTRADO")) | D5: 46279 | E5: Disponible | H5: Jornada completa | I5: — | J5: 46270 | K5: =IF(AND(A5="",B5="",D5="",E5="",F5="",G5="",H5="",I5="",J5=""),"",IF(OR(A5="",B5="",D5="",E5=""),"INCOMPLETO",IF(C5="ID NO ENCONTRADO","INTÉRPRETE NO ENCONTRADO",IF(COUNTIF(tblDisponibilidad[ID de disponibilidad],A5)>1,"ID DUPLICADO",IF(COUNTIFS(tblDisponibilidad[ID de intérprete],B5,tblDisponibilidad[Fecha],D5)>1,"FECHA DUPLICADA",IF(AND(E5="Disponibilidad parcial",OR(F5="",G5="")),"FALTAN HORAS",IF(AND(F5<>"",G5<>"",G5<=F5),"HORARIO NO VÁLIDO",IF(AND(OR(E5="No disponible",E5="Pendiente"),OR(F5<>"",G5<>"")),"BORRAR HORAS",IF(AND(J5<>"",J5>TODAY()),"REVISAR CONFIRMACIÓN","OK")))))))))
A6: DIS-002 | B6: INT-002 | C6: =IF(B6="","",IFERROR(INDEX(tblReparto[Intérprete],MATCH(B6,tblReparto[ID de intérprete],0)),"ID NO ENCONTRADO")) | D6: 46279 | E6: Disponibilidad parcial | F6: 0.33333333 | G6: 0.5625 | H6: Mañana | I6: Sale a las 13:30 | J6: 46271 | K6: =IF(AND(A6="",B6="",D6="",E6="",F6="",G6="",H6="",I6="",J6=""),"",IF(OR(A6="",B6="",D6="",E6=""),"INCOMPLETO",IF(C6="ID NO ENCONTRADO","INTÉRPRETE NO ENCONTRADO",IF(COUNTIF(tblDisponibilidad[ID de disponibilidad],A6)>1,"ID DUPLICADO",IF(COUNTIFS(tblDisponibilidad[ID de intérprete],B6,tblDisponibilidad[Fecha],D6)>1,"FECHA DUPLICADA",IF(AND(E6="Disponibilidad parcial",OR(F6="",G6="")),"FALTAN HORAS",IF(AND(F6<>"",G6<>"",G6<=F6),"HORARIO NO VÁLIDO",IF(AND(OR(E6="No disponible",E6="Pendiente"),OR(F6<>"",G6<>"")),"BORRAR HORAS",IF(AND(J6<>"",J6>TODAY()),"REVISAR CONFIRMACIÓN","OK")))))))))
A7: DIS-003 | B7: INT-003 | C7: =IF(B7="","",IFERROR(INDEX(tblReparto[Intérprete],MATCH(B7,tblReparto[ID de intérprete],0)),"ID NO ENCONTRADO")) | D7: 46279 | E7: No disponible | I7: Otro compromiso ficticio | J7: 46269 | K7: =IF(AND(A7="",B7="",D7="",E7="",F7="",G7="",H7="",I7="",J7=""),"",IF(OR(A7="",B7="",D7="",E7=""),"INCOMPLETO",IF(C7="ID NO ENCONTRADO","INTÉRPRETE NO ENCONTRADO",IF(COUNTIF(tblDisponibilidad[ID de disponibilidad],A7)>1,"ID DUPLICADO",IF(COUNTIFS(tblDisponibilidad[ID de intérprete],B7,tblDisponibilidad[Fecha],D7)>1,"FECHA DUPLICADA",IF(AND(E7="Disponibilidad parcial",OR(F7="",G7="")),"FALTAN HORAS",IF(AND(F7<>"",G7<>"",G7<=F7),"HORARIO NO VÁLIDO",IF(AND(OR(E7="No disponible",E7="Pendiente"),OR(F7<>"",G7<>"")),"BORRAR HORAS",IF(AND(J7<>"",J7>TODAY()),"REVISAR CONFIRMACIÓN","OK")))))))))
A8: DIS-004 | B8: INT-004 | C8: =IF(B8="","",IFERROR(INDEX(tblReparto[Intérprete],MATCH(B8,tblReparto[ID de intérprete],0)),"ID NO ENCONTRADO")) | D8: 46279 | E8: Disponible | H8: Jornada completa | I8: — | J8: 46271 | K8: =IF(AND(A8="",B8="",D8="",E8="",F8="",G8="",H8="",I8="",J8=""),"",IF(OR(A8="",B8="",D8="",E8=""),"INCOMPLETO",IF(C8="ID NO ENCONTRADO","INTÉRPRETE NO ENCONTRADO",IF(COUNTIF(tblDisponibilidad[ID de disponibilidad],A8)>1,"ID DUPLICADO",IF(COUNTIFS(tblDisponibilidad[ID de intérprete],B8,tblDisponibilidad[Fecha],D8)>1,"FECHA DUPLICADA",IF(AND(E8="Disponibilidad parcial",OR(F8="",G8="")),"FALTAN HORAS",IF(AND(F8<>"",G8<>"",G8<=F8),"HORARIO NO VÁLIDO",IF(AND(OR(E8="No disponible",E8="Pendiente"),OR(F8<>"",G8<>"")),"BORRAR HORAS",IF(AND(J8<>"",J8>TODAY()),"REVISAR CONFIRMACIÓN","OK")))))))))
A9: DIS-005 | B9: INT-001 | C9: =IF(B9="","",IFERROR(INDEX(tblReparto[Intérprete],MATCH(B9,tblReparto[ID de intérprete],0)),"ID NO ENCONTRADO")) | D9: 46280 | E9: Disponibilidad parcial | F9: 0.41666667 | G9: 0.75 | H9: Horario específico | I9: No disponible antes de las 10:00 | J9: 46270 | K9: =IF(AND(A9="",B9="",D9="",E9="",F9="",G9="",H9="",I9="",J9=""),"",IF(OR(A9="",B9="",D9="",E9=""),"INCOMPLETO",IF(C9="ID NO ENCONTRADO","INTÉRPRETE NO ENCONTRADO",IF(COUNTIF(tblDisponibilidad[ID de disponibilidad],A9)>1,"ID DUPLICADO",IF(COUNTIFS(tblDisponibilidad[ID de intérprete],B9,tblDisponibilidad[Fecha],D9)>1,"FECHA DUPLICADA",IF(AND(E9="Disponibilidad parcial",OR(F9="",G9="")),"FALTAN HORAS",IF(AND(F9<>"",G9<>"",G9<=F9),"HORARIO NO VÁLIDO",IF(AND(OR(E9="No disponible",E9="Pendiente"),OR(F9<>"",G9<>"")),"BORRAR HORAS",IF(AND(J9<>"",J9>TODAY()),"REVISAR CONFIRMACIÓN","OK")))))))))
A10: DIS-006 | B10: INT-002 | C10: =IF(B10="","",IFERROR(INDEX(tblReparto[Intérprete],MATCH(B10,tblReparto[ID de intérprete],0)),"ID NO ENCONTRADO")) | D10: 46280 | E10: Pendiente | I10: Pendiente de confirmación | J10: 46268 | K10: =IF(AND(A10="",B10="",D10="",E10="",F10="",G10="",H10="",I10="",J10=""),"",IF(OR(A10="",B10="",D10="",E10=""),"INCOMPLETO",IF(C10="ID NO ENCONTRADO","INTÉRPRETE NO ENCONTRADO",IF(COUNTIF(tblDisponibilidad[ID de disponibilidad],A10)>1,"ID DUPLICADO",IF(COUNTIFS(tblDisponibilidad[ID de intérprete],B10,tblDisponibilidad[Fecha],D10)>1,"FECHA DUPLICADA",IF(AND(E10="Disponibilidad parcial",OR(F10="",G10="")),"FALTAN HORAS",IF(AND(F10<>"",G10<>"",G10<=F10),"HORARIO NO VÁLIDO",IF(AND(OR(E10="No disponible",E10="Pendiente"),OR(F10<>"",G10<>"")),"BORRAR HORAS",IF(AND(J10<>"",J10>TODAY()),"REVISAR CONFIRMACIÓN","OK")))))))))
A11: DIS-007 | B11: INT-005 | C11: =IF(B11="","",IFERROR(INDEX(tblReparto[Intérprete],MATCH(B11,tblReparto[ID de intérprete],0)),"ID NO ENCONTRADO")) | D11: 46280 | E11: Disponibilidad parcial | F11: 0.625 | G11: 0.875 | H11: Tarde | I11: Solo tarde | J11: 46271 | K11: =IF(AND(A11="",B11="",D11="",E11="",F11="",G11="",H11="",I11="",J11=""),"",IF(OR(A11="",B11="",D11="",E11=""),"INCOMPLETO",IF(C11="ID NO ENCONTRADO","INTÉRPRETE NO ENCONTRADO",IF(COUNTIF(tblDisponibilidad[ID de disponibilidad],A11)>1,"ID DUPLICADO",IF(COUNTIFS(tblDisponibilidad[ID de intérprete],B11,tblDisponibilidad[Fecha],D11)>1,"FECHA DUPLICADA",IF(AND(E11="Disponibilidad parcial",OR(F11="",G11="")),"FALTAN HORAS",IF(AND(F11<>"",G11<>"",G11<=F11),"HORARIO NO VÁLIDO",IF(AND(OR(E11="No disponible",E11="Pendiente"),OR(F11<>"",G11<>"")),"BORRAR HORAS",IF(AND(J11<>"",J11>TODAY()),"REVISAR CONFIRMACIÓN","OK")))))))))
A12: DIS-008 | B12: INT-006 | C12: =IF(B12="","",IFERROR(INDEX(tblReparto[Intérprete],MATCH(B12,tblReparto[ID de intérprete],0)),"ID NO ENCONTRADO")) | D12: 46280 | E12: Disponible | H12: Jornada completa | I12: — | J12: 46271 | K12: =IF(AND(A12="",B12="",D12="",E12="",F12="",G12="",H12="",I12="",J12=""),"",IF(OR(A12="",B12="",D12="",E12=""),"INCOMPLETO",IF(C12="ID NO ENCONTRADO","INTÉRPRETE NO ENCONTRADO",IF(COUNTIF(tblDisponibilidad[ID de disponibilidad],A12)>1,"ID DUPLICADO",IF(COUNTIFS(tblDisponibilidad[ID de intérprete],B12,tblDisponibilidad[Fecha],D12)>1,"FECHA DUPLICADA",IF(AND(E12="Disponibilidad parcial",OR(F12="",G12="")),"FALTAN HORAS",IF(AND(F12<>"",G12<>"",G12<=F12),"HORARIO NO VÁLIDO",IF(AND(OR(E12="No disponible",E12="Pendiente"),OR(F12<>"",G12<>"")),"BORRAR HORAS",IF(AND(J12<>"",J12>TODAY()),"REVISAR CONFIRMACIÓN","OK")))))))))
A13: DIS-009 | B13: INT-003 | C13: =IF(B13="","",IFERROR(INDEX(tblReparto[Intérprete],MATCH(B13,tblReparto[ID de intérprete],0)),"ID NO ENCONTRADO")) | D13: 46281 | E13: Disponible | H13: Jornada completa | I13: Necesita previsión de transporte | J13: 46270 | K13: =IF(AND(A13="",B13="",D13="",E13="",F13="",G13="",H13="",I13="",J13=""),"",IF(OR(A13="",B13="",D13="",E13=""),"INCOMPLETO",IF(C13="ID NO ENCONTRADO","INTÉRPRETE NO ENCONTRADO",IF(COUNTIF(tblDisponibilidad[ID de disponibilidad],A13)>1,"ID DUPLICADO",IF(COUNTIFS(tblDisponibilidad[ID de intérprete],B13,tblDisponibilidad[Fecha],D13)>1,"FECHA DUPLICADA",IF(AND(E13="Disponibilidad parcial",OR(F13="",G13="")),"FALTAN HORAS",IF(AND(F13<>"",G13<>"",G13<=F13),"HORARIO NO VÁLIDO",IF(AND(OR(E13="No disponible",E13="Pendiente"),OR(F13<>"",G13<>"")),"BORRAR HORAS",IF(AND(J13<>"",J13>TODAY()),"REVISAR CONFIRMACIÓN","OK")))))))))
A14: DIS-010 | B14: INT-004 | C14: =IF(B14="","",IFERROR(INDEX(tblReparto[Intérprete],MATCH(B14,tblReparto[ID de intérprete],0)),"ID NO ENCONTRADO")) | D14: 46281 | E14: Disponible | H14: Jornada completa | I14: — | J14: 46270 | K14: =IF(AND(A14="",B14="",D14="",E14="",F14="",G14="",H14="",I14="",J14=""),"",IF(OR(A14="",B14="",D14="",E14=""),"INCOMPLETO",IF(C14="ID NO ENCONTRADO","INTÉRPRETE NO ENCONTRADO",IF(COUNTIF(tblDisponibilidad[ID de disponibilidad],A14)>1,"ID DUPLICADO",IF(COUNTIFS(tblDisponibilidad[ID de intérprete],B14,tblDisponibilidad[Fecha],D14)>1,"FECHA DUPLICADA",IF(AND(E14="Disponibilidad parcial",OR(F14="",G14="")),"FALTAN HORAS",IF(AND(F14<>"",G14<>"",G14<=F14),"HORARIO NO VÁLIDO",IF(AND(OR(E14="No disponible",E14="Pendiente"),OR(F14<>"",G14<>"")),"BORRAR HORAS",IF(AND(J14<>"",J14>TODAY()),"REVISAR CONFIRMACIÓN","OK")))))))))
C15: =IF(B15="","",IFERROR(INDEX(tblReparto[Intérprete],MATCH(B15,tblReparto[ID de intérprete],0)),"ID NO ENCONTRADO")) | K15: =IF(AND(A15="",B15="",D15="",E15="",F15="",G15="",H15="",I15="",J15=""),"",IF(OR(A15="",B15="",D15="",E15=""),"INCOMPLETO",IF(C15="ID NO ENCONTRADO","INTÉRPRETE NO ENCONTRADO",IF(COUNTIF(tblDisponibilidad[ID de disponibilidad],A15)>1,"ID DUPLICADO",IF(COUNTIFS(tblDisponibilidad[ID de intérprete],B15,tblDisponibilidad[Fecha],D15)>1,"FECHA DUPLICADA",IF(AND(E15="Disponibilidad parcial",OR(F15="",G15="")),"FALTAN HORAS",IF(AND(F15<>"",G15<>"",G15<=F15),"HORARIO NO VÁLIDO",IF(AND(OR(E15="No disponible",E15="Pendiente"),OR(F15<>"",G15<>"")),"BORRAR HORAS",IF(AND(J15<>"",J15>TODAY()),"REVISAR CONFIRMACIÓN","OK")))))))))
C16: =IF(B16="","",IFERROR(INDEX(tblReparto[Intérprete],MATCH(B16,tblReparto[ID de intérprete],0)),"ID NO ENCONTRADO")) | K16: =IF(AND(A16="",B16="",D16="",E16="",F16="",G16="",H16="",I16="",J16=""),"",IF(OR(A16="",B16="",D16="",E16=""),"INCOMPLETO",IF(C16="ID NO ENCONTRADO","INTÉRPRETE NO ENCONTRADO",IF(COUNTIF(tblDisponibilidad[ID de disponibilidad],A16)>1,"ID DUPLICADO",IF(COUNTIFS(tblDisponibilidad[ID de intérprete],B16,tblDisponibilidad[Fecha],D16)>1,"FECHA DUPLICADA",IF(AND(E16="Disponibilidad parcial",OR(F16="",G16="")),"FALTAN HORAS",IF(AND(F16<>"",G16<>"",G16<=F16),"HORARIO NO VÁLIDO",IF(AND(OR(E16="No disponible",E16="Pendiente"),OR(F16<>"",G16<>"")),"BORRAR HORAS",IF(AND(J16<>"",J16>TODAY()),"REVISAR CONFIRMACIÓN","OK")))))))))
C17: =IF(B17="","",IFERROR(INDEX(tblReparto[Intérprete],MATCH(B17,tblReparto[ID de intérprete],0)),"ID NO ENCONTRADO")) | K17: =IF(AND(A17="",B17="",D17="",E17="",F17="",G17="",H17="",I17="",J17=""),"",IF(OR(A17="",B17="",D17="",E17=""),"INCOMPLETO",IF(C17="ID NO ENCONTRADO","INTÉRPRETE NO ENCONTRADO",IF(COUNTIF(tblDisponibilidad[ID de disponibilidad],A17)>1,"ID DUPLICADO",IF(COUNTIFS(tblDisponibilidad[ID de intérprete],B17,tblDisponibilidad[Fecha],D17)>1,"FECHA DUPLICADA",IF(AND(E17="Disponibilidad parcial",OR(F17="",G17="")),"FALTAN HORAS",IF(AND(F17<>"",G17<>"",G17<=F17),"HORARIO NO VÁLIDO",IF(AND(OR(E17="No disponible",E17="Pendiente"),OR(F17<>"",G17<>"")),"BORRAR HORAS",IF(AND(J17<>"",J17>TODAY()),"REVISAR CONFIRMACIÓN","OK")))))))))
C18: =IF(B18="","",IFERROR(INDEX(tblReparto[Intérprete],MATCH(B18,tblReparto[ID de intérprete],0)),"ID NO ENCONTRADO")) | K18: =IF(AND(A18="",B18="",D18="",E18="",F18="",G18="",H18="",I18="",J18=""),"",IF(OR(A18="",B18="",D18="",E18=""),"INCOMPLETO",IF(C18="ID NO ENCONTRADO","INTÉRPRETE NO ENCONTRADO",IF(COUNTIF(tblDisponibilidad[ID de disponibilidad],A18)>1,"ID DUPLICADO",IF(COUNTIFS(tblDisponibilidad[ID de intérprete],B18,tblDisponibilidad[Fecha],D18)>1,"FECHA DUPLICADA",IF(AND(E18="Disponibilidad parcial",OR(F18="",G18="")),"FALTAN HORAS",IF(AND(F18<>"",G18<>"",G18<=F18),"HORARIO NO VÁLIDO",IF(AND(OR(E18="No disponible",E18="Pendiente"),OR(F18<>"",G18<>"")),"BORRAR HORAS",IF(AND(J18<>"",J18>TODAY()),"REVISAR CONFIRMACIÓN","OK")))))))))
C19: =IF(B19="","",IFERROR(INDEX(tblReparto[Intérprete],MATCH(B19,tblReparto[ID de intérprete],0)),"ID NO ENCONTRADO")) | K19: =IF(AND(A19="",B19="",D19="",E19="",F19="",G19="",H19="",I19="",J19=""),"",IF(OR(A19="",B19="",D19="",E19=""),"INCOMPLETO",IF(C19="ID NO ENCONTRADO","INTÉRPRETE NO ENCONTRADO",IF(COUNTIF(tblDisponibilidad[ID de disponibilidad],A19)>1,"ID DUPLICADO",IF(COUNTIFS(tblDisponibilidad[ID de intérprete],B19,tblDisponibilidad[Fecha],D19)>1,"FECHA DUPLICADA",IF(AND(E19="Disponibilidad parcial",OR(F19="",G19="")),"FALTAN HORAS",IF(AND(F19<>"",G19<>"",G19<=F19),"HORARIO NO VÁLIDO",IF(AND(OR(E19="No disponible",E19="Pendiente"),OR(F19<>"",G19<>"")),"BORRAR HORAS",IF(AND(J19<>"",J19>TODAY()),"REVISAR CONFIRMACIÓN","OK")))))))))
C20: =IF(B20="","",IFERROR(INDEX(tblReparto[Intérprete],MATCH(B20,tblReparto[ID de intérprete],0)),"ID NO ENCONTRADO")) | K20: =IF(AND(A20="",B20="",D20="",E20="",F20="",G20="",H20="",I20="",J20=""),"",IF(OR(A20="",B20="",D20="",E20=""),"INCOMPLETO",IF(C20="ID NO ENCONTRADO","INTÉRPRETE NO ENCONTRADO",IF(COUNTIF(tblDisponibilidad[ID de disponibilidad],A20)>1,"ID DUPLICADO",IF(COUNTIFS(tblDisponibilidad[ID de intérprete],B20,tblDisponibilidad[Fecha],D20)>1,"FECHA DUPLICADA",IF(AND(E20="Disponibilidad parcial",OR(F20="",G20="")),"FALTAN HORAS",IF(AND(F20<>"",G20<>"",G20<=F20),"HORARIO NO VÁLIDO",IF(AND(OR(E20="No disponible",E20="Pendiente"),OR(F20<>"",G20<>"")),"BORRAR HORAS",IF(AND(J20<>"",J20>TODAY()),"REVISAR CONFIRMACIÓN","OK")))))))))
C21: =IF(B21="","",IFERROR(INDEX(tblReparto[Intérprete],MATCH(B21,tblReparto[ID de intérprete],0)),"ID NO ENCONTRADO")) | K21: =IF(AND(A21="",B21="",D21="",E21="",F21="",G21="",H21="",I21="",J21=""),"",IF(OR(A21="",B21="",D21="",E21=""),"INCOMPLETO",IF(C21="ID NO ENCONTRADO","INTÉRPRETE NO ENCONTRADO",IF(COUNTIF(tblDisponibilidad[ID de disponibilidad],A21)>1,"ID DUPLICADO",IF(COUNTIFS(tblDisponibilidad[ID de intérprete],B21,tblDisponibilidad[Fecha],D21)>1,"FECHA DUPLICADA",IF(AND(E21="Disponibilidad parcial",OR(F21="",G21="")),"FALTAN HORAS",IF(AND(F21<>"",G21<>"",G21<=F21),"HORARIO NO VÁLIDO",IF(AND(OR(E21="No disponible",E21="Pendiente"),OR(F21<>"",G21<>"")),"BORRAR HORAS",IF(AND(J21<>"",J21>TODAY()),"REVISAR CONFIRMACIÓN","OK")))))))))
C22: =IF(B22="","",IFERROR(INDEX(tblReparto[Intérprete],MATCH(B22,tblReparto[ID de intérprete],0)),"ID NO ENCONTRADO")) | K22: =IF(AND(A22="",B22="",D22="",E22="",F22="",G22="",H22="",I22="",J22=""),"",IF(OR(A22="",B22="",D22="",E22=""),"INCOMPLETO",IF(C22="ID NO ENCONTRADO","INTÉRPRETE NO ENCONTRADO",IF(COUNTIF(tblDisponibilidad[ID de disponibilidad],A22)>1,"ID DUPLICADO",IF(COUNTIFS(tblDisponibilidad[ID de intérprete],B22,tblDisponibilidad[Fecha],D22)>1,"FECHA DUPLICADA",IF(AND(E22="Disponibilidad parcial",OR(F22="",G22="")),"FALTAN HORAS",IF(AND(F22<>"",G22<>"",G22<=F22),"HORARIO NO VÁLIDO",IF(AND(OR(E22="No disponible",E22="Pendiente"),OR(F22<>"",G22<>"")),"BORRAR HORAS",IF(AND(J22<>"",J22>TODAY()),"REVISAR CONFIRMACIÓN","OK")))))))))
C23: =IF(B23="","",IFERROR(INDEX(tblReparto[Intérprete],MATCH(B23,tblReparto[ID de intérprete],0)),"ID NO ENCONTRADO")) | K23: =IF(AND(A23="",B23="",D23="",E23="",F23="",G23="",H23="",I23="",J23=""),"",IF(OR(A23="",B23="",D23="",E23=""),"INCOMPLETO",IF(C23="ID NO ENCONTRADO","INTÉRPRETE NO ENCONTRADO",IF(COUNTIF(tblDisponibilidad[ID de disponibilidad],A23)>1,"ID DUPLICADO",IF(COUNTIFS(tblDisponibilidad[ID de intérprete],B23,tblDisponibilidad[Fecha],D23)>1,"FECHA DUPLICADA",IF(AND(E23="Disponibilidad parcial",OR(F23="",G23="")),"FALTAN HORAS",IF(AND(F23<>"",G23<>"",G23<=F23),"HORARIO NO VÁLIDO",IF(AND(OR(E23="No disponible",E23="Pendiente"),OR(F23<>"",G23<>"")),"BORRAR HORAS",IF(AND(J23<>"",J23>TODAY()),"REVISAR CONFIRMACIÓN","OK")))))))))
C24: =IF(B24="","",IFERROR(INDEX(tblReparto[Intérprete],MATCH(B24,tblReparto[ID de intérprete],0)),"ID NO ENCONTRADO")) | K24: =IF(AND(A24="",B24="",D24="",E24="",F24="",G24="",H24="",I24="",J24=""),"",IF(OR(A24="",B24="",D24="",E24=""),"INCOMPLETO",IF(C24="ID NO ENCONTRADO","INTÉRPRETE NO ENCONTRADO",IF(COUNTIF(tblDisponibilidad[ID de disponibilidad],A24)>1,"ID DUPLICADO",IF(COUNTIFS(tblDisponibilidad[ID de intérprete],B24,tblDisponibilidad[Fecha],D24)>1,"FECHA DUPLICADA",IF(AND(E24="Disponibilidad parcial",OR(F24="",G24="")),"FALTAN HORAS",IF(AND(F24<>"",G24<>"",G24<=F24),"HORARIO NO VÁLIDO",IF(AND(OR(E24="No disponible",E24="Pendiente"),OR(F24<>"",G24<>"")),"BORRAR HORAS",IF(AND(J24<>"",J24>TODAY()),"REVISAR CONFIRMACIÓN","OK")))))))))
C25: =IF(B25="","",IFERROR(INDEX(tblReparto[Intérprete],MATCH(B25,tblReparto[ID de intérprete],0)),"ID NO ENCONTRADO")) | K25: =IF(AND(A25="",B25="",D25="",E25="",F25="",G25="",H25="",I25="",J25=""),"",IF(OR(A25="",B25="",D25="",E25=""),"INCOMPLETO",IF(C25="ID NO ENCONTRADO","INTÉRPRETE NO ENCONTRADO",IF(COUNTIF(tblDisponibilidad[ID de disponibilidad],A25)>1,"ID DUPLICADO",IF(COUNTIFS(tblDisponibilidad[ID de intérprete],B25,tblDisponibilidad[Fecha],D25)>1,"FECHA DUPLICADA",IF(AND(E25="Disponibilidad parcial",OR(F25="",G25="")),"FALTAN HORAS",IF(AND(F25<>"",G25<>"",G25<=F25),"HORARIO NO VÁLIDO",IF(AND(OR(E25="No disponible",E25="Pendiente"),OR(F25<>"",G25<>"")),"BORRAR HORAS",IF(AND(J25<>"",J25>TODAY()),"REVISAR CONFIRMACIÓN","OK")))))))))
C26: =IF(B26="","",IFERROR(INDEX(tblReparto[Intérprete],MATCH(B26,tblReparto[ID de intérprete],0)),"ID NO ENCONTRADO")) | K26: =IF(AND(A26="",B26="",D26="",E26="",F26="",G26="",H26="",I26="",J26=""),"",IF(OR(A26="",B26="",D26="",E26=""),"INCOMPLETO",IF(C26="ID NO ENCONTRADO","INTÉRPRETE NO ENCONTRADO",IF(COUNTIF(tblDisponibilidad[ID de disponibilidad],A26)>1,"ID DUPLICADO",IF(COUNTIFS(tblDisponibilidad[ID de intérprete],B26,tblDisponibilidad[Fecha],D26)>1,"FECHA DUPLICADA",IF(AND(E26="Disponibilidad parcial",OR(F26="",G26="")),"FALTAN HORAS",IF(AND(F26<>"",G26<>"",G26<=F26),"HORARIO NO VÁLIDO",IF(AND(OR(E26="No disponible",E26="Pendiente"),OR(F26<>"",G26<>"")),"BORRAR HORAS",IF(AND(J26<>"",J26>TODAY()),"REVISAR CONFIRMACIÓN","OK")))))))))
... C304: =IF(B304="","",IFERROR(INDEX(tblReparto[Intérprete],MATCH(B304,tblReparto[ID de intérprete],0)),"ID NO ENCONTRADO")) | K304: =IF(AND(A304="",B304="",D304="",E304="",F304="",G304="",H304="",I304="",J304=""),"",IF(OR(A304="",B304="",D304="",E304=""),"INCOMPLETO",IF(C304="ID NO ENCONTRADO","INTÉRPRETE NO ENCONTRADO",IF(COUNTIF(tblDisponibilidad[ID de disponibilidad],A304)>1,"ID DUPLICADO",IF(COUNTIFS(tblDisponibilidad[ID de intérprete],B304,tblDisponibilidad[Fecha],D304)>1,"FECHA DUPLICADA",IF(AND(E304="Disponibilidad parcial",OR(F304="",G304="")),"FALTAN HORAS",IF(AND(F304<>"",G304<>"",G304<=F304),"HORARIO NO VÁLIDO",IF(AND(OR(E304="No disponible",E304="Pendiente"),OR(F304<>"",G304<>"")),"BORRAR HORAS",IF(AND(J304<>"",J304>TODAY()),"REVISAR CONFIRMACIÓN","OK")))))))))

Sheet Escenas
A1: Escenas
A2: Una fila por personaje requerido en cada escena.
A4: ID de asignación | B4: Escena | C4: Descripción breve | D4: Fecha propuesta | E4: Hora inicio | F4: Hora fin | G4: Localización | H4: Estado de planificación | I4: Personaje | J4: ID de intérprete | K4: Intérprete | L4: Estado de disponibilidad | M4: Comprobación horaria | N4: Comprobación de solape | O4: Resultado | P4: Observaciones | Q4: Incluir en resumen | R4: Primera fila de escena
A5: ASG-001 | B5: E-001 | C5: Llegada al taller | D5: 46279 | E5: 0.35416667 | F5: 0.41666667 | G5: Taller Azul | H5: Confirmada | I5: Alma Ríos | J5: =IF(I5="","",IFERROR(INDEX(tblReparto[ID de intérprete],MATCH(I5,tblReparto[Personaje],0)),"PERSONAJE SIN ASIGNAR")) | K5: =IF(I5="","",IFERROR(INDEX(tblReparto[Intérprete],MATCH(I5,tblReparto[Personaje],0)),"PERSONAJE SIN ASIGNAR")) | L5: =IF(OR(J5="",D5=""),"",IF(J5="PERSONAJE SIN ASIGNAR","PERSONAJE SIN ASIGNAR",IF(COUNTIFS(tblDisponibilidad[ID de intérprete],J5,tblDisponibilidad[Fecha],D5)=0,"SIN REGISTRO",IF(COUNTIFS(tblDisponibilidad[ID de intérprete],J5,tblDisponibilidad[Fecha],D5,tblDisponibilidad[Estado],"No disponible")>0,"NO DISPONIBLE",IF(COUNTIFS(tblDisponibilidad[ID de intérprete],J5,tblDisponibilidad[Fecha],D5,tblDisponibilidad[Estado],"Pendiente")>0,"PENDIENTE",IF(COUNTIFS(tblDisponibilidad[ID de intérprete],J5,tblDisponibilidad[Fecha],D5,tblDisponibilidad[Estado],"Disponibilidad parcial")>0,"DISPONIBILIDAD PARCIAL","DISPONIBLE")))))) | M5: =IF(OR(J5="",D5="",E5="",F5=""),"",IF(F5<=E5,"HORARIO NO VÁLIDO",IF(L5<>"DISPONIBILIDAD PARCIAL","",IF(OR(E5<SUMIFS(tblDisponibilidad[Disponible desde],tblDisponibilidad[ID de intérprete],J5,tblDisponibilidad[Fecha],D5),F5>SUMIFS(tblDisponibilidad[Disponible hasta],tblDisponibilidad[ID de intérprete],J5,tblDisponibilidad[Fecha],D5)),"FUERA DE HORARIO","DENTRO DEL HORARIO")))) | N5: =IF(OR(J5="",D5="",E5="",F5="",H5="Cancelada"),"",IF(J5="PERSONAJE SIN ASIGNAR","",IF(SUMPRODUCT((tblEscenas[ID de intérprete]=J5)*(tblEscenas[Fecha propuesta]=D5)*(tblEscenas[Escena]<>B5)*(tblEscenas[Estado de planificación]<>"Cancelada")*(tblEscenas[Hora inicio]<F5)*(tblEscenas[Hora fin]>E5))>0,"SOLAPE",""))) | O5: =IF(COUNTA(A5:I5)=0,"",IF(OR(A5="",B5="",D5="",E5="",F5="",I5=""),"INCOMPLETO",IF(J5="PERSONAJE SIN ASIGNAR","PERSONAJE SIN ASIGNAR",IF(M5="HORARIO NO VÁLIDO","INCOMPLETO",IF(L5="NO DISPONIBLE","NO DISPONIBLE",IF(M5="FUERA DE HORARIO","FUERA DE HORARIO",IF(N5="SOLAPE","SOLAPE",IF(L5="PENDIENTE","PENDIENTE",IF(L5="SIN REGISTRO","SIN REGISTRO",IF(OR(L5="DISPONIBLE",AND(L5="DISPONIBILIDAD PARCIAL",M5="DENTRO DEL HORARIO")),"OK","INCOMPLETO")))))))))) | Q5: =IF(A5="","",IF(AND(H5="Cancelada",Resumen!$C$6="No"),"No","Sí")) | R5: =IF(OR(B5="",D5="",Q5<>"Sí"),0,IF(COUNTIFS($B$5:B5,B5,$D$5:D5,D5,$Q$5:Q5,"Sí")=1,1,0))
A6: ASG-002 | B6: E-001 | C6: Llegada al taller | D6: 46279 | E6: 0.35416667 | F6: 0.41666667 | G6: Taller Azul | H6: Confirmada | I6: Leo Ferrán | J6: =IF(I6="","",IFERROR(INDEX(tblReparto[ID de intérprete],MATCH(I6,tblReparto[Personaje],0)),"PERSONAJE SIN ASIGNAR")) | K6: =IF(I6="","",IFERROR(INDEX(tblReparto[Intérprete],MATCH(I6,tblReparto[Personaje],0)),"PERSONAJE SIN ASIGNAR")) | L6: =IF(OR(J6="",D6=""),"",IF(J6="PERSONAJE SIN ASIGNAR","PERSONAJE SIN ASIGNAR",IF(COUNTIFS(tblDisponibilidad[ID de intérprete],J6,tblDisponibilidad[Fecha],D6)=0,"SIN REGISTRO",IF(COUNTIFS(tblDisponibilidad[ID de intérprete],J6,tblDisponibilidad[Fecha],D6,tblDisponibilidad[Estado],"No disponible")>0,"NO DISPONIBLE",IF(COUNTIFS(tblDisponibilidad[ID de intérprete],J6,tblDisponibilidad[Fecha],D6,tblDisponibilidad[Estado],"Pendiente")>0,"PENDIENTE",IF(COUNTIFS(tblDisponibilidad[ID de intérprete],J6,tblDisponibilidad[Fecha],D6,tblDisponibilidad[Estado],"Disponibilidad parcial")>0,"DISPONIBILIDAD PARCIAL","DISPONIBLE")))))) | M6: =IF(OR(J6="",D6="",E6="",F6=""),"",IF(F6<=E6,"HORARIO NO VÁLIDO",IF(L6<>"DISPONIBILIDAD PARCIAL","",IF(OR(E6<SUMIFS(tblDisponibilidad[Disponible desde],tblDisponibilidad[ID de intérprete],J6,tblDisponibilidad[Fecha],D6),F6>SUMIFS(tblDisponibilidad[Disponible hasta],tblDisponibilidad[ID de intérprete],J6,tblDisponibilidad[Fecha],D6)),"FUERA DE HORARIO","DENTRO DEL HORARIO")))) | N6: =IF(OR(J6="",D6="",E6="",F6="",H6="Cancelada"),"",IF(J6="PERSONAJE SIN ASIGNAR","",IF(SUMPRODUCT((tblEscenas[ID de intérprete]=J6)*(tblEscenas[Fecha propuesta]=D6)*(tblEscenas[Escena]<>B6)*(tblEscenas[Estado de planificación]<>"Cancelada")*(tblEscenas[Hora inicio]<F6)*(tblEscenas[Hora fin]>E6))>0,"SOLAPE",""))) | O6: =IF(COUNTA(A6:I6)=0,"",IF(OR(A6="",B6="",D6="",E6="",F6="",I6=""),"INCOMPLETO",IF(J6="PERSONAJE SIN ASIGNAR","PERSONAJE SIN ASIGNAR",IF(M6="HORARIO NO VÁLIDO","INCOMPLETO",IF(L6="NO DISPONIBLE","NO DISPONIBLE",IF(M6="FUERA DE HORARIO","FUERA DE HORARIO",IF(N6="SOLAPE","SOLAPE",IF(L6="PENDIENTE","PENDIENTE",IF(L6="SIN REGISTRO","SIN REGISTRO",IF(OR(L6="DISPONIBLE",AND(L6="DISPONIBILIDAD PARCIAL",M6="DENTRO DEL HORARIO")),"OK","INCOMPLETO")))))))))) | Q6: =IF(A6="","",IF(AND(H6="Cancelada",Resumen!$C$6="No"),"No","Sí")) | R6: =IF(OR(B6="",D6="",Q6<>"Sí"),0,IF(COUNTIFS($B$5:B6,B6,$D$5:D6,D6,$Q$5:Q6,"Sí")=1,1,0))
A7: ASG-003 | B7: E-002 | C7: Conversación exterior | D7: 46279 | E7: 0.4375 | F7: 0.5 | G7: Plaza Nube | H7: Propuesta | I7: Inés Prado | J7: =IF(I7="","",IFERROR(INDEX(tblReparto[ID de intérprete],MATCH(I7,tblReparto[Personaje],0)),"PERSONAJE SIN ASIGNAR")) | K7: =IF(I7="","",IFERROR(INDEX(tblReparto[Intérprete],MATCH(I7,tblReparto[Personaje],0)),"PERSONAJE SIN ASIGNAR")) | L7: =IF(OR(J7="",D7=""),"",IF(J7="PERSONAJE SIN ASIGNAR","PERSONAJE SIN ASIGNAR",IF(COUNTIFS(tblDisponibilidad[ID de intérprete],J7,tblDisponibilidad[Fecha],D7)=0,"SIN REGISTRO",IF(COUNTIFS(tblDisponibilidad[ID de intérprete],J7,tblDisponibilidad[Fecha],D7,tblDisponibilidad[Estado],"No disponible")>0,"NO DISPONIBLE",IF(COUNTIFS(tblDisponibilidad[ID de intérprete],J7,tblDisponibilidad[Fecha],D7,tblDisponibilidad[Estado],"Pendiente")>0,"PENDIENTE",IF(COUNTIFS(tblDisponibilidad[ID de intérprete],J7,tblDisponibilidad[Fecha],D7,tblDisponibilidad[Estado],"Disponibilidad parcial")>0,"DISPONIBILIDAD PARCIAL","DISPONIBLE")))))) | M7: =IF(OR(J7="",D7="",E7="",F7=""),"",IF(F7<=E7,"HORARIO NO VÁLIDO",IF(L7<>"DISPONIBILIDAD PARCIAL","",IF(OR(E7<SUMIFS(tblDisponibilidad[Disponible desde],tblDisponibilidad[ID de intérprete],J7,tblDisponibilidad[Fecha],D7),F7>SUMIFS(tblDisponibilidad[Disponible hasta],tblDisponibilidad[ID de intérprete],J7,tblDisponibilidad[Fecha],D7)),"FUERA DE HORARIO","DENTRO DEL HORARIO")))) | N7: =IF(OR(J7="",D7="",E7="",F7="",H7="Cancelada"),"",IF(J7="PERSONAJE SIN ASIGNAR","",IF(SUMPRODUCT((tblEscenas[ID de intérprete]=J7)*(tblEscenas[Fecha propuesta]=D7)*(tblEscenas[Escena]<>B7)*(tblEscenas[Estado de planificación]<>"Cancelada")*(tblEscenas[Hora inicio]<F7)*(tblEscenas[Hora fin]>E7))>0,"SOLAPE",""))) | O7: =IF(COUNTA(A7:I7)=0,"",IF(OR(A7="",B7="",D7="",E7="",F7="",I7=""),"INCOMPLETO",IF(J7="PERSONAJE SIN ASIGNAR","PERSONAJE SIN ASIGNAR",IF(M7="HORARIO NO VÁLIDO","INCOMPLETO",IF(L7="NO DISPONIBLE","NO DISPONIBLE",IF(M7="FUERA DE HORARIO","FUERA DE HORARIO",IF(N7="SOLAPE","SOLAPE",IF(L7="PENDIENTE","PENDIENTE",IF(L7="SIN REGISTRO","SIN REGISTRO",IF(OR(L7="DISPONIBLE",AND(L7="DISPONIBILIDAD PARCIAL",M7="DENTRO DEL HORARIO")),"OK","INCOMPLETO")))))))))) | Q7: =IF(A7="","",IF(AND(H7="Cancelada",Resumen!$C$6="No"),"No","Sí")) | R7: =IF(OR(B7="",D7="",Q7<>"Sí"),0,IF(COUNTIFS($B$5:B7,B7,$D$5:D7,D7,$Q$5:Q7,"Sí")=1,1,0))
A8: ASG-004 | B8: E-003 | C8: Búsqueda en archivo | D8: 46279 | E8: 0.52083333 | F8: 0.60416667 | G8: Archivo Norte | H8: Propuesta | I8: Leo Ferrán | J8: =IF(I8="","",IFERROR(INDEX(tblReparto[ID de intérprete],MATCH(I8,tblReparto[Personaje],0)),"PERSONAJE SIN ASIGNAR")) | K8: =IF(I8="","",IFERROR(INDEX(tblReparto[Intérprete],MATCH(I8,tblReparto[Personaje],0)),"PERSONAJE SIN ASIGNAR")) | L8: =IF(OR(J8="",D8=""),"",IF(J8="PERSONAJE SIN ASIGNAR","PERSONAJE SIN ASIGNAR",IF(COUNTIFS(tblDisponibilidad[ID de intérprete],J8,tblDisponibilidad[Fecha],D8)=0,"SIN REGISTRO",IF(COUNTIFS(tblDisponibilidad[ID de intérprete],J8,tblDisponibilidad[Fecha],D8,tblDisponibilidad[Estado],"No disponible")>0,"NO DISPONIBLE",IF(COUNTIFS(tblDisponibilidad[ID de intérprete],J8,tblDisponibilidad[Fecha],D8,tblDisponibilidad[Estado],"Pendiente")>0,"PENDIENTE",IF(COUNTIFS(tblDisponibilidad[ID de intérprete],J8,tblDisponibilidad[Fecha],D8,tblDisponibilidad[Estado],"Disponibilidad parcial")>0,"DISPONIBILIDAD PARCIAL","DISPONIBLE")))))) | M8: =IF(OR(J8="",D8="",E8="",F8=""),"",IF(F8<=E8,"HORARIO NO VÁLIDO",IF(L8<>"DISPONIBILIDAD PARCIAL","",IF(OR(E8<SUMIFS(tblDisponibilidad[Disponible desde],tblDisponibilidad[ID de intérprete],J8,tblDisponibilidad[Fecha],D8),F8>SUMIFS(tblDisponibilidad[Disponible hasta],tblDisponibilidad[ID de intérprete],J8,tblDisponibilidad[Fecha],D8)),"FUERA DE HORARIO","DENTRO DEL HORARIO")))) | N8: =IF(OR(J8="",D8="",E8="",F8="",H8="Cancelada"),"",IF(J8="PERSONAJE SIN ASIGNAR","",IF(SUMPRODUCT((tblEscenas[ID de intérprete]=J8)*(tblEscenas[Fecha propuesta]=D8)*(tblEscenas[Escena]<>B8)*(tblEscenas[Estado de planificación]<>"Cancelada")*(tblEscenas[Hora inicio]<F8)*(tblEscenas[Hora fin]>E8))>0,"SOLAPE",""))) | O8: =IF(COUNTA(A8:I8)=0,"",IF(OR(A8="",B8="",D8="",E8="",F8="",I8=""),"INCOMPLETO",IF(J8="PERSONAJE SIN ASIGNAR","PERSONAJE SIN ASIGNAR",IF(M8="HORARIO NO VÁLIDO","INCOMPLETO",IF(L8="NO DISPONIBLE","NO DISPONIBLE",IF(M8="FUERA DE HORARIO","FUERA DE HORARIO",IF(N8="SOLAPE","SOLAPE",IF(L8="PENDIENTE","PENDIENTE",IF(L8="SIN REGISTRO","SIN REGISTRO",IF(OR(L8="DISPONIBLE",AND(L8="DISPONIBILIDAD PARCIAL",M8="DENTRO DEL HORARIO")),"OK","INCOMPLETO")))))))))) | Q8: =IF(A8="","",IF(AND(H8="Cancelada",Resumen!$C$6="No"),"No","Sí")) | R8: =IF(OR(B8="",D8="",Q8<>"Sí"),0,IF(COUNTIFS($B$5:B8,B8,$D$5:D8,D8,$Q$5:Q8,"Sí")=1,1,0))
A9: ASG-005 | B9: E-004 | C9: Encuentro en cafetería | D9: 46280 | E9: 0.375 | F9: 0.45833333 | G9: Café Prisma | H9: Propuesta | I9: Alma Ríos | J9: =IF(I9="","",IFERROR(INDEX(tblReparto[ID de intérprete],MATCH(I9,tblReparto[Personaje],0)),"PERSONAJE SIN ASIGNAR")) | K9: =IF(I9="","",IFERROR(INDEX(tblReparto[Intérprete],MATCH(I9,tblReparto[Personaje],0)),"PERSONAJE SIN ASIGNAR")) | L9: =IF(OR(J9="",D9=""),"",IF(J9="PERSONAJE SIN ASIGNAR","PERSONAJE SIN ASIGNAR",IF(COUNTIFS(tblDisponibilidad[ID de intérprete],J9,tblDisponibilidad[Fecha],D9)=0,"SIN REGISTRO",IF(COUNTIFS(tblDisponibilidad[ID de intérprete],J9,tblDisponibilidad[Fecha],D9,tblDisponibilidad[Estado],"No disponible")>0,"NO DISPONIBLE",IF(COUNTIFS(tblDisponibilidad[ID de intérprete],J9,tblDisponibilidad[Fecha],D9,tblDisponibilidad[Estado],"Pendiente")>0,"PENDIENTE",IF(COUNTIFS(tblDisponibilidad[ID de intérprete],J9,tblDisponibilidad[Fecha],D9,tblDisponibilidad[Estado],"Disponibilidad parcial")>0,"DISPONIBILIDAD PARCIAL","DISPONIBLE")))))) | M9: =IF(OR(J9="",D9="",E9="",F9=""),"",IF(F9<=E9,"HORARIO NO VÁLIDO",IF(L9<>"DISPONIBILIDAD PARCIAL","",IF(OR(E9<SUMIFS(tblDisponibilidad[Disponible desde],tblDisponibilidad[ID de intérprete],J9,tblDisponibilidad[Fecha],D9),F9>SUMIFS(tblDisponibilidad[Disponible hasta],tblDisponibilidad[ID de intérprete],J9,tblDisponibilidad[Fecha],D9)),"FUERA DE HORARIO","DENTRO DEL HORARIO")))) | N9: =IF(OR(J9="",D9="",E9="",F9="",H9="Cancelada"),"",IF(J9="PERSONAJE SIN ASIGNAR","",IF(SUMPRODUCT((tblEscenas[ID de intérprete]=J9)*(tblEscenas[Fecha propuesta]=D9)*(tblEscenas[Escena]<>B9)*(tblEscenas[Estado de planificación]<>"Cancelada")*(tblEscenas[Hora inicio]<F9)*(tblEscenas[Hora fin]>E9))>0,"SOLAPE",""))) | O9: =IF(COUNTA(A9:I9)=0,"",IF(OR(A9="",B9="",D9="",E9="",F9="",I9=""),"INCOMPLETO",IF(J9="PERSONAJE SIN ASIGNAR","PERSONAJE SIN ASIGNAR",IF(M9="HORARIO NO VÁLIDO","INCOMPLETO",IF(L9="NO DISPONIBLE","NO DISPONIBLE",IF(M9="FUERA DE HORARIO","FUERA DE HORARIO",IF(N9="SOLAPE","SOLAPE",IF(L9="PENDIENTE","PENDIENTE",IF(L9="SIN REGISTRO","SIN REGISTRO",IF(OR(L9="DISPONIBLE",AND(L9="DISPONIBILIDAD PARCIAL",M9="DENTRO DEL HORARIO")),"OK","INCOMPLETO")))))))))) | Q9: =IF(A9="","",IF(AND(H9="Cancelada",Resumen!$C$6="No"),"No","Sí")) | R9: =IF(OR(B9="",D9="",Q9<>"Sí"),0,IF(COUNTIFS($B$5:B9,B9,$D$5:D9,D9,$Q$5:Q9,"Sí")=1,1,0))
A10: ASG-006 | B10: E-005 | C10: Interrogatorio | D10: 46280 | E10: 0.66666667 | F10: 0.75 | G10: Sala Cobalto | H10: Confirmada | I10: Comisaria Vega | J10: =IF(I10="","",IFERROR(INDEX(tblReparto[ID de intérprete],MATCH(I10,tblReparto[Personaje],0)),"PERSONAJE SIN ASIGNAR")) | K10: =IF(I10="","",IFERROR(INDEX(tblReparto[Intérprete],MATCH(I10,tblReparto[Personaje],0)),"PERSONAJE SIN ASIGNAR")) | L10: =IF(OR(J10="",D10=""),"",IF(J10="PERSONAJE SIN ASIGNAR","PERSONAJE SIN ASIGNAR",IF(COUNTIFS(tblDisponibilidad[ID de intérprete],J10,tblDisponibilidad[Fecha],D10)=0,"SIN REGISTRO",IF(COUNTIFS(tblDisponibilidad[ID de intérprete],J10,tblDisponibilidad[Fecha],D10,tblDisponibilidad[Estado],"No disponible")>0,"NO DISPONIBLE",IF(COUNTIFS(tblDisponibilidad[ID de intérprete],J10,tblDisponibilidad[Fecha],D10,tblDisponibilidad[Estado],"Pendiente")>0,"PENDIENTE",IF(COUNTIFS(tblDisponibilidad[ID de intérprete],J10,tblDisponibilidad[Fecha],D10,tblDisponibilidad[Estado],"Disponibilidad parcial")>0,"DISPONIBILIDAD PARCIAL","DISPONIBLE")))))) | M10: =IF(OR(J10="",D10="",E10="",F10=""),"",IF(F10<=E10,"HORARIO NO VÁLIDO",IF(L10<>"DISPONIBILIDAD PARCIAL","",IF(OR(E10<SUMIFS(tblDisponibilidad[Disponible desde],tblDisponibilidad[ID de intérprete],J10,tblDisponibilidad[Fecha],D10),F10>SUMIFS(tblDisponibilidad[Disponible hasta],tblDisponibilidad[ID de intérprete],J10,tblDisponibilidad[Fecha],D10)),"FUERA DE HORARIO","DENTRO DEL HORARIO")))) | N10: =IF(OR(J10="",D10="",E10="",F10="",H10="Cancelada"),"",IF(J10="PERSONAJE SIN ASIGNAR","",IF(SUMPRODUCT((tblEscenas[ID de intérprete]=J10)*(tblEscenas[Fecha propuesta]=D10)*(tblEscenas[Escena]<>B10)*(tblEscenas[Estado de planificación]<>"Cancelada")*(tblEscenas[Hora inicio]<F10)*(tblEscenas[Hora fin]>E10))>0,"SOLAPE",""))) | O10: =IF(COUNTA(A10:I10)=0,"",IF(OR(A10="",B10="",D10="",E10="",F10="",I10=""),"INCOMPLETO",IF(J10="PERSONAJE SIN ASIGNAR","PERSONAJE SIN ASIGNAR",IF(M10="HORARIO NO VÁLIDO","INCOMPLETO",IF(L10="NO DISPONIBLE","NO DISPONIBLE",IF(M10="FUERA DE HORARIO","FUERA DE HORARIO",IF(N10="SOLAPE","SOLAPE",IF(L10="PENDIENTE","PENDIENTE",IF(L10="SIN REGISTRO","SIN REGISTRO",IF(OR(L10="DISPONIBLE",AND(L10="DISPONIBILIDAD PARCIAL",M10="DENTRO DEL HORARIO")),"OK","INCOMPLETO")))))))))) | Q10: =IF(A10="","",IF(AND(H10="Cancelada",Resumen!$C$6="No"),"No","Sí")) | R10: =IF(OR(B10="",D10="",Q10<>"Sí"),0,IF(COUNTIFS($B$5:B10,B10,$D$5:D10,D10,$Q$5:Q10,"Sí")=1,1,0))
A11: ASG-007 | B11: E-006 | C11: Llamada desde el pasillo | D11: 46280 | E11: 0.6875 | F11: 0.72916667 | G11: Pasillo Cobalto | H11: Propuesta | I11: Comisaria Vega | J11: =IF(I11="","",IFERROR(INDEX(tblReparto[ID de intérprete],MATCH(I11,tblReparto[Personaje],0)),"PERSONAJE SIN ASIGNAR")) | K11: =IF(I11="","",IFERROR(INDEX(tblReparto[Intérprete],MATCH(I11,tblReparto[Personaje],0)),"PERSONAJE SIN ASIGNAR")) | L11: =IF(OR(J11="",D11=""),"",IF(J11="PERSONAJE SIN ASIGNAR","PERSONAJE SIN ASIGNAR",IF(COUNTIFS(tblDisponibilidad[ID de intérprete],J11,tblDisponibilidad[Fecha],D11)=0,"SIN REGISTRO",IF(COUNTIFS(tblDisponibilidad[ID de intérprete],J11,tblDisponibilidad[Fecha],D11,tblDisponibilidad[Estado],"No disponible")>0,"NO DISPONIBLE",IF(COUNTIFS(tblDisponibilidad[ID de intérprete],J11,tblDisponibilidad[Fecha],D11,tblDisponibilidad[Estado],"Pendiente")>0,"PENDIENTE",IF(COUNTIFS(tblDisponibilidad[ID de intérprete],J11,tblDisponibilidad[Fecha],D11,tblDisponibilidad[Estado],"Disponibilidad parcial")>0,"DISPONIBILIDAD PARCIAL","DISPONIBLE")))))) | M11: =IF(OR(J11="",D11="",E11="",F11=""),"",IF(F11<=E11,"HORARIO NO VÁLIDO",IF(L11<>"DISPONIBILIDAD PARCIAL","",IF(OR(E11<SUMIFS(tblDisponibilidad[Disponible desde],tblDisponibilidad[ID de intérprete],J11,tblDisponibilidad[Fecha],D11),F11>SUMIFS(tblDisponibilidad[Disponible hasta],tblDisponibilidad[ID de intérprete],J11,tblDisponibilidad[Fecha],D11)),"FUERA DE HORARIO","DENTRO DEL HORARIO")))) | N11: =IF(OR(J11="",D11="",E11="",F11="",H11="Cancelada"),"",IF(J11="PERSONAJE SIN ASIGNAR","",IF(SUMPRODUCT((tblEscenas[ID de intérprete]=J11)*(tblEscenas[Fecha propuesta]=D11)*(tblEscenas[Escena]<>B11)*(tblEscenas[Estado de planificación]<>"Cancelada")*(tblEscenas[Hora inicio]<F11)*(tblEscenas[Hora fin]>E11))>0,"SOLAPE",""))) | O11: =IF(COUNTA(A11:I11)=0,"",IF(OR(A11="",B11="",D11="",E11="",F11="",I11=""),"INCOMPLETO",IF(J11="PERSONAJE SIN ASIGNAR","PERSONAJE SIN ASIGNAR",IF(M11="HORARIO NO VÁLIDO","INCOMPLETO",IF(L11="NO DISPONIBLE","NO DISPONIBLE",IF(M11="FUERA DE HORARIO","FUERA DE HORARIO",IF(N11="SOLAPE","SOLAPE",IF(L11="PENDIENTE","PENDIENTE",IF(L11="SIN REGISTRO","SIN REGISTRO",IF(OR(L11="DISPONIBLE",AND(L11="DISPONIBILIDAD PARCIAL",M11="DENTRO DEL HORARIO")),"OK","INCOMPLETO")))))))))) | Q11: =IF(A11="","",IF(AND(H11="Cancelada",Resumen!$C$6="No"),"No","Sí")) | R11: =IF(OR(B11="",D11="",Q11<>"Sí"),0,IF(COUNTIFS($B$5:B11,B11,$D$5:D11,D11,$Q$5:Q11,"Sí")=1,1,0))
A12: ASG-008 | B12: E-007 | C12: Salida nocturna | D12: 46280 | E12: 0.79166667 | F12: 0.85416667 | G12: Calle Lucerna | H12: Propuesta | I12: Nico Soler | J12: =IF(I12="","",IFERROR(INDEX(tblReparto[ID de intérprete],MATCH(I12,tblReparto[Personaje],0)),"PERSONAJE SIN ASIGNAR")) | K12: =IF(I12="","",IFERROR(INDEX(tblReparto[Intérprete],MATCH(I12,tblReparto[Personaje],0)),"PERSONAJE SIN ASIGNAR")) | L12: =IF(OR(J12="",D12=""),"",IF(J12="PERSONAJE SIN ASIGNAR","PERSONAJE SIN ASIGNAR",IF(COUNTIFS(tblDisponibilidad[ID de intérprete],J12,tblDisponibilidad[Fecha],D12)=0,"SIN REGISTRO",IF(COUNTIFS(tblDisponibilidad[ID de intérprete],J12,tblDisponibilidad[Fecha],D12,tblDisponibilidad[Estado],"No disponible")>0,"NO DISPONIBLE",IF(COUNTIFS(tblDisponibilidad[ID de intérprete],J12,tblDisponibilidad[Fecha],D12,tblDisponibilidad[Estado],"Pendiente")>0,"PENDIENTE",IF(COUNTIFS(tblDisponibilidad[ID de intérprete],J12,tblDisponibilidad[Fecha],D12,tblDisponibilidad[Estado],"Disponibilidad parcial")>0,"DISPONIBILIDAD PARCIAL","DISPONIBLE")))))) | M12: =IF(OR(J12="",D12="",E12="",F12=""),"",IF(F12<=E12,"HORARIO NO VÁLIDO",IF(L12<>"DISPONIBILIDAD PARCIAL","",IF(OR(E12<SUMIFS(tblDisponibilidad[Disponible desde],tblDisponibilidad[ID de intérprete],J12,tblDisponibilidad[Fecha],D12),F12>SUMIFS(tblDisponibilidad[Disponible hasta],tblDisponibilidad[ID de intérprete],J12,tblDisponibilidad[Fecha],D12)),"FUERA DE HORARIO","DENTRO DEL HORARIO")))) | N12: =IF(OR(J12="",D12="",E12="",F12="",H12="Cancelada"),"",IF(J12="PERSONAJE SIN ASIGNAR","",IF(SUMPRODUCT((tblEscenas[ID de intérprete]=J12)*(tblEscenas[Fecha propuesta]=D12)*(tblEscenas[Escena]<>B12)*(tblEscenas[Estado de planificación]<>"Cancelada")*(tblEscenas[Hora inicio]<F12)*(tblEscenas[Hora fin]>E12))>0,"SOLAPE",""))) | O12: =IF(COUNTA(A12:I12)=0,"",IF(OR(A12="",B12="",D12="",E12="",F12="",I12=""),"INCOMPLETO",IF(J12="PERSONAJE SIN ASIGNAR","PERSONAJE SIN ASIGNAR",IF(M12="HORARIO NO VÁLIDO","INCOMPLETO",IF(L12="NO DISPONIBLE","NO DISPONIBLE",IF(M12="FUERA DE HORARIO","FUERA DE HORARIO",IF(N12="SOLAPE","SOLAPE",IF(L12="PENDIENTE","PENDIENTE",IF(L12="SIN REGISTRO","SIN REGISTRO",IF(OR(L12="DISPONIBLE",AND(L12="DISPONIBILIDAD PARCIAL",M12="DENTRO DEL HORARIO")),"OK","INCOMPLETO")))))))))) | Q12: =IF(A12="","",IF(AND(H12="Cancelada",Resumen!$C$6="No"),"No","Sí")) | R12: =IF(OR(B12="",D12="",Q12<>"Sí"),0,IF(COUNTIFS($B$5:B12,B12,$D$5:D12,D12,$Q$5:Q12,"Sí")=1,1,0))
A13: ASG-009 | B13: E-008 | C13: Discusión en el coche | D13: 46280 | E13: 0.5 | F13: 0.54166667 | G13: Vehículo de escena | H13: Propuesta | I13: Leo Ferrán | J13: =IF(I13="","",IFERROR(INDEX(tblReparto[ID de intérprete],MATCH(I13,tblReparto[Personaje],0)),"PERSONAJE SIN ASIGNAR")) | K13: =IF(I13="","",IFERROR(INDEX(tblReparto[Intérprete],MATCH(I13,tblReparto[Personaje],0)),"PERSONAJE SIN ASIGNAR")) | L13: =IF(OR(J13="",D13=""),"",IF(J13="PERSONAJE SIN ASIGNAR","PERSONAJE SIN ASIGNAR",IF(COUNTIFS(tblDisponibilidad[ID de intérprete],J13,tblDisponibilidad[Fecha],D13)=0,"SIN REGISTRO",IF(COUNTIFS(tblDisponibilidad[ID de intérprete],J13,tblDisponibilidad[Fecha],D13,tblDisponibilidad[Estado],"No disponible")>0,"NO DISPONIBLE",IF(COUNTIFS(tblDisponibilidad[ID de intérprete],J13,tblDisponibilidad[Fecha],D13,tblDisponibilidad[Estado],"Pendiente")>0,"PENDIENTE",IF(COUNTIFS(tblDisponibilidad[ID de intérprete],J13,tblDisponibilidad[Fecha],D13,tblDisponibilidad[Estado],"Disponibilidad parcial")>0,"DISPONIBILIDAD PARCIAL","DISPONIBLE")))))) | M13: =IF(OR(J13="",D13="",E13="",F13=""),"",IF(F13<=E13,"HORARIO NO VÁLIDO",IF(L13<>"DISPONIBILIDAD PARCIAL","",IF(OR(E13<SUMIFS(tblDisponibilidad[Disponible desde],tblDisponibilidad[ID de intérprete],J13,tblDisponibilidad[Fecha],D13),F13>SUMIFS(tblDisponibilidad[Disponible hasta],tblDisponibilidad[ID de intérprete],J13,tblDisponibilidad[Fecha],D13)),"FUERA DE HORARIO","DENTRO DEL HORARIO")))) | N13: =IF(OR(J13="",D13="",E13="",F13="",H13="Cancelada"),"",IF(J13="PERSONAJE SIN ASIGNAR","",IF(SUMPRODUCT((tblEscenas[ID de intérprete]=J13)*(tblEscenas[Fecha propuesta]=D13)*(tblEscenas[Escena]<>B13)*(tblEscenas[Estado de planificación]<>"Cancelada")*(tblEscenas[Hora inicio]<F13)*(tblEscenas[Hora fin]>E13))>0,"SOLAPE",""))) | O13: =IF(COUNTA(A13:I13)=0,"",IF(OR(A13="",B13="",D13="",E13="",F13="",I13=""),"INCOMPLETO",IF(J13="PERSONAJE SIN ASIGNAR","PERSONAJE SIN ASIGNAR",IF(M13="HORARIO NO VÁLIDO","INCOMPLETO",IF(L13="NO DISPONIBLE","NO DISPONIBLE",IF(M13="FUERA DE HORARIO","FUERA DE HORARIO",IF(N13="SOLAPE","SOLAPE",IF(L13="PENDIENTE","PENDIENTE",IF(L13="SIN REGISTRO","SIN REGISTRO",IF(OR(L13="DISPONIBLE",AND(L13="DISPONIBILIDAD PARCIAL",M13="DENTRO DEL HORARIO")),"OK","INCOMPLETO")))))))))) | Q13: =IF(A13="","",IF(AND(H13="Cancelada",Resumen!$C$6="No"),"No","Sí")) | R13: =IF(OR(B13="",D13="",Q13<>"Sí"),0,IF(COUNTIFS($B$5:B13,B13,$D$5:D13,D13,$Q$5:Q13,"Sí")=1,1,0))
A14: ASG-010 | B14: E-009 | C14: Entrega del sobre | D14: 46281 | E14: 0.45833333 | F14: 0.5 | G14: Portal Ámbar | H14: Propuesta | I14: Personaje sin reparto | J14: =IF(I14="","",IFERROR(INDEX(tblReparto[ID de intérprete],MATCH(I14,tblReparto[Personaje],0)),"PERSONAJE SIN ASIGNAR")) | K14: =IF(I14="","",IFERROR(INDEX(tblReparto[Intérprete],MATCH(I14,tblReparto[Personaje],0)),"PERSONAJE SIN ASIGNAR")) | L14: =IF(OR(J14="",D14=""),"",IF(J14="PERSONAJE SIN ASIGNAR","PERSONAJE SIN ASIGNAR",IF(COUNTIFS(tblDisponibilidad[ID de intérprete],J14,tblDisponibilidad[Fecha],D14)=0,"SIN REGISTRO",IF(COUNTIFS(tblDisponibilidad[ID de intérprete],J14,tblDisponibilidad[Fecha],D14,tblDisponibilidad[Estado],"No disponible")>0,"NO DISPONIBLE",IF(COUNTIFS(tblDisponibilidad[ID de intérprete],J14,tblDisponibilidad[Fecha],D14,tblDisponibilidad[Estado],"Pendiente")>0,"PENDIENTE",IF(COUNTIFS(tblDisponibilidad[ID de intérprete],J14,tblDisponibilidad[Fecha],D14,tblDisponibilidad[Estado],"Disponibilidad parcial")>0,"DISPONIBILIDAD PARCIAL","DISPONIBLE")))))) | M14: =IF(OR(J14="",D14="",E14="",F14=""),"",IF(F14<=E14,"HORARIO NO VÁLIDO",IF(L14<>"DISPONIBILIDAD PARCIAL","",IF(OR(E14<SUMIFS(tblDisponibilidad[Disponible desde],tblDisponibilidad[ID de intérprete],J14,tblDisponibilidad[Fecha],D14),F14>SUMIFS(tblDisponibilidad[Disponible hasta],tblDisponibilidad[ID de intérprete],J14,tblDisponibilidad[Fecha],D14)),"FUERA DE HORARIO","DENTRO DEL HORARIO")))) | N14: =IF(OR(J14="",D14="",E14="",F14="",H14="Cancelada"),"",IF(J14="PERSONAJE SIN ASIGNAR","",IF(SUMPRODUCT((tblEscenas[ID de intérprete]=J14)*(tblEscenas[Fecha propuesta]=D14)*(tblEscenas[Escena]<>B14)*(tblEscenas[Estado de planificación]<>"Cancelada")*(tblEscenas[Hora inicio]<F14)*(tblEscenas[Hora fin]>E14))>0,"SOLAPE",""))) | O14: =IF(COUNTA(A14:I14)=0,"",IF(OR(A14="",B14="",D14="",E14="",F14="",I14=""),"INCOMPLETO",IF(J14="PERSONAJE SIN ASIGNAR","PERSONAJE SIN ASIGNAR",IF(M14="HORARIO NO VÁLIDO","INCOMPLETO",IF(L14="NO DISPONIBLE","NO DISPONIBLE",IF(M14="FUERA DE HORARIO","FUERA DE HORARIO",IF(N14="SOLAPE","SOLAPE",IF(L14="PENDIENTE","PENDIENTE",IF(L14="SIN REGISTRO","SIN REGISTRO",IF(OR(L14="DISPONIBLE",AND(L14="DISPONIBILIDAD PARCIAL",M14="DENTRO DEL HORARIO")),"OK","INCOMPLETO")))))))))) | Q14: =IF(A14="","",IF(AND(H14="Cancelada",Resumen!$C$6="No"),"No","Sí")) | R14: =IF(OR(B14="",D14="",Q14<>"Sí"),0,IF(COUNTIFS($B$5:B14,B14,$D$5:D14,D14,$Q$5:Q14,"Sí")=1,1,0))
J15: =IF(I15="","",IFERROR(INDEX(tblReparto[ID de intérprete],MATCH(I15,tblReparto[Personaje],0)),"PERSONAJE SIN ASIGNAR")) | K15: =IF(I15="","",IFERROR(INDEX(tblReparto[Intérprete],MATCH(I15,tblReparto[Personaje],0)),"PERSONAJE SIN ASIGNAR")) | L15: =IF(OR(J15="",D15=""),"",IF(J15="PERSONAJE SIN ASIGNAR","PERSONAJE SIN ASIGNAR",IF(COUNTIFS(tblDisponibilidad[ID de intérprete],J15,tblDisponibilidad[Fecha],D15)=0,"SIN REGISTRO",IF(COUNTIFS(tblDisponibilidad[ID de intérprete],J15,tblDisponibilidad[Fecha],D15,tblDisponibilidad[Estado],"No disponible")>0,"NO DISPONIBLE",IF(COUNTIFS(tblDisponibilidad[ID de intérprete],J15,tblDisponibilidad[Fecha],D15,tblDisponibilidad[Estado],"Pendiente")>0,"PENDIENTE",IF(COUNTIFS(tblDisponibilidad[ID de intérprete],J15,tblDisponibilidad[Fecha],D15,tblDisponibilidad[Estado],"Disponibilidad parcial")>0,"DISPONIBILIDAD PARCIAL","DISPONIBLE")))))) | M15: =IF(OR(J15="",D15="",E15="",F15=""),"",IF(F15<=E15,"HORARIO NO VÁLIDO",IF(L15<>"DISPONIBILIDAD PARCIAL","",IF(OR(E15<SUMIFS(tblDisponibilidad[Disponible desde],tblDisponibilidad[ID de intérprete],J15,tblDisponibilidad[Fecha],D15),F15>SUMIFS(tblDisponibilidad[Disponible hasta],tblDisponibilidad[ID de intérprete],J15,tblDisponibilidad[Fecha],D15)),"FUERA DE HORARIO","DENTRO DEL HORARIO")))) | N15: =IF(OR(J15="",D15="",E15="",F15="",H15="Cancelada"),"",IF(J15="PERSONAJE SIN ASIGNAR","",IF(SUMPRODUCT((tblEscenas[ID de intérprete]=J15)*(tblEscenas[Fecha propuesta]=D15)*(tblEscenas[Escena]<>B15)*(tblEscenas[Estado de planificación]<>"Cancelada")*(tblEscenas[Hora inicio]<F15)*(tblEscenas[Hora fin]>E15))>0,"SOLAPE",""))) | O15: =IF(COUNTA(A15:I15)=0,"",IF(OR(A15="",B15="",D15="",E15="",F15="",I15=""),"INCOMPLETO",IF(J15="PERSONAJE SIN ASIGNAR","PERSONAJE SIN ASIGNAR",IF(M15="HORARIO NO VÁLIDO","INCOMPLETO",IF(L15="NO DISPONIBLE","NO DISPONIBLE",IF(M15="FUERA DE HORARIO","FUERA DE HORARIO",IF(N15="SOLAPE","SOLAPE",IF(L15="PENDIENTE","PENDIENTE",IF(L15="SIN REGISTRO","SIN REGISTRO",IF(OR(L15="DISPONIBLE",AND(L15="DISPONIBILIDAD PARCIAL",M15="DENTRO DEL HORARIO")),"OK","INCOMPLETO")))))))))) | Q15: =IF(A15="","",IF(AND(H15="Cancelada",Resumen!$C$6="No"),"No","Sí")) | R15: =IF(OR(B15="",D15="",Q15<>"Sí"),0,IF(COUNTIFS($B$5:B15,B15,$D$5:D15,D15,$Q$5:Q15,"Sí")=1,1,0))
J16: =IF(I16="","",IFERROR(INDEX(tblReparto[ID de intérprete],MATCH(I16,tblReparto[Personaje],0)),"PERSONAJE SIN ASIGNAR")) | K16: =IF(I16="","",IFERROR(INDEX(tblReparto[Intérprete],MATCH(I16,tblReparto[Personaje],0)),"PERSONAJE SIN ASIGNAR")) | L16: =IF(OR(J16="",D16=""),"",IF(J16="PERSONAJE SIN ASIGNAR","PERSONAJE SIN ASIGNAR",IF(COUNTIFS(tblDisponibilidad[ID de intérprete],J16,tblDisponibilidad[Fecha],D16)=0,"SIN REGISTRO",IF(COUNTIFS(tblDisponibilidad[ID de intérprete],J16,tblDisponibilidad[Fecha],D16,tblDisponibilidad[Estado],"No disponible")>0,"NO DISPONIBLE",IF(COUNTIFS(tblDisponibilidad[ID de intérprete],J16,tblDisponibilidad[Fecha],D16,tblDisponibilidad[Estado],"Pendiente")>0,"PENDIENTE",IF(COUNTIFS(tblDisponibilidad[ID de intérprete],J16,tblDisponibilidad[Fecha],D16,tblDisponibilidad[Estado],"Disponibilidad parcial")>0,"DISPONIBILIDAD PARCIAL","DISPONIBLE")))))) | M16: =IF(OR(J16="",D16="",E16="",F16=""),"",IF(F16<=E16,"HORARIO NO VÁLIDO",IF(L16<>"DISPONIBILIDAD PARCIAL","",IF(OR(E16<SUMIFS(tblDisponibilidad[Disponible desde],tblDisponibilidad[ID de intérprete],J16,tblDisponibilidad[Fecha],D16),F16>SUMIFS(tblDisponibilidad[Disponible hasta],tblDisponibilidad[ID de intérprete],J16,tblDisponibilidad[Fecha],D16)),"FUERA DE HORARIO","DENTRO DEL HORARIO")))) | N16: =IF(OR(J16="",D16="",E16="",F16="",H16="Cancelada"),"",IF(J16="PERSONAJE SIN ASIGNAR","",IF(SUMPRODUCT((tblEscenas[ID de intérprete]=J16)*(tblEscenas[Fecha propuesta]=D16)*(tblEscenas[Escena]<>B16)*(tblEscenas[Estado de planificación]<>"Cancelada")*(tblEscenas[Hora inicio]<F16)*(tblEscenas[Hora fin]>E16))>0,"SOLAPE",""))) | O16: =IF(COUNTA(A16:I16)=0,"",IF(OR(A16="",B16="",D16="",E16="",F16="",I16=""),"INCOMPLETO",IF(J16="PERSONAJE SIN ASIGNAR","PERSONAJE SIN ASIGNAR",IF(M16="HORARIO NO VÁLIDO","INCOMPLETO",IF(L16="NO DISPONIBLE","NO DISPONIBLE",IF(M16="FUERA DE HORARIO","FUERA DE HORARIO",IF(N16="SOLAPE","SOLAPE",IF(L16="PENDIENTE","PENDIENTE",IF(L16="SIN REGISTRO","SIN REGISTRO",IF(OR(L16="DISPONIBLE",AND(L16="DISPONIBILIDAD PARCIAL",M16="DENTRO DEL HORARIO")),"OK","INCOMPLETO")))))))))) | Q16: =IF(A16="","",IF(AND(H16="Cancelada",Resumen!$C$6="No"),"No","Sí")) | R16: =IF(OR(B16="",D16="",Q16<>"Sí"),0,IF(COUNTIFS($B$5:B16,B16,$D$5:D16,D16,$Q$5:Q16,"Sí")=1,1,0))
