Workbook

Sheet Resumen
A1: PARTE DIARIO DE RODAJE
A3: Jornada seleccionada | B3: JOR-001 | J3: Estado | K3: Número | M3: Área | N3: Horas netas
J4: Completada | K4: =IF($B$3="","",COUNTIFS(Escenas!$A$5:$A$104,$B$3,Escenas!$E$5:$E$104,J4)) | M4: Producción | N4: =IF($B$3="","",SUMIFS(Personal!$J$5:$J$104,Personal!$A$5:$A$104,$B$3,Personal!$C$5:$C$104,M4))
A5: Fecha | B5: =IF($B$3="","",IFERROR(INDEX(Jornadas!$B$5:$B$104,MATCH($B$3,Jornadas!$A$5:$A$104,0)),"")) | D5: Proyecto | E5: =IF($B$3="","",IFERROR(INDEX(Jornadas!$D$5:$D$104,MATCH($B$3,Jornadas!$A$5:$A$104,0)),"")) | J5: Parcial | K5: =IF($B$3="","",COUNTIFS(Escenas!$A$5:$A$104,$B$3,Escenas!$E$5:$E$104,J5)) | M5: Dirección | N5: =IF($B$3="","",SUMIFS(Personal!$J$5:$J$104,Personal!$A$5:$A$104,$B$3,Personal!$C$5:$C$104,M5))
A6: Producción | B6: =IF($B$3="","",IFERROR(INDEX(Jornadas!$C$5:$C$104,MATCH($B$3,Jornadas!$A$5:$A$104,0)),"")) | D6: Unidad | E6: =IF($B$3="","",IFERROR(INDEX(Jornadas!$E$5:$E$104,MATCH($B$3,Jornadas!$A$5:$A$104,0)),"")) | J6: No rodada | K6: =IF($B$3="","",COUNTIFS(Escenas!$A$5:$A$104,$B$3,Escenas!$E$5:$E$104,J6)) | M6: Fotografía | N6: =IF($B$3="","",SUMIFS(Personal!$J$5:$J$104,Personal!$A$5:$A$104,$B$3,Personal!$C$5:$C$104,M6))
A7: Localización principal | B7: =IF($B$3="","",IFERROR(INDEX(Jornadas!$F$5:$F$104,MATCH($B$3,Jornadas!$A$5:$A$104,0)),"")) | D7: Estado del parte | E7: =IF($B$3="","",IFERROR(INDEX(Jornadas!$Q$5:$Q$104,MATCH($B$3,Jornadas!$A$5:$A$104,0)),"")) | J7: Añadida | K7: =IF($B$3="","",COUNTIFS(Escenas!$A$5:$A$104,$B$3,Escenas!$E$5:$E$104,J7)) | M7: Sonido | N7: =IF($B$3="","",SUMIFS(Personal!$J$5:$J$104,Personal!$A$5:$A$104,$B$3,Personal!$C$5:$C$104,M7))
M8: Arte | N8: =IF($B$3="","",SUMIFS(Personal!$J$5:$J$104,Personal!$A$5:$A$104,$B$3,Personal!$C$5:$C$104,M8))
M9: Vestuario y maquillaje | N9: =IF($B$3="","",SUMIFS(Personal!$J$5:$J$104,Personal!$A$5:$A$104,$B$3,Personal!$C$5:$C$104,M9))
A10: Horas netas de jornada | C10: Pausas | E10: Escenas completadas | G10: Avance de páginas | M10: Interpretación | N10: =IF($B$3="","",SUMIFS(Personal!$J$5:$J$104,Personal!$A$5:$A$104,$B$3,Personal!$C$5:$C$104,M10))
A11: =IF($B$3="","",IFERROR(INDEX(Jornadas!$M$5:$M$104,MATCH($B$3,Jornadas!$A$5:$A$104,0)),"")) | C11: =IF($B$3="","",SUMIFS(Incidencias!$F$5:$F$104,Incidencias!$A$5:$A$104,$B$3,Incidencias!$C$5:$C$104,"Pausa")/60) | E11: =IF($B$3="","",COUNTIFS(Escenas!$A$5:$A$104,$B$3,Escenas!$E$5:$E$104,"Completada")) | G11: =IF($B$3="","",IFERROR(SUMIFS(Escenas!$H$5:$H$104,Escenas!$A$5:$A$104,$B$3)/SUMIFS(Escenas!$G$5:$G$104,Escenas!$A$5:$A$104,$B$3),0))
A13: Personas registradas | C13: Horas de personal | E13: Incidencias con impacto | G13: Incidencias abiertas
A14: =IF($B$3="","",COUNTIF(Personal!$A$5:$A$104,$B$3)) | C14: =IF($B$3="","",SUMIFS(Personal!$J$5:$J$104,Personal!$A$5:$A$104,$B$3)) | E14: =IF($B$3="","",COUNTIFS(Incidencias!$A$5:$A$104,$B$3,Incidencias!$C$5:$C$104,"<>Pausa",Incidencias!$G$5:$G$104,"<>Sin impacto")) | G14: =IF($B$3="","",COUNTIFS(Incidencias!$A$5:$A$104,$B$3,Incidencias!$J$5:$J$104,"Abierta"))
A17: Concepto | B17: Previsto | C17: Real | D17: Diferencia
A18: Duración de jornada | B18: =IF($B$3="","",IFERROR(INDEX(Jornadas!$J$5:$J$104,MATCH($B$3,Jornadas!$A$5:$A$104,0)),"")) | C18: =IF($B$3="","",IFERROR(INDEX(Jornadas!$M$5:$M$104,MATCH($B$3,Jornadas!$A$5:$A$104,0)),"")) | D18: =IF(OR(B18="",C18=""),"",C18-B18)
A19: Escenas | B19: =IF($B$3="","",COUNTIFS(Escenas!$A$5:$A$104,$B$3,Escenas!$F$5:$F$104,"Sí")) | C19: =IF($B$3="","",COUNTIFS(Escenas!$A$5:$A$104,$B$3,Escenas!$E$5:$E$104,"Completada")) | D19: =IF(OR(B19="",C19=""),"",C19-B19)
A20: Páginas | B20: =IF($B$3="","",SUMIFS(Escenas!$G$5:$G$104,Escenas!$A$5:$A$104,$B$3)) | C20: =IF($B$3="","",SUMIFS(Escenas!$H$5:$H$104,Escenas!$A$5:$A$104,$B$3)) | D20: =IF(OR(B20="",C20=""),"",C20-B20)
A41: COMPROBACIONES DE REVISIÓN
A42: =IF($B$3="","Pendiente: selecciona una jornada",IF(COUNTIF(Jornadas!$A$5:$A$104,$B$3)=1,"Correcto","Revisar: ID inexistente o duplicado"))
A43: =IF($B$3="","",IFERROR(IF(OR(INDEX(Jornadas!$K$5:$K$104,MATCH($B$3,Jornadas!$A$5:$A$104,0))="",INDEX(Jornadas!$L$5:$L$104,MATCH($B$3,Jornadas!$A$5:$A$104,0))=""),"Revisar: falta inicio o fin real","Correcto"),"Revisar: jornada inexistente"))
A44: =IF($B$3="","",IF(COUNTIFS(Escenas!$A$5:$A$104,$B$3,Escenas!$E$5:$E$104,"")>0,"Revisar: hay escenas sin estado","Correcto"))
A45: =IF($B$3="","",IF(COUNTIFS(Personal!$A$5:$A$104,$B$3,Personal!$K$5:$K$104,"Revisar*")>0,"Revisar: hay registros de personal incompletos","Correcto"))
A46: =IF($B$3="","",IF(COUNTIFS(Incidencias!$A$5:$A$104,$B$3,Incidencias!$J$5:$J$104,"Abierta")>0,"Revisar: quedan incidencias abiertas","Correcto"))

Sheet Jornadas
A1: JORNADAS DE RODAJE
A2: Una fila por jornada. Los totales de pausas, escenas y páginas se calculan desde las hojas relacionadas.
A4: ID jornada | B4: Fecha | C4: Producción | D4: Proyecto | E4: Unidad | F4: Localización principal | G4: Convocatoria prevista | H4: Fin previsto | I4: Pausa prevista (min) | J4: Horas netas previstas | K4: Inicio real | L4: Fin real | M4: Horas netas reales | N4: Pausas reales (min) | O4: Escenas completadas | P4: Páginas rodadas | Q4: Estado del parte | R4: Revisión
A5: JOR-001 | B5: 46270 | C5: Bruma Naranja Producciones | D5: La última farola | E5: Principal | F5: Almacén ficticio Norte | G5: 0.3125 | H5: 0.77083333 | I5: 60 | J5: =IF(OR(G5="",H5=""),"",MAX(0,MOD(H5-G5,1)*24-IF(I5="",0,I5/60))) | K5: 0.32083333 | L5: 0.79513889 | M5: =IF(OR(K5="",L5=""),"",MAX(0,MOD(L5-K5,1)*24-IF(N5="",0,N5/60))) | N5: =IF(A5="","",SUMIFS(Incidencias!$F$5:$F$104,Incidencias!$A$5:$A$104,A5,Incidencias!$C$5:$C$104,"Pausa")) | O5: =IF(A5="","",COUNTIFS(Escenas!$A$5:$A$104,A5,Escenas!$E$5:$E$104,"Completada")) | P5: =IF(A5="","",SUMIFS(Escenas!$H$5:$H$104,Escenas!$A$5:$A$104,A5)) | Q5: Cerrado | R5: =IF(A5="","",IF(COUNTIF($A$5:$A$104,A5)>1,"Revisar: ID duplicado",IF(OR(B5="",D5=""),"Revisar: faltan datos básicos",IF(AND(Q5="Cerrado",OR(K5="",L5="")),"Revisar: cierre sin horario real",IF(AND(K5<>"",L5="",Q5="Cerrado"),"Revisar: falta fin real","Correcto")))))
A6: JOR-002 | B6: 46271 | C6: Bruma Naranja Producciones | D6: La última farola | E6: Principal | F6: Plaza ficticia del Olmo | G6: 0.33333333 | H6: 0.72916667 | I6: 45 | J6: =IF(OR(G6="",H6=""),"",MAX(0,MOD(H6-G6,1)*24-IF(I6="",0,I6/60))) | K6: 0.3375 | L6: 0.74166667 | M6: =IF(OR(K6="",L6=""),"",MAX(0,MOD(L6-K6,1)*24-IF(N6="",0,N6/60))) | N6: =IF(A6="","",SUMIFS(Incidencias!$F$5:$F$104,Incidencias!$A$5:$A$104,A6,Incidencias!$C$5:$C$104,"Pausa")) | O6: =IF(A6="","",COUNTIFS(Escenas!$A$5:$A$104,A6,Escenas!$E$5:$E$104,"Completada")) | P6: =IF(A6="","",SUMIFS(Escenas!$H$5:$H$104,Escenas!$A$5:$A$104,A6)) | Q6: Pendiente de revisión | R6: =IF(A6="","",IF(COUNTIF($A$5:$A$104,A6)>1,"Revisar: ID duplicado",IF(OR(B6="",D6=""),"Revisar: faltan datos básicos",IF(AND(Q6="Cerrado",OR(K6="",L6="")),"Revisar: cierre sin horario real",IF(AND(K6<>"",L6="",Q6="Cerrado"),"Revisar: falta fin real","Correcto")))))
J7: =IF(OR(G7="",H7=""),"",MAX(0,MOD(H7-G7,1)*24-IF(I7="",0,I7/60))) | M7: =IF(OR(K7="",L7=""),"",MAX(0,MOD(L7-K7,1)*24-IF(N7="",0,N7/60))) | N7: =IF(A7="","",SUMIFS(Incidencias!$F$5:$F$104,Incidencias!$A$5:$A$104,A7,Incidencias!$C$5:$C$104,"Pausa")) | O7: =IF(A7="","",COUNTIFS(Escenas!$A$5:$A$104,A7,Escenas!$E$5:$E$104,"Completada")) | P7: =IF(A7="","",SUMIFS(Escenas!$H$5:$H$104,Escenas!$A$5:$A$104,A7)) | R7: =IF(A7="","",IF(COUNTIF($A$5:$A$104,A7)>1,"Revisar: ID duplicado",IF(OR(B7="",D7=""),"Revisar: faltan datos básicos",IF(AND(Q7="Cerrado",OR(K7="",L7="")),"Revisar: cierre sin horario real",IF(AND(K7<>"",L7="",Q7="Cerrado"),"Revisar: falta fin real","Correcto")))))
J8: =IF(OR(G8="",H8=""),"",MAX(0,MOD(H8-G8,1)*24-IF(I8="",0,I8/60))) | M8: =IF(OR(K8="",L8=""),"",MAX(0,MOD(L8-K8,1)*24-IF(N8="",0,N8/60))) | N8: =IF(A8="","",SUMIFS(Incidencias!$F$5:$F$104,Incidencias!$A$5:$A$104,A8,Incidencias!$C$5:$C$104,"Pausa")) | O8: =IF(A8="","",COUNTIFS(Escenas!$A$5:$A$104,A8,Escenas!$E$5:$E$104,"Completada")) | P8: =IF(A8="","",SUMIFS(Escenas!$H$5:$H$104,Escenas!$A$5:$A$104,A8)) | R8: =IF(A8="","",IF(COUNTIF($A$5:$A$104,A8)>1,"Revisar: ID duplicado",IF(OR(B8="",D8=""),"Revisar: faltan datos básicos",IF(AND(Q8="Cerrado",OR(K8="",L8="")),"Revisar: cierre sin horario real",IF(AND(K8<>"",L8="",Q8="Cerrado"),"Revisar: falta fin real","Correcto")))))
J9: =IF(OR(G9="",H9=""),"",MAX(0,MOD(H9-G9,1)*24-IF(I9="",0,I9/60))) | M9: =IF(OR(K9="",L9=""),"",MAX(0,MOD(L9-K9,1)*24-IF(N9="",0,N9/60))) | N9: =IF(A9="","",SUMIFS(Incidencias!$F$5:$F$104,Incidencias!$A$5:$A$104,A9,Incidencias!$C$5:$C$104,"Pausa")) | O9: =IF(A9="","",COUNTIFS(Escenas!$A$5:$A$104,A9,Escenas!$E$5:$E$104,"Completada")) | P9: =IF(A9="","",SUMIFS(Escenas!$H$5:$H$104,Escenas!$A$5:$A$104,A9)) | R9: =IF(A9="","",IF(COUNTIF($A$5:$A$104,A9)>1,"Revisar: ID duplicado",IF(OR(B9="",D9=""),"Revisar: faltan datos básicos",IF(AND(Q9="Cerrado",OR(K9="",L9="")),"Revisar: cierre sin horario real",IF(AND(K9<>"",L9="",Q9="Cerrado"),"Revisar: falta fin real","Correcto")))))
J10: =IF(OR(G10="",H10=""),"",MAX(0,MOD(H10-G10,1)*24-IF(I10="",0,I10/60))) | M10: =IF(OR(K10="",L10=""),"",MAX(0,MOD(L10-K10,1)*24-IF(N10="",0,N10/60))) | N10: =IF(A10="","",SUMIFS(Incidencias!$F$5:$F$104,Incidencias!$A$5:$A$104,A10,Incidencias!$C$5:$C$104,"Pausa")) | O10: =IF(A10="","",COUNTIFS(Escenas!$A$5:$A$104,A10,Escenas!$E$5:$E$104,"Completada")) | P10: =IF(A10="","",SUMIFS(Escenas!$H$5:$H$104,Escenas!$A$5:$A$104,A10)) | R10: =IF(A10="","",IF(COUNTIF($A$5:$A$104,A10)>1,"Revisar: ID duplicado",IF(OR(B10="",D10=""),"Revisar: faltan datos básicos",IF(AND(Q10="Cerrado",OR(K10="",L10="")),"Revisar: cierre sin horario real",IF(AND(K10<>"",L10="",Q10="Cerrado"),"Revisar: falta fin real","Correcto")))))
J11: =IF(OR(G11="",H11=""),"",MAX(0,MOD(H11-G11,1)*24-IF(I11="",0,I11/60))) | M11: =IF(OR(K11="",L11=""),"",MAX(0,MOD(L11-K11,1)*24-IF(N11="",0,N11/60))) | N11: =IF(A11="","",SUMIFS(Incidencias!$F$5:$F$104,Incidencias!$A$5:$A$104,A11,Incidencias!$C$5:$C$104,"Pausa")) | O11: =IF(A11="","",COUNTIFS(Escenas!$A$5:$A$104,A11,Escenas!$E$5:$E$104,"Completada")) | P11: =IF(A11="","",SUMIFS(Escenas!$H$5:$H$104,Escenas!$A$5:$A$104,A11)) | R11: =IF(A11="","",IF(COUNTIF($A$5:$A$104,A11)>1,"Revisar: ID duplicado",IF(OR(B11="",D11=""),"Revisar: faltan datos básicos",IF(AND(Q11="Cerrado",OR(K11="",L11="")),"Revisar: cierre sin horario real",IF(AND(K11<>"",L11="",Q11="Cerrado"),"Revisar: falta fin real","Correcto")))))
J12: =IF(OR(G12="",H12=""),"",MAX(0,MOD(H12-G12,1)*24-IF(I12="",0,I12/60))) | M12: =IF(OR(K12="",L12=""),"",MAX(0,MOD(L12-K12,1)*24-IF(N12="",0,N12/60))) | N12: =IF(A12="","",SUMIFS(Incidencias!$F$5:$F$104,Incidencias!$A$5:$A$104,A12,Incidencias!$C$5:$C$104,"Pausa")) | O12: =IF(A12="","",COUNTIFS(Escenas!$A$5:$A$104,A12,Escenas!$E$5:$E$104,"Completada")) | P12: =IF(A12="","",SUMIFS(Escenas!$H$5:$H$104,Escenas!$A$5:$A$104,A12)) | R12: =IF(A12="","",IF(COUNTIF($A$5:$A$104,A12)>1,"Revisar: ID duplicado",IF(OR(B12="",D12=""),"Revisar: faltan datos básicos",IF(AND(Q12="Cerrado",OR(K12="",L12="")),"Revisar: cierre sin horario real",IF(AND(K12<>"",L12="",Q12="Cerrado"),"Revisar: falta fin real","Correcto")))))
J13: =IF(OR(G13="",H13=""),"",MAX(0,MOD(H13-G13,1)*24-IF(I13="",0,I13/60))) | M13: =IF(OR(K13="",L13=""),"",MAX(0,MOD(L13-K13,1)*24-IF(N13="",0,N13/60))) | N13: =IF(A13="","",SUMIFS(Incidencias!$F$5:$F$104,Incidencias!$A$5:$A$104,A13,Incidencias!$C$5:$C$104,"Pausa")) | O13: =IF(A13="","",COUNTIFS(Escenas!$A$5:$A$104,A13,Escenas!$E$5:$E$104,"Completada")) | P13: =IF(A13="","",SUMIFS(Escenas!$H$5:$H$104,Escenas!$A$5:$A$104,A13)) | R13: =IF(A13="","",IF(COUNTIF($A$5:$A$104,A13)>1,"Revisar: ID duplicado",IF(OR(B13="",D13=""),"Revisar: faltan datos básicos",IF(AND(Q13="Cerrado",OR(K13="",L13="")),"Revisar: cierre sin horario real",IF(AND(K13<>"",L13="",Q13="Cerrado"),"Revisar: falta fin real","Correcto")))))
J14: =IF(OR(G14="",H14=""),"",MAX(0,MOD(H14-G14,1)*24-IF(I14="",0,I14/60))) | M14: =IF(OR(K14="",L14=""),"",MAX(0,MOD(L14-K14,1)*24-IF(N14="",0,N14/60))) | N14: =IF(A14="","",SUMIFS(Incidencias!$F$5:$F$104,Incidencias!$A$5:$A$104,A14,Incidencias!$C$5:$C$104,"Pausa")) | O14: =IF(A14="","",COUNTIFS(Escenas!$A$5:$A$104,A14,Escenas!$E$5:$E$104,"Completada")) | P14: =IF(A14="","",SUMIFS(Escenas!$H$5:$H$104,Escenas!$A$5:$A$104,A14)) | R14: =IF(A14="","",IF(COUNTIF($A$5:$A$104,A14)>1,"Revisar: ID duplicado",IF(OR(B14="",D14=""),"Revisar: faltan datos básicos",IF(AND(Q14="Cerrado",OR(K14="",L14="")),"Revisar: cierre sin horario real",IF(AND(K14<>"",L14="",Q14="Cerrado"),"Revisar: falta fin real","Correcto")))))
J15: =IF(OR(G15="",H15=""),"",MAX(0,MOD(H15-G15,1)*24-IF(I15="",0,I15/60))) | M15: =IF(OR(K15="",L15=""),"",MAX(0,MOD(L15-K15,1)*24-IF(N15="",0,N15/60))) | N15: =IF(A15="","",SUMIFS(Incidencias!$F$5:$F$104,Incidencias!$A$5:$A$104,A15,Incidencias!$C$5:$C$104,"Pausa")) | O15: =IF(A15="","",COUNTIFS(Escenas!$A$5:$A$104,A15,Escenas!$E$5:$E$104,"Completada")) | P15: =IF(A15="","",SUMIFS(Escenas!$H$5:$H$104,Escenas!$A$5:$A$104,A15)) | R15: =IF(A15="","",IF(COUNTIF($A$5:$A$104,A15)>1,"Revisar: ID duplicado",IF(OR(B15="",D15=""),"Revisar: faltan datos básicos",IF(AND(Q15="Cerrado",OR(K15="",L15="")),"Revisar: cierre sin horario real",IF(AND(K15<>"",L15="",Q15="Cerrado"),"Revisar: falta fin real","Correcto")))))
J16: =IF(OR(G16="",H16=""),"",MAX(0,MOD(H16-G16,1)*24-IF(I16="",0,I16/60))) | M16: =IF(OR(K16="",L16=""),"",MAX(0,MOD(L16-K16,1)*24-IF(N16="",0,N16/60))) | N16: =IF(A16="","",SUMIFS(Incidencias!$F$5:$F$104,Incidencias!$A$5:$A$104,A16,Incidencias!$C$5:$C$104,"Pausa")) | O16: =IF(A16="","",COUNTIFS(Escenas!$A$5:$A$104,A16,Escenas!$E$5:$E$104,"Completada")) | P16: =IF(A16="","",SUMIFS(Escenas!$H$5:$H$104,Escenas!$A$5:$A$104,A16)) | R16: =IF(A16="","",IF(COUNTIF($A$5:$A$104,A16)>1,"Revisar: ID duplicado",IF(OR(B16="",D16=""),"Revisar: faltan datos básicos",IF(AND(Q16="Cerrado",OR(K16="",L16="")),"Revisar: cierre sin horario real",IF(AND(K16<>"",L16="",Q16="Cerrado"),"Revisar: falta fin real","Correcto")))))
J17: =IF(OR(G17="",H17=""),"",MAX(0,MOD(H17-G17,1)*24-IF(I17="",0,I17/60))) | M17: =IF(OR(K17="",L17=""),"",MAX(0,MOD(L17-K17,1)*24-IF(N17="",0,N17/60))) | N17: =IF(A17="","",SUMIFS(Incidencias!$F$5:$F$104,Incidencias!$A$5:$A$104,A17,Incidencias!$C$5:$C$104,"Pausa")) | O17: =IF(A17="","",COUNTIFS(Escenas!$A$5:$A$104,A17,Escenas!$E$5:$E$104,"Completada")) | P17: =IF(A17="","",SUMIFS(Escenas!$H$5:$H$104,Escenas!$A$5:$A$104,A17)) | R17: =IF(A17="","",IF(COUNTIF($A$5:$A$104,A17)>1,"Revisar: ID duplicado",IF(OR(B17="",D17=""),"Revisar: faltan datos básicos",IF(AND(Q17="Cerrado",OR(K17="",L17="")),"Revisar: cierre sin horario real",IF(AND(K17<>"",L17="",Q17="Cerrado"),"Revisar: falta fin real","Correcto")))))
J18: =IF(OR(G18="",H18=""),"",MAX(0,MOD(H18-G18,1)*24-IF(I18="",0,I18/60))) | M18: =IF(OR(K18="",L18=""),"",MAX(0,MOD(L18-K18,1)*24-IF(N18="",0,N18/60))) | N18: =IF(A18="","",SUMIFS(Incidencias!$F$5:$F$104,Incidencias!$A$5:$A$104,A18,Incidencias!$C$5:$C$104,"Pausa")) | O18: =IF(A18="","",COUNTIFS(Escenas!$A$5:$A$104,A18,Escenas!$E$5:$E$104,"Completada")) | P18: =IF(A18="","",SUMIFS(Escenas!$H$5:$H$104,Escenas!$A$5:$A$104,A18)) | R18: =IF(A18="","",IF(COUNTIF($A$5:$A$104,A18)>1,"Revisar: ID duplicado",IF(OR(B18="",D18=""),"Revisar: faltan datos básicos",IF(AND(Q18="Cerrado",OR(K18="",L18="")),"Revisar: cierre sin horario real",IF(AND(K18<>"",L18="",Q18="Cerrado"),"Revisar: falta fin real","Correcto")))))
... J104: =IF(OR(G104="",H104=""),"",MAX(0,MOD(H104-G104,1)*24-IF(I104="",0,I104/60))) | M104: =IF(OR(K104="",L104=""),"",MAX(0,MOD(L104-K104,1)*24-IF(N104="",0,N104/60))) | N104: =IF(A104="","",SUMIFS(Incidencias!$F$5:$F$104,Incidencias!$A$5:$A$104,A104,Incidencias!$C$5:$C$104,"Pausa")) | O104: =IF(A104="","",COUNTIFS(Escenas!$A$5:$A$104,A104,Escenas!$E$5:$E$104,"Completada")) | P104: =IF(A104="","",SUMIFS(Escenas!$H$5:$H$104,Escenas!$A$5:$A$104,A104)) | R104: =IF(A104="","",IF(COUNTIF($A$5:$A$104,A104)>1,"Revisar: ID duplicado",IF(OR(B104="",D104=""),"Revisar: faltan datos básicos",IF(AND(Q104="Cerrado",OR(K104="",L104="")),"Revisar: cierre sin horario real",IF(AND(K104<>"",L104="",Q104="Cerrado"),"Revisar: falta fin real","Correcto")))))

Sheet Escenas
A1: ESCENAS RODADAS
A2: Registra una fila por escena o bloque de escena trabajado durante la jornada.
A4: ID jornada | B4: ID escena | C4: Descripción breve | D4: Localización | E4: Estado | F4: Planificada | G4: Páginas previstas | H4: Páginas rodadas | I4: Hora de inicio | J4: Hora de fin | K4: Duración | L4: Tomas útiles | M4: Observaciones | N4: Revisión
A5: JOR-001 | B5: ESC-12A | C5: Encuentro junto a la puerta | D5: Almacén ficticio Norte | E5: Completada | F5: Sí | G5: 1.5 | H5: 1.5 | I5: 0.34722222 | J5: 0.42013889 | K5: =IF(A5="","",IF(OR(I5="",J5=""),"",MOD(J5-I5,1)*24)) | L5: 4 | M5: Sin observaciones | N5: =IF(A5="","",IF(COUNTIF(Jornadas!$A$5:$A$104,A5)=0,"Revisar: jornada inexistente",IF(B5="","Revisar: falta ID de escena",IF(E5="","Revisar: falta estado",IF(AND(E5="Completada",H5=""),"Revisar: faltan páginas rodadas",IF(AND(G5<>"",H5<>"",H5>G5,F5="Sí"),"Revisar: páginas rodadas superiores a previstas","Correcto"))))))
A6: JOR-001 | B6: ESC-14 | C6: Discusión en el pasillo | D6: Almacén ficticio Norte | E6: Parcial | F6: Sí | G6: 2 | H6: 1.25 | I6: 0.44097222 | J6: 0.54861111 | K6: =IF(A6="","",IF(OR(I6="",J6=""),"",MOD(J6-I6,1)*24)) | L6: 3 | M6: Falta el plano de recurso | N6: =IF(A6="","",IF(COUNTIF(Jornadas!$A$5:$A$104,A6)=0,"Revisar: jornada inexistente",IF(B6="","Revisar: falta ID de escena",IF(E6="","Revisar: falta estado",IF(AND(E6="Completada",H6=""),"Revisar: faltan páginas rodadas",IF(AND(G6<>"",H6<>"",H6>G6,F6="Sí"),"Revisar: páginas rodadas superiores a previstas","Correcto"))))))
A7: JOR-001 | B7: ESC-15B | C7: Salida del personaje | D7: Patio ficticio del almacén | E7: Completada | F7: Sí | G7: 0.75 | H7: 0.75 | I7: 0.67361111 | J7: 0.76527778 | K7: =IF(A7="","",IF(OR(I7="",J7=""),"",MOD(J7-I7,1)*24)) | L7: 5 | M7: Se añadió una toma de seguridad | N7: =IF(A7="","",IF(COUNTIF(Jornadas!$A$5:$A$104,A7)=0,"Revisar: jornada inexistente",IF(B7="","Revisar: falta ID de escena",IF(E7="","Revisar: falta estado",IF(AND(E7="Completada",H7=""),"Revisar: faltan páginas rodadas",IF(AND(G7<>"",H7<>"",H7>G7,F7="Sí"),"Revisar: páginas rodadas superiores a previstas","Correcto"))))))
A8: JOR-002 | B8: ESC-18 | C8: Cruce de la plaza | D8: Plaza ficticia del Olmo | E8: No rodada | F8: Sí | G8: 1.25 | H8: 0 | K8: =IF(A8="","",IF(OR(I8="",J8=""),"",MOD(J8-I8,1)*24)) | L8: 0 | M8: Aplazada por lluvia ficticia | N8: =IF(A8="","",IF(COUNTIF(Jornadas!$A$5:$A$104,A8)=0,"Revisar: jornada inexistente",IF(B8="","Revisar: falta ID de escena",IF(E8="","Revisar: falta estado",IF(AND(E8="Completada",H8=""),"Revisar: faltan páginas rodadas",IF(AND(G8<>"",H8<>"",H8>G8,F8="Sí"),"Revisar: páginas rodadas superiores a previstas","Correcto"))))))
K9: =IF(A9="","",IF(OR(I9="",J9=""),"",MOD(J9-I9,1)*24)) | N9: =IF(A9="","",IF(COUNTIF(Jornadas!$A$5:$A$104,A9)=0,"Revisar: jornada inexistente",IF(B9="","Revisar: falta ID de escena",IF(E9="","Revisar: falta estado",IF(AND(E9="Completada",H9=""),"Revisar: faltan páginas rodadas",IF(AND(G9<>"",H9<>"",H9>G9,F9="Sí"),"Revisar: páginas rodadas superiores a previstas","Correcto"))))))
K10: =IF(A10="","",IF(OR(I10="",J10=""),"",MOD(J10-I10,1)*24)) | N10: =IF(A10="","",IF(COUNTIF(Jornadas!$A$5:$A$104,A10)=0,"Revisar: jornada inexistente",IF(B10="","Revisar: falta ID de escena",IF(E10="","Revisar: falta estado",IF(AND(E10="Completada",H10=""),"Revisar: faltan páginas rodadas",IF(AND(G10<>"",H10<>"",H10>G10,F10="Sí"),"Revisar: páginas rodadas superiores a previstas","Correcto"))))))
K11: =IF(A11="","",IF(OR(I11="",J11=""),"",MOD(J11-I11,1)*24)) | N11: =IF(A11="","",IF(COUNTIF(Jornadas!$A$5:$A$104,A11)=0,"Revisar: jornada inexistente",IF(B11="","Revisar: falta ID de escena",IF(E11="","Revisar: falta estado",IF(AND(E11="Completada",H11=""),"Revisar: faltan páginas rodadas",IF(AND(G11<>"",H11<>"",H11>G11,F11="Sí"),"Revisar: páginas rodadas superiores a previstas","Correcto"))))))
K12: =IF(A12="","",IF(OR(I12="",J12=""),"",MOD(J12-I12,1)*24)) | N12: =IF(A12="","",IF(COUNTIF(Jornadas!$A$5:$A$104,A12)=0,"Revisar: jornada inexistente",IF(B12="","Revisar: falta ID de escena",IF(E12="","Revisar: falta estado",IF(AND(E12="Completada",H12=""),"Revisar: faltan páginas rodadas",IF(AND(G12<>"",H12<>"",H12>G12,F12="Sí"),"Revisar: páginas rodadas superiores a previstas","Correcto"))))))
K13: =IF(A13="","",IF(OR(I13="",J13=""),"",MOD(J13-I13,1)*24)) | N13: =IF(A13="","",IF(COUNTIF(Jornadas!$A$5:$A$104,A13)=0,"Revisar: jornada inexistente",IF(B13="","Revisar: falta ID de escena",IF(E13="","Revisar: falta estado",IF(AND(E13="Completada",H13=""),"Revisar: faltan páginas rodadas",IF(AND(G13<>"",H13<>"",H13>G13,F13="Sí"),"Revisar: páginas rodadas superiores a previstas","Correcto"))))))
K14: =IF(A14="","",IF(OR(I14="",J14=""),"",MOD(J14-I14,1)*24)) | N14: =IF(A14="","",IF(COUNTIF(Jornadas!$A$5:$A$104,A14)=0,"Revisar: jornada inexistente",IF(B14="","Revisar: falta ID de escena",IF(E14="","Revisar: falta estado",IF(AND(E14="Completada",H14=""),"Revisar: faltan páginas rodadas",IF(AND(G14<>"",H14<>"",H14>G14,F14="Sí"),"Revisar: páginas rodadas superiores a previstas","Correcto"))))))
K15: =IF(A15="","",IF(OR(I15="",J15=""),"",MOD(J15-I15,1)*24)) | N15: =IF(A15="","",IF(COUNTIF(Jornadas!$A$5:$A$104,A15)=0,"Revisar: jornada inexistente",IF(B15="","Revisar: falta ID de escena",IF(E15="","Revisar: falta estado",IF(AND(E15="Completada",H15=""),"Revisar: faltan páginas rodadas",IF(AND(G15<>"",H15<>"",H15>G15,F15="Sí"),"Revisar: páginas rodadas superiores a previstas","Correcto"))))))
K16: =IF(A16="","",IF(OR(I16="",J16=""),"",MOD(J16-I16,1)*24)) | N16: =IF(A16="","",IF(COUNTIF(Jornadas!$A$5:$A$104,A16)=0,"Revisar: jornada inexistente",IF(B16="","Revisar: falta ID de escena",IF(E16="","Revisar: falta estado",IF(AND(E16="Completada",H16=""),"Revisar: faltan páginas rodadas",IF(AND(G16<>"",H16<>"",H16>G16,F16="Sí"),"Revisar: páginas rodadas superiores a previstas","Correcto"))))))
K17: =IF(A17="","",IF(OR(I17="",J17=""),"",MOD(J17-I17,1)*24)) | N17: =IF(A17="","",IF(COUNTIF(Jornadas!$A$5:$A$104,A17)=0,"Revisar: jornada inexistente",IF(B17="","Revisar: falta ID de escena",IF(E17="","Revisar: falta estado",IF(AND(E17="Completada",H17=""),"Revisar: faltan páginas rodadas",IF(AND(G17<>"",H17<>"",H17>G17,F17="Sí"),"Revisar: páginas rodadas superiores a previstas","Correcto"))))))
K18: =IF(A18="","",IF(OR(I18="",J18=""),"",MOD(J18-I18,1)*24)) | N18: =IF(A18="","",IF(COUNTIF(Jornadas!$A$5:$A$104,A18)=0,"Revisar: jornada inexistente",IF(B18="","Revisar: falta ID de escena",IF(E18="","Revisar: falta estado",IF(AND(E18="Completada",H18=""),"Revisar: faltan páginas rodadas",IF(AND(G18<>"",H18<>"",H18>G18,F18="Sí"),"Revisar: páginas rodadas superiores a previstas","Correcto"))))))
K19: =IF(A19="","",IF(OR(I19="",J19=""),"",MOD(J19-I19,1)*24)) | N19: =IF(A19="","",IF(COUNTIF(Jornadas!$A$5:$A$104,A19)=0,"Revisar: jornada inexistente",IF(B19="","Revisar: falta ID de escena",IF(E19="","Revisar: falta estado",IF(AND(E19="Completada",H19=""),"Revisar: faltan páginas rodadas",IF(AND(G19<>"",H19<>"",H19>G19,F19="Sí"),"Revisar: páginas rodadas superiores a previstas","Correcto"))))))
K20: =IF(A20="","",IF(OR(I20="",J20=""),"",MOD(J20-I20,1)*24)) | N20: =IF(A20="","",IF(COUNTIF(Jornadas!$A$5:$A$104,A20)=0,"Revisar: jornada inexistente",IF(B20="","Revisar: falta ID de escena",IF(E20="","Revisar: falta estado",IF(AND(E20="Completada",H20=""),"Revisar: faltan páginas rodadas",IF(AND(G20<>"",H20<>"",H20>G20,F20="Sí"),"Revisar: páginas rodadas superiores a previstas","Correcto"))))))
... K104: =IF(A104="","",IF(OR(I104="",J104=""),"",MOD(J104-I104,1)*24)) | N104: =IF(A104="","",IF(COUNTIF(Jornadas!$A$5:$A$104,A104)=0,"Revisar: jornada inexistente",IF(B104="","Revisar: falta ID de escena",IF(E104="","Revisar: falta estado",IF(AND(E104="Completada",H104=""),"Revisar: faltan páginas rodadas",IF(AND(G104<>"",H104<>"",H104>G104,F104="Sí"),"Revisar: páginas rodadas superiores a previstas","Correcto"))))))

Sheet Personal
A1: PERSONAL PARTICIPANTE
A2: No introduzcas DNI, direcciones, teléfonos, datos bancarios ni otra información personal no necesaria.
A4: ID jornada | B4: Nombre profesional o alias | C4: Área | D4: Función | E4: Convocatoria | F4: Entrada real | G4: Salida real | H4: Pausa (min) | I4: Horas previstas | J4: Horas netas | K4: Revisión | L4: Observaciones
A5: JOR-001 | B5: Lara Foco | C5: Dirección | D5: Ayudante de dirección | E5: 0.3125 | F5: 0.31597222 | G5: 0.8 | H5: 55 | I5: =IF(A5="","",IF(OR(E5="",G5=""),"",MOD(G5-E5,1)*24-IF(H5="",0,H5/60))) | J5: =IF(A5="","",IF(OR(F5="",G5=""),"",MAX(0,MOD(G5-F5,1)*24-IF(H5="",0,H5/60)))) | K5: =IF(A5="","",IF(COUNTIF(Jornadas!$A$5:$A$104,A5)=0,"Revisar: jornada inexistente",IF(OR(B5="",C5="",D5=""),"Revisar: faltan datos básicos",IF(AND(F5<>"",G5=""),"Revisar: falta salida",IF(AND(G5<>"",F5=""),"Revisar: falta entrada",IF(AND(H5<>"",H5<0),"Revisar: pausa no válida","Correcto")))))) | L5: Cierre de parte
A6: JOR-001 | B6: Bruno Trípode | C6: Fotografía | D6: Operador de cámara | E6: 0.32291667 | F6: 0.32152778 | G6: 0.79166667 | H6: 60 | I6: =IF(A6="","",IF(OR(E6="",G6=""),"",MOD(G6-E6,1)*24-IF(H6="",0,H6/60))) | J6: =IF(A6="","",IF(OR(F6="",G6=""),"",MAX(0,MOD(G6-F6,1)*24-IF(H6="",0,H6/60)))) | K6: =IF(A6="","",IF(COUNTIF(Jornadas!$A$5:$A$104,A6)=0,"Revisar: jornada inexistente",IF(OR(B6="",C6="",D6=""),"Revisar: faltan datos básicos",IF(AND(F6<>"",G6=""),"Revisar: falta salida",IF(AND(G6<>"",F6=""),"Revisar: falta entrada",IF(AND(H6<>"",H6<0),"Revisar: pausa no válida","Correcto")))))) | L6: Equipo ficticio A
A7: JOR-001 | B7: Vega Claqueta | C7: Sonido | D7: Técnica de sonido | E7: 0.32291667 | F7: 0.32430556 | G7: 0.78888889 | H7: 60 | I7: =IF(A7="","",IF(OR(E7="",G7=""),"",MOD(G7-E7,1)*24-IF(H7="",0,H7/60))) | J7: =IF(A7="","",IF(OR(F7="",G7=""),"",MAX(0,MOD(G7-F7,1)*24-IF(H7="",0,H7/60)))) | K7: =IF(A7="","",IF(COUNTIF(Jornadas!$A$5:$A$104,A7)=0,"Revisar: jornada inexistente",IF(OR(B7="",C7="",D7=""),"Revisar: faltan datos básicos",IF(AND(F7<>"",G7=""),"Revisar: falta salida",IF(AND(G7<>"",F7=""),"Revisar: falta entrada",IF(AND(H7<>"",H7<0),"Revisar: pausa no válida","Correcto")))))) | L7: Sin observaciones
A8: JOR-002 | B8: Nico Atrezzo | C8: Arte | D8: Ayudante de arte | E8: 0.33333333 | F8: 0.33472222 | G8: 0.73680556 | H8: 45 | I8: =IF(A8="","",IF(OR(E8="",G8=""),"",MOD(G8-E8,1)*24-IF(H8="",0,H8/60))) | J8: =IF(A8="","",IF(OR(F8="",G8=""),"",MAX(0,MOD(G8-F8,1)*24-IF(H8="",0,H8/60)))) | K8: =IF(A8="","",IF(COUNTIF(Jornadas!$A$5:$A$104,A8)=0,"Revisar: jornada inexistente",IF(OR(B8="",C8="",D8=""),"Revisar: faltan datos básicos",IF(AND(F8<>"",G8=""),"Revisar: falta salida",IF(AND(G8<>"",F8=""),"Revisar: falta entrada",IF(AND(H8<>"",H8<0),"Revisar: pausa no válida","Correcto")))))) | L8: Recogida pendiente
I9: =IF(A9="","",IF(OR(E9="",G9=""),"",MOD(G9-E9,1)*24-IF(H9="",0,H9/60))) | J9: =IF(A9="","",IF(OR(F9="",G9=""),"",MAX(0,MOD(G9-F9,1)*24-IF(H9="",0,H9/60)))) | K9: =IF(A9="","",IF(COUNTIF(Jornadas!$A$5:$A$104,A9)=0,"Revisar: jornada inexistente",IF(OR(B9="",C9="",D9=""),"Revisar: faltan datos básicos",IF(AND(F9<>"",G9=""),"Revisar: falta salida",IF(AND(G9<>"",F9=""),"Revisar: falta entrada",IF(AND(H9<>"",H9<0),"Revisar: pausa no válida","Correcto"))))))
I10: =IF(A10="","",IF(OR(E10="",G10=""),"",MOD(G10-E10,1)*24-IF(H10="",0,H10/60))) | J10: =IF(A10="","",IF(OR(F10="",G10=""),"",MAX(0,MOD(G10-F10,1)*24-IF(H10="",0,H10/60)))) | K10: =IF(A10="","",IF(COUNTIF(Jornadas!$A$5:$A$104,A10)=0,"Revisar: jornada inexistente",IF(OR(B10="",C10="",D10=""),"Revisar: faltan datos básicos",IF(AND(F10<>"",G10=""),"Revisar: falta salida",IF(AND(G10<>"",F10=""),"Revisar: falta entrada",IF(AND(H10<>"",H10<0),"Revisar: pausa no válida","Correcto"))))))
I11: =IF(A11="","",IF(OR(E11="",G11=""),"",MOD(G11-E11,1)*24-IF(H11="",0,H11/60))) | J11: =IF(A11="","",IF(OR(F11="",G11=""),"",MAX(0,MOD(G11-F11,1)*24-IF(H11="",0,H11/60)))) | K11: =IF(A11="","",IF(COUNTIF(Jornadas!$A$5:$A$104,A11)=0,"Revisar: jornada inexistente",IF(OR(B11="",C11="",D11=""),"Revisar: faltan datos básicos",IF(AND(F11<>"",G11=""),"Revisar: falta salida",IF(AND(G11<>"",F11=""),"Revisar: falta entrada",IF(AND(H11<>"",H11<0),"Revisar: pausa no válida","Correcto"))))))
I12: =IF(A12="","",IF(OR(E12="",G12=""),"",MOD(G12-E12,1)*24-IF(H12="",0,H12/60))) | J12: =IF(A12="","",IF(OR(F12="",G12=""),"",MAX(0,MOD(G12-F12,1)*24-IF(H12="",0,H12/60)))) | K12: =IF(A12="","",IF(COUNTIF(Jornadas!$A$5:$A$104,A12)=0,"Revisar: jornada inexistente",IF(OR(B12="",C12="",D12=""),"Revisar: faltan datos básicos",IF(AND(F12<>"",G12=""),"Revisar: falta salida",IF(AND(G12<>"",F12=""),"Revisar: falta entrada",IF(AND(H12<>"",H12<0),"Revisar: pausa no válida","Correcto"))))))
I13: =IF(A13="","",IF(OR(E13="",G13=""),"",MOD(G13-E13,1)*24-IF(H13="",0,H13/60))) | J13: =IF(A13="","",IF(OR(F13="",G13=""),"",MAX(0,MOD(G13-F13,1)*24-IF(H13="",0,H13/60)))) | K13: =IF(A13="","",IF(COUNTIF(Jornadas!$A$5:$A$104,A13)=0,"Revisar: jornada inexistente",IF(OR(B13="",C13="",D13=""),"Revisar: faltan datos básicos",IF(AND(F13<>"",G13=""),"Revisar: falta salida",IF(AND(G13<>"",F13=""),"Revisar: falta entrada",IF(AND(H13<>"",H13<0),"Revisar: pausa no válida","Correcto"))))))
I14: =IF(A14="","",IF(OR(E14="",G14=""),"",MOD(G14-E14,1)*24-IF(H14="",0,H14/60))) | J14: =IF(A14="","",IF(OR(F14="",G14=""),"",MAX(0,MOD(G14-F14,1)*24-IF(H14="",0,H14/60)))) | K14: =IF(A14="","",IF(COUNTIF(Jornadas!$A$5:$A$104,A14)=0,"Revisar: jornada inexistente",IF(OR(B14="",C14="",D14=""),"Revisar: faltan datos básicos",IF(AND(F14<>"",G14=""),"Revisar: falta salida",IF(AND(G14<>"",F14=""),"Revisar: falta entrada",IF(AND(H14<>"",H14<0),"Revisar: pausa no válida","Correcto"))))))
I15: =IF(A15="","",IF(OR(E15="",G15=""),"",MOD(G15-E15,1)*24-IF(H15="",0,H15/60))) | J15: =IF(A15="","",IF(OR(F15="",G15=""),"",MAX(0,MOD(G15-F15,1)*24-IF(H15="",0,H15/60)))) | K15: =IF(A15="","",IF(COUNTIF(Jornadas!$A$5:$A$104,A15)=0,"Revisar: jornada inexistente",IF(OR(B15="",C15="",D15=""),"Revisar: faltan datos básicos",IF(AND(F15<>"",G15=""),"Revisar: falta salida",IF(AND(G15<>"",F15=""),"Revisar: falta entrada",IF(AND(H15<>"",H15<0),"Revisar: pausa no válida","Correcto"))))))
I16: =IF(A16="","",IF(OR(E16="",G16=""),"",MOD(G16-E16,1)*24-IF(H16="",0,H16/60))) | J16: =IF(A16="","",IF(OR(F16="",G16=""),"",MAX(0,MOD(G16-F16,1)*24-IF(H16="",0,H16/60)))) | K16: =IF(A16="","",IF(COUNTIF(Jornadas!$A$5:$A$104,A16)=0,"Revisar: jornada inexistente",IF(OR(B16="",C16="",D16=""),"Revisar: faltan datos básicos",IF(AND(F16<>"",G16=""),"Revisar: falta salida",IF(AND(G16<>"",F16=""),"Revisar: falta entrada",IF(AND(H16<>"",H16<0),"Revisar: pausa no válida","Correcto"))))))
I17: =IF(A17="","",IF(OR(E17="",G17=""),"",MOD(G17-E17,1)*24-IF(H17="",0,H17/60))) | J17: =IF(A17="","",IF(OR(F17="",G17=""),"",MAX(0,MOD(G17-F17,1)*24-IF(H17="",0,H17/60)))) | K17: =IF(A17="","",IF(COUNTIF(Jornadas!$A$5:$A$104,A17)=0,"Revisar: jornada inexistente",IF(OR(B17="",C17="",D17=""),"Revisar: faltan datos básicos",IF(AND(F17<>"",G17=""),"Revisar: falta salida",IF(AND(G17<>"",F17=""),"Revisar: falta entrada",IF(AND(H17<>"",H17<0),"Revisar: pausa no válida","Correcto"))))))
I18: =IF(A18="","",IF(OR(E18="",G18=""),"",MOD(G18-E18,1)*24-IF(H18="",0,H18/60))) | J18: =IF(A18="","",IF(OR(F18="",G18=""),"",MAX(0,MOD(G18-F18,1)*24-IF(H18="",0,H18/60)))) | K18: =IF(A18="","",IF(COUNTIF(Jornadas!$A$5:$A$104,A18)=0,"Revisar: jornada inexistente",IF(OR(B18="",C18="",D18=""),"Revisar: faltan datos básicos",IF(AND(F18<>"",G18=""),"Revisar: falta salida",IF(AND(G18<>"",F18=""),"Revisar: falta entrada",IF(AND(H18<>"",H18<0),"Revisar: pausa no válida","Correcto"))))))
I19: =IF(A19="","",IF(OR(E19="",G19=""),"",MOD(G19-E19,1)*24-IF(H19="",0,H19/60))) | J19: =IF(A19="","",IF(OR(F19="",G19=""),"",MAX(0,MOD(G19-F19,1)*24-IF(H19="",0,H19/60)))) | K19: =IF(A19="","",IF(COUNTIF(Jornadas!$A$5:$A$104,A19)=0,"Revisar: jornada inexistente",IF(OR(B19="",C19="",D19=""),"Revisar: faltan datos básicos",IF(AND(F19<>"",G19=""),"Revisar: falta salida",IF(AND(G19<>"",F19=""),"Revisar: falta entrada",IF(AND(H19<>"",H19<0),"Revisar: pausa no válida","Correcto"))))))
I20: =IF(A20="","",IF(OR(E20="",G20=""),"",MOD(G20-E20,1)*24-IF(H20="",0,H20/60))) | J20: =IF(A20="","",IF(OR(F20="",G20=""),"",MAX(0,MOD(G20-F20,1)*24-IF(H20="",0,H20/60)))) | K20: =IF(A20="","",IF(COUNTIF(Jornadas!$A$5:$A$104,A20)=0,"Revisar: jornada inexistente",IF(OR(B20="",C20="",D20=""),"Revisar: faltan datos básicos",IF(AND(F20<>"",G20=""),"Revisar: falta salida",IF(AND(G20<>"",F20=""),"Revisar: falta entrada",IF(AND(H20<>"",H20<0),"Revisar: pausa no válida","Correcto"))))))
... I104: =IF(A104="","",IF(OR(E104="",G104=""),"",MOD(G104-E104,1)*24-IF(H104="",0,H104/60))) | J104: =IF(A104="","",IF(OR(F104="",G104=""),"",MAX(0,MOD(G104-F104,1)*24-IF(H104="",0,H104/60)))) | K104: =IF(A104="","",IF(COUNTIF(Jornadas!$A$5:$A$104,A104)=0,"Revisar: jornada inexistente",IF(OR(B104="",C104="",D104=""),"Revisar: faltan datos básicos",IF(AND(F104<>"",G104=""),"Revisar: falta salida",IF(AND(G104<>"",F104=""),"Revisar: falta entrada",IF(AND(H104<>"",H104<0),"Revisar: pausa no válida","Correcto"))))))

Sheet Incidencias
A1: PAUSAS E INCIDENCIAS
A2: Registra también las pausas que deban descontarse de la duración real de la jornada.
A4: ID jornada | B4: ID registro | C4: Tipo | D4: Inicio | E4: Fin | F4: Duración (min) | G4: Impacto | H4: Descripción breve | I4: Acción adoptada | J4: Estado | K4: Revisión
A5: JOR-001 | B5: INC-001 | C5: Pausa | D5: 0.55208333 | E5: 0.59027778 | F5: =IF(A5="","",IF(OR(D5="",E5=""),"",MOD(E5-D5,1)*1440)) | G5: Sin impacto | H5: Pausa principal de comida | I5: Reanudación según orden del día | J5: Cerrada | K5: =IF(A5="","",IF(COUNTIF(Jornadas!$A$5:$A$104,A5)=0,"Revisar: jornada inexistente",IF(B5="","Revisar: falta ID de registro",IF(C5="","Revisar: falta tipo",IF(OR(D5="",E5=""),"Revisar: horario incompleto",IF(AND(C5<>"Pausa",H5=""),"Revisar: falta descripción",IF(J5="","Revisar: falta estado","Correcto")))))))
A6: JOR-002 | B6: INC-002 | C6: Meteorología | D6: 0.47569444 | E6: 0.50347222 | F6: =IF(A6="","",IF(OR(D6="",E6=""),"",MOD(E6-D6,1)*1440)) | G6: Medio | H6: Lluvia ficticia impide rodar exterior | I6: Reordenación de planos cubiertos | J6: Abierta | K6: =IF(A6="","",IF(COUNTIF(Jornadas!$A$5:$A$104,A6)=0,"Revisar: jornada inexistente",IF(B6="","Revisar: falta ID de registro",IF(C6="","Revisar: falta tipo",IF(OR(D6="",E6=""),"Revisar: horario incompleto",IF(AND(C6<>"Pausa",H6=""),"Revisar: falta descripción",IF(J6="","Revisar: falta estado","Correcto")))))))
F7: =IF(A7="","",IF(OR(D7="",E7=""),"",MOD(E7-D7,1)*1440)) | K7: =IF(A7="","",IF(COUNTIF(Jornadas!$A$5:$A$104,A7)=0,"Revisar: jornada inexistente",IF(B7="","Revisar: falta ID de registro",IF(C7="","Revisar: falta tipo",IF(OR(D7="",E7=""),"Revisar: horario incompleto",IF(AND(C7<>"Pausa",H7=""),"Revisar: falta descripción",IF(J7="","Revisar: falta estado","Correcto")))))))
F8: =IF(A8="","",IF(OR(D8="",E8=""),"",MOD(E8-D8,1)*1440)) | K8: =IF(A8="","",IF(COUNTIF(Jornadas!$A$5:$A$104,A8)=0,"Revisar: jornada inexistente",IF(B8="","Revisar: falta ID de registro",IF(C8="","Revisar: falta tipo",IF(OR(D8="",E8=""),"Revisar: horario incompleto",IF(AND(C8<>"Pausa",H8=""),"Revisar: falta descripción",IF(J8="","Revisar: falta estado","Correcto")))))))
F9: =IF(A9="","",IF(OR(D9="",E9=""),"",MOD(E9-D9,1)*1440)) | K9: =IF(A9="","",IF(COUNTIF(Jornadas!$A$5:$A$104,A9)=0,"Revisar: jornada inexistente",IF(B9="","Revisar: falta ID de registro",IF(C9="","Revisar: falta tipo",IF(OR(D9="",E9=""),"Revisar: horario incompleto",IF(AND(C9<>"Pausa",H9=""),"Revisar: falta descripción",IF(J9="","Revisar: falta estado","Correcto")))))))
F10: =IF(A10="","",IF(OR(D10="",E10=""),"",MOD(E10-D10,1)*1440)) | K10: =IF(A10="","",IF(COUNTIF(Jornadas!$A$5:$A$104,A10)=0,"Revisar: jornada inexistente",IF(B10="","Revisar: falta ID de registro",IF(C10="","Revisar: falta tipo",IF(OR(D10="",E10=""),"Revisar: horario incompleto",IF(AND(C10<>"Pausa",H10=""),"Revisar: falta descripción",IF(J10="","Revisar: falta estado","Correcto")))))))
F11: =IF(A11="","",IF(OR(D11="",E11=""),"",MOD(E11-D11,1)*1440)) | K11: =IF(A11="","",IF(COUNTIF(Jornadas!$A$5:$A$104,A11)=0,"Revisar: jornada inexistente",IF(B11="","Revisar: falta ID de registro",IF(C11="","Revisar: falta tipo",IF(OR(D11="",E11=""),"Revisar: horario incompleto",IF(AND(C11<>"Pausa",H11=""),"Revisar: falta descripción",IF(J11="","Revisar: falta estado","Correcto")))))))
F12: =IF(A12="","",IF(OR(D12="",E12=""),"",MOD(E12-D12,1)*1440)) | K12: =IF(A12="","",IF(COUNTIF(Jornadas!$A$5:$A$104,A12)=0,"Revisar: jornada inexistente",IF(B12="","Revisar: falta ID de registro",IF(C12="","Revisar: falta tipo",IF(OR(D12="",E12=""),"Revisar: horario incompleto",IF(AND(C12<>"Pausa",H12=""),"Revisar: falta descripción",IF(J12="","Revisar: falta estado","Correcto")))))))
F13: =IF(A13="","",IF(OR(D13="",E13=""),"",MOD(E13-D13,1)*1440)) | K13: =IF(A13="","",IF(COUNTIF(Jornadas!$A$5:$A$104,A13)=0,"Revisar: jornada inexistente",IF(B13="","Revisar: falta ID de registro",IF(C13="","Revisar: falta tipo",IF(OR(D13="",E13=""),"Revisar: horario incompleto",IF(AND(C13<>"Pausa",H13=""),"Revisar: falta descripción",IF(J13="","Revisar: falta estado","Correcto")))))))
F14: =IF(A14="","",IF(OR(D14="",E14=""),"",MOD(E14-D14,1)*1440)) | K14: =IF(A14="","",IF(COUNTIF(Jornadas!$A$5:$A$104,A14)=0,"Revisar: jornada inexistente",IF(B14="","Revisar: falta ID de registro",IF(C14="","Revisar: falta tipo",IF(OR(D14="",E14=""),"Revisar: horario incompleto",IF(AND(C14<>"Pausa",H14=""),"Revisar: falta descripción",IF(J14="","Revisar: falta estado","Correcto")))))))
F15: =IF(A15="","",IF(OR(D15="",E15=""),"",MOD(E15-D15,1)*1440)) | K15: =IF(A15="","",IF(COUNTIF(Jornadas!$A$5:$A$104,A15)=0,"Revisar: jornada inexistente",IF(B15="","Revisar: falta ID de registro",IF(C15="","Revisar: falta tipo",IF(OR(D15="",E15=""),"Revisar: horario incompleto",IF(AND(C15<>"Pausa",H15=""),"Revisar: falta descripción",IF(J15="","Revisar: falta estado","Correcto")))))))
F16: =IF(A16="","",IF(OR(D16="",E16=""),"",MOD(E16-D16,1)*1440)) | K16: =IF(A16="","",IF(COUNTIF(Jornadas!$A$5:$A$104,A16)=0,"Revisar: jornada inexistente",IF(B16="","Revisar: falta ID de registro",IF(C16="","Revisar: falta tipo",IF(OR(D16="",E16=""),"Revisar: horario incompleto",IF(AND(C16<>"Pausa",H16=""),"Revisar: falta descripción",IF(J16="","Revisar: falta estado","Correcto")))))))
F17: =IF(A17="","",IF(OR(D17="",E17=""),"",MOD(E17-D17,1)*1440)) | K17: =IF(A17="","",IF(COUNTIF(Jornadas!$A$5:$A$104,A17)=0,"Revisar: jornada inexistente",IF(B17="","Revisar: falta ID de registro",IF(C17="","Revisar: falta tipo",IF(OR(D17="",E17=""),"Revisar: horario incompleto",IF(AND(C17<>"Pausa",H17=""),"Revisar: falta descripción",IF(J17="","Revisar: falta estado","Correcto")))))))
F18: =IF(A18="","",IF(OR(D18="",E18=""),"",MOD(E18-D18,1)*1440)) | K18: =IF(A18="","",IF(COUNTIF(Jornadas!$A$5:$A$104,A18)=0,"Revisar: jornada inexistente",IF(B18="","Revisar: falta ID de registro",IF(C18="","Revisar: falta tipo",IF(OR(D18="",E18=""),"Revisar: horario incompleto",IF(AND(C18<>"Pausa",H18=""),"Revisar: falta descripción",IF(J18="","Revisar: falta estado","Correcto")))))))
... F104: =IF(A104="","",IF(OR(D104="",E104=""),"",MOD(E104-D104,1)*1440)) | K104: =IF(A104="","",IF(COUNTIF(Jornadas!$A$5:$A$104,A104)=0,"Revisar: jornada inexistente",IF(B104="","Revisar: falta ID de registro",IF(C104="","Revisar: falta tipo",IF(OR(D104="",E104=""),"Revisar: horario incompleto",IF(AND(C104<>"Pausa",H104=""),"Revisar: falta descripción",IF(J104="","Revisar: falta estado","Correcto")))))))
