Workbook

Sheet Resumen
A1: PLAN DE RODAJE — RESUMEN
A3: Proyecto | B3: La brújula de cartón | D3: Máximo de horas por jornada | E3: 10
A4: Productora | B4: Nube Lateral Producciones | D4: Máximo de páginas por jornada | E4: 6
A5: Inicio previsto | B5: 46300 | D5: Máximo de jornadas | E5: 20
A6: Fin previsto | B6: 46304
A8: Jornadas utilizadas | B8: =IFERROR(SUMPRODUCT(--('Plan de rodaje'!$C$8:$C$107<>""),1/COUNTIF('Plan de rodaje'!$C$8:$C$107,'Plan de rodaje'!$C$8:$C$107&"")),0) | C8: Bloques planificados | D8: =COUNTIF('Plan de rodaje'!$A$8:$A$107,"<>") | E8: Escenas únicas | F8: =IFERROR(SUMPRODUCT(--('Plan de rodaje'!$E$8:$E$107<>""),1/COUNTIF('Plan de rodaje'!$E$8:$E$107,'Plan de rodaje'!$E$8:$E$107&"")),0) | G8: Páginas totales | H8: =SUM('Plan de rodaje'!$J$8:$J$107)
A10: Horas de rodaje | B10: =SUM('Plan de rodaje'!$N$8:$N$107) | C10: Jornadas sobrecargadas | D10: =COUNTIF($H$14:$H$33,"REVISAR") | E10: Bloques con alertas | F10: =COUNTIFS('Plan de rodaje'!$A$8:$A$107,"<>",'Plan de rodaje'!$AA$8:$AA$107,"<>OK") | G10: Plan completado | H10: =IF(D8=0,0,COUNTIF('Plan de rodaje'!$Z$8:$Z$107,"Rodada")/D8)
A13: Jornada | B13: Fecha | C13: Bloques | D13: Páginas | E13: Horas de rodaje | F13: Localizaciones | G13: Alertas | H13: Estado de carga
A14: 1 | B14: =IF(COUNTIF('Plan de rodaje'!$C$8:$C$107,A14)=0,"",SUMIF('Plan de rodaje'!$C$8:$C$107,A14,'Plan de rodaje'!$B$8:$B$107)/COUNTIF('Plan de rodaje'!$C$8:$C$107,A14)) | C14: =COUNTIF('Plan de rodaje'!$C$8:$C$107,A14) | D14: =SUMIF('Plan de rodaje'!$C$8:$C$107,A14,'Plan de rodaje'!$J$8:$J$107) | E14: =SUMIF('Plan de rodaje'!$C$8:$C$107,A14,'Plan de rodaje'!$N$8:$N$107) | F14: =IF(C14=0,"",IFERROR(SUMPRODUCT(('Plan de rodaje'!$C$8:$C$107=A14)*('Plan de rodaje'!$F$8:$F$107<>"")/COUNTIFS('Plan de rodaje'!$C$8:$C$107,'Plan de rodaje'!$C$8:$C$107,'Plan de rodaje'!$F$8:$F$107,'Plan de rodaje'!$F$8:$F$107)),0)) | G14: =COUNTIFS('Plan de rodaje'!$C$8:$C$107,A14,'Plan de rodaje'!$AA$8:$AA$107,"<>OK",'Plan de rodaje'!$AA$8:$AA$107,"<>") | H14: =IF(C14=0,"",IF(OR(D14>$E$4,E14>$E$3,G14>0),"REVISAR","VIABLE"))
A15: 2 | B15: =IF(COUNTIF('Plan de rodaje'!$C$8:$C$107,A15)=0,"",SUMIF('Plan de rodaje'!$C$8:$C$107,A15,'Plan de rodaje'!$B$8:$B$107)/COUNTIF('Plan de rodaje'!$C$8:$C$107,A15)) | C15: =COUNTIF('Plan de rodaje'!$C$8:$C$107,A15) | D15: =SUMIF('Plan de rodaje'!$C$8:$C$107,A15,'Plan de rodaje'!$J$8:$J$107) | E15: =SUMIF('Plan de rodaje'!$C$8:$C$107,A15,'Plan de rodaje'!$N$8:$N$107) | F15: =IF(C15=0,"",IFERROR(SUMPRODUCT(('Plan de rodaje'!$C$8:$C$107=A15)*('Plan de rodaje'!$F$8:$F$107<>"")/COUNTIFS('Plan de rodaje'!$C$8:$C$107,'Plan de rodaje'!$C$8:$C$107,'Plan de rodaje'!$F$8:$F$107,'Plan de rodaje'!$F$8:$F$107)),0)) | G15: =COUNTIFS('Plan de rodaje'!$C$8:$C$107,A15,'Plan de rodaje'!$AA$8:$AA$107,"<>OK",'Plan de rodaje'!$AA$8:$AA$107,"<>") | H15: =IF(C15=0,"",IF(OR(D15>$E$4,E15>$E$3,G15>0),"REVISAR","VIABLE"))
A16: 3 | B16: =IF(COUNTIF('Plan de rodaje'!$C$8:$C$107,A16)=0,"",SUMIF('Plan de rodaje'!$C$8:$C$107,A16,'Plan de rodaje'!$B$8:$B$107)/COUNTIF('Plan de rodaje'!$C$8:$C$107,A16)) | C16: =COUNTIF('Plan de rodaje'!$C$8:$C$107,A16) | D16: =SUMIF('Plan de rodaje'!$C$8:$C$107,A16,'Plan de rodaje'!$J$8:$J$107) | E16: =SUMIF('Plan de rodaje'!$C$8:$C$107,A16,'Plan de rodaje'!$N$8:$N$107) | F16: =IF(C16=0,"",IFERROR(SUMPRODUCT(('Plan de rodaje'!$C$8:$C$107=A16)*('Plan de rodaje'!$F$8:$F$107<>"")/COUNTIFS('Plan de rodaje'!$C$8:$C$107,'Plan de rodaje'!$C$8:$C$107,'Plan de rodaje'!$F$8:$F$107,'Plan de rodaje'!$F$8:$F$107)),0)) | G16: =COUNTIFS('Plan de rodaje'!$C$8:$C$107,A16,'Plan de rodaje'!$AA$8:$AA$107,"<>OK",'Plan de rodaje'!$AA$8:$AA$107,"<>") | H16: =IF(C16=0,"",IF(OR(D16>$E$4,E16>$E$3,G16>0),"REVISAR","VIABLE"))
A17: 4 | B17: =IF(COUNTIF('Plan de rodaje'!$C$8:$C$107,A17)=0,"",SUMIF('Plan de rodaje'!$C$8:$C$107,A17,'Plan de rodaje'!$B$8:$B$107)/COUNTIF('Plan de rodaje'!$C$8:$C$107,A17)) | C17: =COUNTIF('Plan de rodaje'!$C$8:$C$107,A17) | D17: =SUMIF('Plan de rodaje'!$C$8:$C$107,A17,'Plan de rodaje'!$J$8:$J$107) | E17: =SUMIF('Plan de rodaje'!$C$8:$C$107,A17,'Plan de rodaje'!$N$8:$N$107) | F17: =IF(C17=0,"",IFERROR(SUMPRODUCT(('Plan de rodaje'!$C$8:$C$107=A17)*('Plan de rodaje'!$F$8:$F$107<>"")/COUNTIFS('Plan de rodaje'!$C$8:$C$107,'Plan de rodaje'!$C$8:$C$107,'Plan de rodaje'!$F$8:$F$107,'Plan de rodaje'!$F$8:$F$107)),0)) | G17: =COUNTIFS('Plan de rodaje'!$C$8:$C$107,A17,'Plan de rodaje'!$AA$8:$AA$107,"<>OK",'Plan de rodaje'!$AA$8:$AA$107,"<>") | H17: =IF(C17=0,"",IF(OR(D17>$E$4,E17>$E$3,G17>0),"REVISAR","VIABLE"))
A18: 5 | B18: =IF(COUNTIF('Plan de rodaje'!$C$8:$C$107,A18)=0,"",SUMIF('Plan de rodaje'!$C$8:$C$107,A18,'Plan de rodaje'!$B$8:$B$107)/COUNTIF('Plan de rodaje'!$C$8:$C$107,A18)) | C18: =COUNTIF('Plan de rodaje'!$C$8:$C$107,A18) | D18: =SUMIF('Plan de rodaje'!$C$8:$C$107,A18,'Plan de rodaje'!$J$8:$J$107) | E18: =SUMIF('Plan de rodaje'!$C$8:$C$107,A18,'Plan de rodaje'!$N$8:$N$107) | F18: =IF(C18=0,"",IFERROR(SUMPRODUCT(('Plan de rodaje'!$C$8:$C$107=A18)*('Plan de rodaje'!$F$8:$F$107<>"")/COUNTIFS('Plan de rodaje'!$C$8:$C$107,'Plan de rodaje'!$C$8:$C$107,'Plan de rodaje'!$F$8:$F$107,'Plan de rodaje'!$F$8:$F$107)),0)) | G18: =COUNTIFS('Plan de rodaje'!$C$8:$C$107,A18,'Plan de rodaje'!$AA$8:$AA$107,"<>OK",'Plan de rodaje'!$AA$8:$AA$107,"<>") | H18: =IF(C18=0,"",IF(OR(D18>$E$4,E18>$E$3,G18>0),"REVISAR","VIABLE"))
A19: 6 | B19: =IF(COUNTIF('Plan de rodaje'!$C$8:$C$107,A19)=0,"",SUMIF('Plan de rodaje'!$C$8:$C$107,A19,'Plan de rodaje'!$B$8:$B$107)/COUNTIF('Plan de rodaje'!$C$8:$C$107,A19)) | C19: =COUNTIF('Plan de rodaje'!$C$8:$C$107,A19) | D19: =SUMIF('Plan de rodaje'!$C$8:$C$107,A19,'Plan de rodaje'!$J$8:$J$107) | E19: =SUMIF('Plan de rodaje'!$C$8:$C$107,A19,'Plan de rodaje'!$N$8:$N$107) | F19: =IF(C19=0,"",IFERROR(SUMPRODUCT(('Plan de rodaje'!$C$8:$C$107=A19)*('Plan de rodaje'!$F$8:$F$107<>"")/COUNTIFS('Plan de rodaje'!$C$8:$C$107,'Plan de rodaje'!$C$8:$C$107,'Plan de rodaje'!$F$8:$F$107,'Plan de rodaje'!$F$8:$F$107)),0)) | G19: =COUNTIFS('Plan de rodaje'!$C$8:$C$107,A19,'Plan de rodaje'!$AA$8:$AA$107,"<>OK",'Plan de rodaje'!$AA$8:$AA$107,"<>") | H19: =IF(C19=0,"",IF(OR(D19>$E$4,E19>$E$3,G19>0),"REVISAR","VIABLE"))
A20: 7 | B20: =IF(COUNTIF('Plan de rodaje'!$C$8:$C$107,A20)=0,"",SUMIF('Plan de rodaje'!$C$8:$C$107,A20,'Plan de rodaje'!$B$8:$B$107)/COUNTIF('Plan de rodaje'!$C$8:$C$107,A20)) | C20: =COUNTIF('Plan de rodaje'!$C$8:$C$107,A20) | D20: =SUMIF('Plan de rodaje'!$C$8:$C$107,A20,'Plan de rodaje'!$J$8:$J$107) | E20: =SUMIF('Plan de rodaje'!$C$8:$C$107,A20,'Plan de rodaje'!$N$8:$N$107) | F20: =IF(C20=0,"",IFERROR(SUMPRODUCT(('Plan de rodaje'!$C$8:$C$107=A20)*('Plan de rodaje'!$F$8:$F$107<>"")/COUNTIFS('Plan de rodaje'!$C$8:$C$107,'Plan de rodaje'!$C$8:$C$107,'Plan de rodaje'!$F$8:$F$107,'Plan de rodaje'!$F$8:$F$107)),0)) | G20: =COUNTIFS('Plan de rodaje'!$C$8:$C$107,A20,'Plan de rodaje'!$AA$8:$AA$107,"<>OK",'Plan de rodaje'!$AA$8:$AA$107,"<>") | H20: =IF(C20=0,"",IF(OR(D20>$E$4,E20>$E$3,G20>0),"REVISAR","VIABLE"))
A21: 8 | B21: =IF(COUNTIF('Plan de rodaje'!$C$8:$C$107,A21)=0,"",SUMIF('Plan de rodaje'!$C$8:$C$107,A21,'Plan de rodaje'!$B$8:$B$107)/COUNTIF('Plan de rodaje'!$C$8:$C$107,A21)) | C21: =COUNTIF('Plan de rodaje'!$C$8:$C$107,A21) | D21: =SUMIF('Plan de rodaje'!$C$8:$C$107,A21,'Plan de rodaje'!$J$8:$J$107) | E21: =SUMIF('Plan de rodaje'!$C$8:$C$107,A21,'Plan de rodaje'!$N$8:$N$107) | F21: =IF(C21=0,"",IFERROR(SUMPRODUCT(('Plan de rodaje'!$C$8:$C$107=A21)*('Plan de rodaje'!$F$8:$F$107<>"")/COUNTIFS('Plan de rodaje'!$C$8:$C$107,'Plan de rodaje'!$C$8:$C$107,'Plan de rodaje'!$F$8:$F$107,'Plan de rodaje'!$F$8:$F$107)),0)) | G21: =COUNTIFS('Plan de rodaje'!$C$8:$C$107,A21,'Plan de rodaje'!$AA$8:$AA$107,"<>OK",'Plan de rodaje'!$AA$8:$AA$107,"<>") | H21: =IF(C21=0,"",IF(OR(D21>$E$4,E21>$E$3,G21>0),"REVISAR","VIABLE"))
A22: 9 | B22: =IF(COUNTIF('Plan de rodaje'!$C$8:$C$107,A22)=0,"",SUMIF('Plan de rodaje'!$C$8:$C$107,A22,'Plan de rodaje'!$B$8:$B$107)/COUNTIF('Plan de rodaje'!$C$8:$C$107,A22)) | C22: =COUNTIF('Plan de rodaje'!$C$8:$C$107,A22) | D22: =SUMIF('Plan de rodaje'!$C$8:$C$107,A22,'Plan de rodaje'!$J$8:$J$107) | E22: =SUMIF('Plan de rodaje'!$C$8:$C$107,A22,'Plan de rodaje'!$N$8:$N$107) | F22: =IF(C22=0,"",IFERROR(SUMPRODUCT(('Plan de rodaje'!$C$8:$C$107=A22)*('Plan de rodaje'!$F$8:$F$107<>"")/COUNTIFS('Plan de rodaje'!$C$8:$C$107,'Plan de rodaje'!$C$8:$C$107,'Plan de rodaje'!$F$8:$F$107,'Plan de rodaje'!$F$8:$F$107)),0)) | G22: =COUNTIFS('Plan de rodaje'!$C$8:$C$107,A22,'Plan de rodaje'!$AA$8:$AA$107,"<>OK",'Plan de rodaje'!$AA$8:$AA$107,"<>") | H22: =IF(C22=0,"",IF(OR(D22>$E$4,E22>$E$3,G22>0),"REVISAR","VIABLE"))
A23: 10 | B23: =IF(COUNTIF('Plan de rodaje'!$C$8:$C$107,A23)=0,"",SUMIF('Plan de rodaje'!$C$8:$C$107,A23,'Plan de rodaje'!$B$8:$B$107)/COUNTIF('Plan de rodaje'!$C$8:$C$107,A23)) | C23: =COUNTIF('Plan de rodaje'!$C$8:$C$107,A23) | D23: =SUMIF('Plan de rodaje'!$C$8:$C$107,A23,'Plan de rodaje'!$J$8:$J$107) | E23: =SUMIF('Plan de rodaje'!$C$8:$C$107,A23,'Plan de rodaje'!$N$8:$N$107) | F23: =IF(C23=0,"",IFERROR(SUMPRODUCT(('Plan de rodaje'!$C$8:$C$107=A23)*('Plan de rodaje'!$F$8:$F$107<>"")/COUNTIFS('Plan de rodaje'!$C$8:$C$107,'Plan de rodaje'!$C$8:$C$107,'Plan de rodaje'!$F$8:$F$107,'Plan de rodaje'!$F$8:$F$107)),0)) | G23: =COUNTIFS('Plan de rodaje'!$C$8:$C$107,A23,'Plan de rodaje'!$AA$8:$AA$107,"<>OK",'Plan de rodaje'!$AA$8:$AA$107,"<>") | H23: =IF(C23=0,"",IF(OR(D23>$E$4,E23>$E$3,G23>0),"REVISAR","VIABLE"))
A24: 11 | B24: =IF(COUNTIF('Plan de rodaje'!$C$8:$C$107,A24)=0,"",SUMIF('Plan de rodaje'!$C$8:$C$107,A24,'Plan de rodaje'!$B$8:$B$107)/COUNTIF('Plan de rodaje'!$C$8:$C$107,A24)) | C24: =COUNTIF('Plan de rodaje'!$C$8:$C$107,A24) | D24: =SUMIF('Plan de rodaje'!$C$8:$C$107,A24,'Plan de rodaje'!$J$8:$J$107) | E24: =SUMIF('Plan de rodaje'!$C$8:$C$107,A24,'Plan de rodaje'!$N$8:$N$107) | F24: =IF(C24=0,"",IFERROR(SUMPRODUCT(('Plan de rodaje'!$C$8:$C$107=A24)*('Plan de rodaje'!$F$8:$F$107<>"")/COUNTIFS('Plan de rodaje'!$C$8:$C$107,'Plan de rodaje'!$C$8:$C$107,'Plan de rodaje'!$F$8:$F$107,'Plan de rodaje'!$F$8:$F$107)),0)) | G24: =COUNTIFS('Plan de rodaje'!$C$8:$C$107,A24,'Plan de rodaje'!$AA$8:$AA$107,"<>OK",'Plan de rodaje'!$AA$8:$AA$107,"<>") | H24: =IF(C24=0,"",IF(OR(D24>$E$4,E24>$E$3,G24>0),"REVISAR","VIABLE"))
A25: 12 | B25: =IF(COUNTIF('Plan de rodaje'!$C$8:$C$107,A25)=0,"",SUMIF('Plan de rodaje'!$C$8:$C$107,A25,'Plan de rodaje'!$B$8:$B$107)/COUNTIF('Plan de rodaje'!$C$8:$C$107,A25)) | C25: =COUNTIF('Plan de rodaje'!$C$8:$C$107,A25) | D25: =SUMIF('Plan de rodaje'!$C$8:$C$107,A25,'Plan de rodaje'!$J$8:$J$107) | E25: =SUMIF('Plan de rodaje'!$C$8:$C$107,A25,'Plan de rodaje'!$N$8:$N$107) | F25: =IF(C25=0,"",IFERROR(SUMPRODUCT(('Plan de rodaje'!$C$8:$C$107=A25)*('Plan de rodaje'!$F$8:$F$107<>"")/COUNTIFS('Plan de rodaje'!$C$8:$C$107,'Plan de rodaje'!$C$8:$C$107,'Plan de rodaje'!$F$8:$F$107,'Plan de rodaje'!$F$8:$F$107)),0)) | G25: =COUNTIFS('Plan de rodaje'!$C$8:$C$107,A25,'Plan de rodaje'!$AA$8:$AA$107,"<>OK",'Plan de rodaje'!$AA$8:$AA$107,"<>") | H25: =IF(C25=0,"",IF(OR(D25>$E$4,E25>$E$3,G25>0),"REVISAR","VIABLE"))
... A33: 20 | B33: =IF(COUNTIF('Plan de rodaje'!$C$8:$C$107,A33)=0,"",SUMIF('Plan de rodaje'!$C$8:$C$107,A33,'Plan de rodaje'!$B$8:$B$107)/COUNTIF('Plan de rodaje'!$C$8:$C$107,A33)) | C33: =COUNTIF('Plan de rodaje'!$C$8:$C$107,A33) | D33: =SUMIF('Plan de rodaje'!$C$8:$C$107,A33,'Plan de rodaje'!$J$8:$J$107) | E33: =SUMIF('Plan de rodaje'!$C$8:$C$107,A33,'Plan de rodaje'!$N$8:$N$107) | F33: =IF(C33=0,"",IFERROR(SUMPRODUCT(('Plan de rodaje'!$C$8:$C$107=A33)*('Plan de rodaje'!$F$8:$F$107<>"")/COUNTIFS('Plan de rodaje'!$C$8:$C$107,'Plan de rodaje'!$C$8:$C$107,'Plan de rodaje'!$F$8:$F$107,'Plan de rodaje'!$F$8:$F$107)),0)) | G33: =COUNTIFS('Plan de rodaje'!$C$8:$C$107,A33,'Plan de rodaje'!$AA$8:$AA$107,"<>OK",'Plan de rodaje'!$AA$8:$AA$107,"<>") | H33: =IF(C33=0,"",IF(OR(D33>$E$4,E33>$E$3,G33>0),"REVISAR","VIABLE"))

Sheet Plan de rodaje
A1: PLAN DE RODAJE — DETALLE DE BLOQUES
A3: Proyecto | B3: ='Resumen'!$B$3 | D3: Periodo | E3: =IF(OR('Resumen'!$B$5="",'Resumen'!$B$6=""),"",TEXT('Resumen'!$B$5,"dd/mm/yyyy")&" – "&TEXT('Resumen'!$B$6,"dd/mm/yyyy"))
A5: Una fila equivale a un bloque continuo. Ordena por jornada y orden de rodaje.
A7: ID bloque | B7: Fecha | C7: Jornada | D7: Orden | E7: Escena | F7: Localización | G7: Espacio / decorado | H7: INT./EXT. | I7: Momento | J7: Páginas | K7: Inicio previsto | L7: Fin previsto | M7: Pausa prevista | N7: Horas de rodaje | O7: Reparto | P7: Figurantes | Q7: Cámara | R7: Sonido | S7: Iluminación | T7: Arte / atrezo | U7: Vestuario / maquillaje | V7: Vehículos / movimiento | W7: Necesidades especiales | X7: Responsable de bloque | Y7: Observaciones | Z7: Estado | AA7: Revisión | AB7: Inicio técnico | AC7: Fin técnico
A8: BR-001 | B8: 46300 | C8: 1 | D8: 1 | E8: E01 | F8: Estudio Prisma | G8: Cocina de Nora | H8: INT. | I8: Día | J8: 1.25 | K8: 0.35416667 | L8: 0.42708333 | M8: 0 | N8: =IF(OR($A8="",$K8="",$L8=""),"",MAX(0,MOD($L8-$K8,1)*24-IF($M8="",0,$M8))) | O8: Nora; Leo | P8: 0 | Q8: Unidad A | R8: Sonido directo | S8: Equipo completo | T8: Taza azul; cartas | U8: Continuidad mañana | V8: Ninguno | W8: Humo ambiental suave | X8: Álex Rivas | Y8: Primer bloque de producción | Z8: Confirmada | AA8: =IF($A8="","",IF(OR($B8="",$C8="",$D8="",$E8="",$F8="",$K8="",$L8=""),"FALTAN DATOS",IF(OR($B8<'Resumen'!$B$5,$B8>'Resumen'!$B$6),"FECHA FUERA DEL PERIODO",IF(COUNTIFS($C$8:$C$107,$C8,$D$8:$D$107,$D8)>1,"ORDEN DUPLICADO",IF(SUMPRODUCT(($A$8:$A$107<>$A8)*($A$8:$A$107<>"")*($C$8:$C$107=$C8)*($AB$8:$AB$107<$AC8)*($AC$8:$AC$107>$AB8))>0,"SOLAPAMIENTO",IF(OR($Q8="",$R8="",$S8=""),"RECURSOS INCOMPLETOS",IF($N8<=0,"REVISAR HORARIO","OK"))))))) | AB8: =IF(OR($A8="",$B8="",$K8=""),"",$B8+$K8) | AC8: =IF(OR($A8="",$B8="",$K8="",$L8=""),"",$B8+$L8+IF($L8<$K8,1,0))
A9: BR-002 | B9: 46300 | C9: 1 | D9: 2 | E9: E03 | F9: Estudio Prisma | G9: Pasillo principal | H9: INT. | I9: Día | J9: 0.75 | K9: 0.4375 | L9: 0.48958333 | M9: 0 | N9: =IF(OR($A9="",$K9="",$L9=""),"",MAX(0,MOD($L9-$K9,1)*24-IF($M9="",0,$M9))) | O9: Nora | P9: 2 | Q9: Unidad A | R9: Sonido directo | S9: Equipo completo | T9: Cuadro torcido | U9: Chaqueta verde | V9: Ninguno | W9: Travelling corto | X9: Álex Rivas | Y9: Mantener raccord con E01 | Z9: Confirmada | AA9: =IF($A9="","",IF(OR($B9="",$C9="",$D9="",$E9="",$F9="",$K9="",$L9=""),"FALTAN DATOS",IF(OR($B9<'Resumen'!$B$5,$B9>'Resumen'!$B$6),"FECHA FUERA DEL PERIODO",IF(COUNTIFS($C$8:$C$107,$C9,$D$8:$D$107,$D9)>1,"ORDEN DUPLICADO",IF(SUMPRODUCT(($A$8:$A$107<>$A9)*($A$8:$A$107<>"")*($C$8:$C$107=$C9)*($AB$8:$AB$107<$AC9)*($AC$8:$AC$107>$AB9))>0,"SOLAPAMIENTO",IF(OR($Q9="",$R9="",$S9=""),"RECURSOS INCOMPLETOS",IF($N9<=0,"REVISAR HORARIO","OK"))))))) | AB9: =IF(OR($A9="",$B9="",$K9=""),"",$B9+$K9) | AC9: =IF(OR($A9="",$B9="",$K9="",$L9=""),"",$B9+$L9+IF($L9<$K9,1,0))
A10: BR-003 | B10: 46300 | C10: 1 | D10: 3 | E10: E05 | F10: Estudio Prisma | G10: Dormitorio de Leo | H10: INT. | I10: Noche | J10: 1.5 | K10: 0.51041667 | L10: 0.63541667 | M10: 0.5 | N10: =IF(OR($A10="",$K10="",$L10=""),"",MAX(0,MOD($L10-$K10,1)*24-IF($M10="",0,$M10))) | O10: Leo; Mara | P10: 0 | Q10: Unidad A | R10: Sonido directo | S10: Equipo completo | T10: Lámpara; fotografía ficticia | U10: Cambio a ropa nocturna | V10: Ninguno | W10: Oscurecimiento total | X10: Álex Rivas | Y10: Noche recreada en estudio | Z10: Confirmada | AA10: =IF($A10="","",IF(OR($B10="",$C10="",$D10="",$E10="",$F10="",$K10="",$L10=""),"FALTAN DATOS",IF(OR($B10<'Resumen'!$B$5,$B10>'Resumen'!$B$6),"FECHA FUERA DEL PERIODO",IF(COUNTIFS($C$8:$C$107,$C10,$D$8:$D$107,$D10)>1,"ORDEN DUPLICADO",IF(SUMPRODUCT(($A$8:$A$107<>$A10)*($A$8:$A$107<>"")*($C$8:$C$107=$C10)*($AB$8:$AB$107<$AC10)*($AC$8:$AC$107>$AB10))>0,"SOLAPAMIENTO",IF(OR($Q10="",$R10="",$S10=""),"RECURSOS INCOMPLETOS",IF($N10<=0,"REVISAR HORARIO","OK"))))))) | AB10: =IF(OR($A10="",$B10="",$K10=""),"",$B10+$K10) | AC10: =IF(OR($A10="",$B10="",$K10="",$L10=""),"",$B10+$L10+IF($L10<$K10,1,0))
A11: BR-004 | B11: 46301 | C11: 2 | D11: 1 | E11: E07 | F11: Plaza del Mirador | G11: Soportales | H11: EXT. | I11: Amanecer | J11: 1 | K11: 0.30208333 | L11: 0.375 | M11: 0 | N11: =IF(OR($A11="",$K11="",$L11=""),"",MAX(0,MOD($L11-$K11,1)*24-IF($M11="",0,$M11))) | O11: Nora; Mara | P11: 6 | Q11: Unidad ligera | R11: Sonido directo | S11: Luz disponible | T11: Puesto de flores | U11: Abrigos claros | V11: Furgoneta de arte | W11: Control de reflejos | X11: Vega Soler | Y11: Llegada antes del amanecer | Z11: Confirmada | AA11: =IF($A11="","",IF(OR($B11="",$C11="",$D11="",$E11="",$F11="",$K11="",$L11=""),"FALTAN DATOS",IF(OR($B11<'Resumen'!$B$5,$B11>'Resumen'!$B$6),"FECHA FUERA DEL PERIODO",IF(COUNTIFS($C$8:$C$107,$C11,$D$8:$D$107,$D11)>1,"ORDEN DUPLICADO",IF(SUMPRODUCT(($A$8:$A$107<>$A11)*($A$8:$A$107<>"")*($C$8:$C$107=$C11)*($AB$8:$AB$107<$AC11)*($AC$8:$AC$107>$AB11))>0,"SOLAPAMIENTO",IF(OR($Q11="",$R11="",$S11=""),"RECURSOS INCOMPLETOS",IF($N11<=0,"REVISAR HORARIO","OK"))))))) | AB11: =IF(OR($A11="",$B11="",$K11=""),"",$B11+$K11) | AC11: =IF(OR($A11="",$B11="",$K11="",$L11=""),"",$B11+$L11+IF($L11<$K11,1,0))
A12: BR-005 | B12: 46301 | C12: 2 | D12: 2 | E12: E08 | F12: Plaza del Mirador | G12: Fuente central | H12: EXT. | I12: Día | J12: 1.25 | K12: 0.38888889 | L12: 0.48263889 | M12: 0 | N12: =IF(OR($A12="",$K12="",$L12=""),"",MAX(0,MOD($L12-$K12,1)*24-IF($M12="",0,$M12))) | O12: Nora; Mara | P12: 10 | Q12: Unidad A | R12: Sonido directo | S12: Equipo reducido | T12: Bolsas de mercado | U12: Continuidad E07 | V12: Bicicleta de escena | W12: Zona húmeda controlada | X12: Vega Soler | Y12: Planos generales y recursos | Z12: Borrador | AA12: =IF($A12="","",IF(OR($B12="",$C12="",$D12="",$E12="",$F12="",$K12="",$L12=""),"FALTAN DATOS",IF(OR($B12<'Resumen'!$B$5,$B12>'Resumen'!$B$6),"FECHA FUERA DEL PERIODO",IF(COUNTIFS($C$8:$C$107,$C12,$D$8:$D$107,$D12)>1,"ORDEN DUPLICADO",IF(SUMPRODUCT(($A$8:$A$107<>$A12)*($A$8:$A$107<>"")*($C$8:$C$107=$C12)*($AB$8:$AB$107<$AC12)*($AC$8:$AC$107>$AB12))>0,"SOLAPAMIENTO",IF(OR($Q12="",$R12="",$S12=""),"RECURSOS INCOMPLETOS",IF($N12<=0,"REVISAR HORARIO","OK"))))))) | AB12: =IF(OR($A12="",$B12="",$K12=""),"",$B12+$K12) | AC12: =IF(OR($A12="",$B12="",$K12="",$L12=""),"",$B12+$L12+IF($L12<$K12,1,0))
A13: BR-006 | B13: 46302 | C13: 3 | D13: 1 | E13: E11 | F13: Taller Horizonte | G13: Zona de montaje | H13: INT. | I13: Día | J13: 2 | K13: 0.33333333 | L13: 0.47916667 | M13: 0.25 | N13: =IF(OR($A13="",$K13="",$L13=""),"",MAX(0,MOD($L13-$K13,1)*24-IF($M13="",0,$M13))) | O13: Leo; Simón | P13: 3 | Q13: Unidad A | R13: Sonido directo | S13: Equipo completo | T13: Herramientas falsas | U13: Mono de trabajo | V13: Carretilla manual | W13: Chispas simuladas sin fuego | X13: Iris Montal | Y13: Proteger superficies del decorado | Z13: Confirmada | AA13: =IF($A13="","",IF(OR($B13="",$C13="",$D13="",$E13="",$F13="",$K13="",$L13=""),"FALTAN DATOS",IF(OR($B13<'Resumen'!$B$5,$B13>'Resumen'!$B$6),"FECHA FUERA DEL PERIODO",IF(COUNTIFS($C$8:$C$107,$C13,$D$8:$D$107,$D13)>1,"ORDEN DUPLICADO",IF(SUMPRODUCT(($A$8:$A$107<>$A13)*($A$8:$A$107<>"")*($C$8:$C$107=$C13)*($AB$8:$AB$107<$AC13)*($AC$8:$AC$107>$AB13))>0,"SOLAPAMIENTO",IF(OR($Q13="",$R13="",$S13=""),"RECURSOS INCOMPLETOS",IF($N13<=0,"REVISAR HORARIO","OK"))))))) | AB13: =IF(OR($A13="",$B13="",$K13=""),"",$B13+$K13) | AC13: =IF(OR($A13="",$B13="",$K13="",$L13=""),"",$B13+$L13+IF($L13<$K13,1,0))
A14: BR-007 | B14: 46302 | C14: 3 | D14: 2 | E14: E12 | F14: Taller Horizonte | G14: Oficina acristalada | H14: INT. | I14: Día | J14: 1 | K14: 0.5 | L14: 0.58333333 | M14: 0 | N14: =IF(OR($A14="",$K14="",$L14=""),"",MAX(0,MOD($L14-$K14,1)*24-IF($M14="",0,$M14))) | O14: Simón | P14: 0 | Q14: Unidad A | R14: Sonido directo | S14: Equipo reducido | T14: Archivadores; maqueta | U14: Camisa gris | V14: Ninguno | W14: Control de reflejos | X14: Iris Montal | Y14: Diálogo en plano fijo | Z14: Confirmada | AA14: =IF($A14="","",IF(OR($B14="",$C14="",$D14="",$E14="",$F14="",$K14="",$L14=""),"FALTAN DATOS",IF(OR($B14<'Resumen'!$B$5,$B14>'Resumen'!$B$6),"FECHA FUERA DEL PERIODO",IF(COUNTIFS($C$8:$C$107,$C14,$D$8:$D$107,$D14)>1,"ORDEN DUPLICADO",IF(SUMPRODUCT(($A$8:$A$107<>$A14)*($A$8:$A$107<>"")*($C$8:$C$107=$C14)*($AB$8:$AB$107<$AC14)*($AC$8:$AC$107>$AB14))>0,"SOLAPAMIENTO",IF(OR($Q14="",$R14="",$S14=""),"RECURSOS INCOMPLETOS",IF($N14<=0,"REVISAR HORARIO","OK"))))))) | AB14: =IF(OR($A14="",$B14="",$K14=""),"",$B14+$K14) | AC14: =IF(OR($A14="",$B14="",$K14="",$L14=""),"",$B14+$L14+IF($L14<$K14,1,0))
A15: BR-008 | B15: 46303 | C15: 4 | D15: 1 | E15: E15 | F15: Parque del Cometa | G15: Sendero norte | H15: EXT. | I15: Atardecer | J15: 1.5 | K15: 0.70833333 | L15: 0.79861111 | M15: 0 | N15: =IF(OR($A15="",$K15="",$L15=""),"",MAX(0,MOD($L15-$K15,1)*24-IF($M15="",0,$M15))) | O15: Nora; Leo | P15: 4 | Q15: Unidad ligera | R15: Sonido de apoyo | S15: Luz disponible | T15: Cometa rojo | U15: Ropa de paseo | V15: Bicicleta de escena | W15: Seguimiento con estabilizador | X15: Teo Marín | Y15: Priorizar planos de luz natural | Z15: Borrador | AA15: =IF($A15="","",IF(OR($B15="",$C15="",$D15="",$E15="",$F15="",$K15="",$L15=""),"FALTAN DATOS",IF(OR($B15<'Resumen'!$B$5,$B15>'Resumen'!$B$6),"FECHA FUERA DEL PERIODO",IF(COUNTIFS($C$8:$C$107,$C15,$D$8:$D$107,$D15)>1,"ORDEN DUPLICADO",IF(SUMPRODUCT(($A$8:$A$107<>$A15)*($A$8:$A$107<>"")*($C$8:$C$107=$C15)*($AB$8:$AB$107<$AC15)*($AC$8:$AC$107>$AB15))>0,"SOLAPAMIENTO",IF(OR($Q15="",$R15="",$S15=""),"RECURSOS INCOMPLETOS",IF($N15<=0,"REVISAR HORARIO","OK"))))))) | AB15: =IF(OR($A15="",$B15="",$K15=""),"",$B15+$K15) | AC15: =IF(OR($A15="",$B15="",$K15="",$L15=""),"",$B15+$L15+IF($L15<$K15,1,0))
A16: BR-009 | B16: 46303 | C16: 4 | D16: 2 | E16: E16 | F16: Parque del Cometa | G16: Mirador de madera | H16: EXT. | I16: Noche | J16: 0.75 | K16: 0.8125 | L16: 0.88541667 | M16: 0 | N16: =IF(OR($A16="",$K16="",$L16=""),"",MAX(0,MOD($L16-$K16,1)*24-IF($M16="",0,$M16))) | O16: Nora | P16: 0 | Q16: Unidad A | R16: Sonido directo | S16: Equipo reducido | T16: Linterna; banco portátil | U16: Abrigo azul | V16: Ninguno | W16: Alimentación por batería | X16: Teo Marín | Y16: Comprobar continuidad del cielo | Z16: Borrador | AA16: =IF($A16="","",IF(OR($B16="",$C16="",$D16="",$E16="",$F16="",$K16="",$L16=""),"FALTAN DATOS",IF(OR($B16<'Resumen'!$B$5,$B16>'Resumen'!$B$6),"FECHA FUERA DEL PERIODO",IF(COUNTIFS($C$8:$C$107,$C16,$D$8:$D$107,$D16)>1,"ORDEN DUPLICADO",IF(SUMPRODUCT(($A$8:$A$107<>$A16)*($A$8:$A$107<>"")*($C$8:$C$107=$C16)*($AB$8:$AB$107<$AC16)*($AC$8:$AC$107>$AB16))>0,"SOLAPAMIENTO",IF(OR($Q16="",$R16="",$S16=""),"RECURSOS INCOMPLETOS",IF($N16<=0,"REVISAR HORARIO","OK"))))))) | AB16: =IF(OR($A16="",$B16="",$K16=""),"",$B16+$K16) | AC16: =IF(OR($A16="",$B16="",$K16="",$L16=""),"",$B16+$L16+IF($L16<$K16,1,0))
A17: BR-010 | B17: 46304 | C17: 5 | D17: 1 | E17: E20 | F17: Estudio Prisma | G17: Salón final | H17: INT. | I17: Día | J17: 2.25 | K17: 0.375 | L17: 0.55208333 | M17: 0.5 | N17: =IF(OR($A17="",$K17="",$L17=""),"",MAX(0,MOD($L17-$K17,1)*24-IF($M17="",0,$M17))) | O17: Nora; Leo; Mara; Simón | P17: 8 | Q17: Unidad A | R17: Sonido directo | S17: Equipo completo | T17: Mesa larga; sobres | U17: Vestuario final | V17: Ninguno | W17: Playback sin música externa | X17: Álex Rivas | Y17: Escena coral de cierre | Z17: Confirmada | AA17: =IF($A17="","",IF(OR($B17="",$C17="",$D17="",$E17="",$F17="",$K17="",$L17=""),"FALTAN DATOS",IF(OR($B17<'Resumen'!$B$5,$B17>'Resumen'!$B$6),"FECHA FUERA DEL PERIODO",IF(COUNTIFS($C$8:$C$107,$C17,$D$8:$D$107,$D17)>1,"ORDEN DUPLICADO",IF(SUMPRODUCT(($A$8:$A$107<>$A17)*($A$8:$A$107<>"")*($C$8:$C$107=$C17)*($AB$8:$AB$107<$AC17)*($AC$8:$AC$107>$AB17))>0,"SOLAPAMIENTO",IF(OR($Q17="",$R17="",$S17=""),"RECURSOS INCOMPLETOS",IF($N17<=0,"REVISAR HORARIO","OK"))))))) | AB17: =IF(OR($A17="",$B17="",$K17=""),"",$B17+$K17) | AC17: =IF(OR($A17="",$B17="",$K17="",$L17=""),"",$B17+$L17+IF($L17<$K17,1,0))
N18: =IF(OR($A18="",$K18="",$L18=""),"",MAX(0,MOD($L18-$K18,1)*24-IF($M18="",0,$M18))) | AA18: =IF($A18="","",IF(OR($B18="",$C18="",$D18="",$E18="",$F18="",$K18="",$L18=""),"FALTAN DATOS",IF(OR($B18<'Resumen'!$B$5,$B18>'Resumen'!$B$6),"FECHA FUERA DEL PERIODO",IF(COUNTIFS($C$8:$C$107,$C18,$D$8:$D$107,$D18)>1,"ORDEN DUPLICADO",IF(SUMPRODUCT(($A$8:$A$107<>$A18)*($A$8:$A$107<>"")*($C$8:$C$107=$C18)*($AB$8:$AB$107<$AC18)*($AC$8:$AC$107>$AB18))>0,"SOLAPAMIENTO",IF(OR($Q18="",$R18="",$S18=""),"RECURSOS INCOMPLETOS",IF($N18<=0,"REVISAR HORARIO","OK"))))))) | AB18: =IF(OR($A18="",$B18="",$K18=""),"",$B18+$K18) | AC18: =IF(OR($A18="",$B18="",$K18="",$L18=""),"",$B18+$L18+IF($L18<$K18,1,0))
N19: =IF(OR($A19="",$K19="",$L19=""),"",MAX(0,MOD($L19-$K19,1)*24-IF($M19="",0,$M19))) | AA19: =IF($A19="","",IF(OR($B19="",$C19="",$D19="",$E19="",$F19="",$K19="",$L19=""),"FALTAN DATOS",IF(OR($B19<'Resumen'!$B$5,$B19>'Resumen'!$B$6),"FECHA FUERA DEL PERIODO",IF(COUNTIFS($C$8:$C$107,$C19,$D$8:$D$107,$D19)>1,"ORDEN DUPLICADO",IF(SUMPRODUCT(($A$8:$A$107<>$A19)*($A$8:$A$107<>"")*($C$8:$C$107=$C19)*($AB$8:$AB$107<$AC19)*($AC$8:$AC$107>$AB19))>0,"SOLAPAMIENTO",IF(OR($Q19="",$R19="",$S19=""),"RECURSOS INCOMPLETOS",IF($N19<=0,"REVISAR HORARIO","OK"))))))) | AB19: =IF(OR($A19="",$B19="",$K19=""),"",$B19+$K19) | AC19: =IF(OR($A19="",$B19="",$K19="",$L19=""),"",$B19+$L19+IF($L19<$K19,1,0))
N20: =IF(OR($A20="",$K20="",$L20=""),"",MAX(0,MOD($L20-$K20,1)*24-IF($M20="",0,$M20))) | AA20: =IF($A20="","",IF(OR($B20="",$C20="",$D20="",$E20="",$F20="",$K20="",$L20=""),"FALTAN DATOS",IF(OR($B20<'Resumen'!$B$5,$B20>'Resumen'!$B$6),"FECHA FUERA DEL PERIODO",IF(COUNTIFS($C$8:$C$107,$C20,$D$8:$D$107,$D20)>1,"ORDEN DUPLICADO",IF(SUMPRODUCT(($A$8:$A$107<>$A20)*($A$8:$A$107<>"")*($C$8:$C$107=$C20)*($AB$8:$AB$107<$AC20)*($AC$8:$AC$107>$AB20))>0,"SOLAPAMIENTO",IF(OR($Q20="",$R20="",$S20=""),"RECURSOS INCOMPLETOS",IF($N20<=0,"REVISAR HORARIO","OK"))))))) | AB20: =IF(OR($A20="",$B20="",$K20=""),"",$B20+$K20) | AC20: =IF(OR($A20="",$B20="",$K20="",$L20=""),"",$B20+$L20+IF($L20<$K20,1,0))
N21: =IF(OR($A21="",$K21="",$L21=""),"",MAX(0,MOD($L21-$K21,1)*24-IF($M21="",0,$M21))) | AA21: =IF($A21="","",IF(OR($B21="",$C21="",$D21="",$E21="",$F21="",$K21="",$L21=""),"FALTAN DATOS",IF(OR($B21<'Resumen'!$B$5,$B21>'Resumen'!$B$6),"FECHA FUERA DEL PERIODO",IF(COUNTIFS($C$8:$C$107,$C21,$D$8:$D$107,$D21)>1,"ORDEN DUPLICADO",IF(SUMPRODUCT(($A$8:$A$107<>$A21)*($A$8:$A$107<>"")*($C$8:$C$107=$C21)*($AB$8:$AB$107<$AC21)*($AC$8:$AC$107>$AB21))>0,"SOLAPAMIENTO",IF(OR($Q21="",$R21="",$S21=""),"RECURSOS INCOMPLETOS",IF($N21<=0,"REVISAR HORARIO","OK"))))))) | AB21: =IF(OR($A21="",$B21="",$K21=""),"",$B21+$K21) | AC21: =IF(OR($A21="",$B21="",$K21="",$L21=""),"",$B21+$L21+IF($L21<$K21,1,0))
N22: =IF(OR($A22="",$K22="",$L22=""),"",MAX(0,MOD($L22-$K22,1)*24-IF($M22="",0,$M22))) | AA22: =IF($A22="","",IF(OR($B22="",$C22="",$D22="",$E22="",$F22="",$K22="",$L22=""),"FALTAN DATOS",IF(OR($B22<'Resumen'!$B$5,$B22>'Resumen'!$B$6),"FECHA FUERA DEL PERIODO",IF(COUNTIFS($C$8:$C$107,$C22,$D$8:$D$107,$D22)>1,"ORDEN DUPLICADO",IF(SUMPRODUCT(($A$8:$A$107<>$A22)*($A$8:$A$107<>"")*($C$8:$C$107=$C22)*($AB$8:$AB$107<$AC22)*($AC$8:$AC$107>$AB22))>0,"SOLAPAMIENTO",IF(OR($Q22="",$R22="",$S22=""),"RECURSOS INCOMPLETOS",IF($N22<=0,"REVISAR HORARIO","OK"))))))) | AB22: =IF(OR($A22="",$B22="",$K22=""),"",$B22+$K22) | AC22: =IF(OR($A22="",$B22="",$K22="",$L22=""),"",$B22+$L22+IF($L22<$K22,1,0))
N23: =IF(OR($A23="",$K23="",$L23=""),"",MAX(0,MOD($L23-$K23,1)*24-IF($M23="",0,$M23))) | AA23: =IF($A23="","",IF(OR($B23="",$C23="",$D23="",$E23="",$F23="",$K23="",$L23=""),"FALTAN DATOS",IF(OR($B23<'Resumen'!$B$5,$B23>'Resumen'!$B$6),"FECHA FUERA DEL PERIODO",IF(COUNTIFS($C$8:$C$107,$C23,$D$8:$D$107,$D23)>1,"ORDEN DUPLICADO",IF(SUMPRODUCT(($A$8:$A$107<>$A23)*($A$8:$A$107<>"")*($C$8:$C$107=$C23)*($AB$8:$AB$107<$AC23)*($AC$8:$AC$107>$AB23))>0,"SOLAPAMIENTO",IF(OR($Q23="",$R23="",$S23=""),"RECURSOS INCOMPLETOS",IF($N23<=0,"REVISAR HORARIO","OK"))))))) | AB23: =IF(OR($A23="",$B23="",$K23=""),"",$B23+$K23) | AC23: =IF(OR($A23="",$B23="",$K23="",$L23=""),"",$B23+$L23+IF($L23<$K23,1,0))
N24: =IF(OR($A24="",$K24="",$L24=""),"",MAX(0,MOD($L24-$K24,1)*24-IF($M24="",0,$M24))) | AA24: =IF($A24="","",IF(OR($B24="",$C24="",$D24="",$E24="",$F24="",$K24="",$L24=""),"FALTAN DATOS",IF(OR($B24<'Resumen'!$B$5,$B24>'Resumen'!$B$6),"FECHA FUERA DEL PERIODO",IF(COUNTIFS($C$8:$C$107,$C24,$D$8:$D$107,$D24)>1,"ORDEN DUPLICADO",IF(SUMPRODUCT(($A$8:$A$107<>$A24)*($A$8:$A$107<>"")*($C$8:$C$107=$C24)*($AB$8:$AB$107<$AC24)*($AC$8:$AC$107>$AB24))>0,"SOLAPAMIENTO",IF(OR($Q24="",$R24="",$S24=""),"RECURSOS INCOMPLETOS",IF($N24<=0,"REVISAR HORARIO","OK"))))))) | AB24: =IF(OR($A24="",$B24="",$K24=""),"",$B24+$K24) | AC24: =IF(OR($A24="",$B24="",$K24="",$L24=""),"",$B24+$L24+IF($L24<$K24,1,0))
N25: =IF(OR($A25="",$K25="",$L25=""),"",MAX(0,MOD($L25-$K25,1)*24-IF($M25="",0,$M25))) | AA25: =IF($A25="","",IF(OR($B25="",$C25="",$D25="",$E25="",$F25="",$K25="",$L25=""),"FALTAN DATOS",IF(OR($B25<'Resumen'!$B$5,$B25>'Resumen'!$B$6),"FECHA FUERA DEL PERIODO",IF(COUNTIFS($C$8:$C$107,$C25,$D$8:$D$107,$D25)>1,"ORDEN DUPLICADO",IF(SUMPRODUCT(($A$8:$A$107<>$A25)*($A$8:$A$107<>"")*($C$8:$C$107=$C25)*($AB$8:$AB$107<$AC25)*($AC$8:$AC$107>$AB25))>0,"SOLAPAMIENTO",IF(OR($Q25="",$R25="",$S25=""),"RECURSOS INCOMPLETOS",IF($N25<=0,"REVISAR HORARIO","OK"))))))) | AB25: =IF(OR($A25="",$B25="",$K25=""),"",$B25+$K25) | AC25: =IF(OR($A25="",$B25="",$K25="",$L25=""),"",$B25+$L25+IF($L25<$K25,1,0))
N26: =IF(OR($A26="",$K26="",$L26=""),"",MAX(0,MOD($L26-$K26,1)*24-IF($M26="",0,$M26))) | AA26: =IF($A26="","",IF(OR($B26="",$C26="",$D26="",$E26="",$F26="",$K26="",$L26=""),"FALTAN DATOS",IF(OR($B26<'Resumen'!$B$5,$B26>'Resumen'!$B$6),"FECHA FUERA DEL PERIODO",IF(COUNTIFS($C$8:$C$107,$C26,$D$8:$D$107,$D26)>1,"ORDEN DUPLICADO",IF(SUMPRODUCT(($A$8:$A$107<>$A26)*($A$8:$A$107<>"")*($C$8:$C$107=$C26)*($AB$8:$AB$107<$AC26)*($AC$8:$AC$107>$AB26))>0,"SOLAPAMIENTO",IF(OR($Q26="",$R26="",$S26=""),"RECURSOS INCOMPLETOS",IF($N26<=0,"REVISAR HORARIO","OK"))))))) | AB26: =IF(OR($A26="",$B26="",$K26=""),"",$B26+$K26) | AC26: =IF(OR($A26="",$B26="",$K26="",$L26=""),"",$B26+$L26+IF($L26<$K26,1,0))
N27: =IF(OR($A27="",$K27="",$L27=""),"",MAX(0,MOD($L27-$K27,1)*24-IF($M27="",0,$M27))) | AA27: =IF($A27="","",IF(OR($B27="",$C27="",$D27="",$E27="",$F27="",$K27="",$L27=""),"FALTAN DATOS",IF(OR($B27<'Resumen'!$B$5,$B27>'Resumen'!$B$6),"FECHA FUERA DEL PERIODO",IF(COUNTIFS($C$8:$C$107,$C27,$D$8:$D$107,$D27)>1,"ORDEN DUPLICADO",IF(SUMPRODUCT(($A$8:$A$107<>$A27)*($A$8:$A$107<>"")*($C$8:$C$107=$C27)*($AB$8:$AB$107<$AC27)*($AC$8:$AC$107>$AB27))>0,"SOLAPAMIENTO",IF(OR($Q27="",$R27="",$S27=""),"RECURSOS INCOMPLETOS",IF($N27<=0,"REVISAR HORARIO","OK"))))))) | AB27: =IF(OR($A27="",$B27="",$K27=""),"",$B27+$K27) | AC27: =IF(OR($A27="",$B27="",$K27="",$L27=""),"",$B27+$L27+IF($L27<$K27,1,0))
N28: =IF(OR($A28="",$K28="",$L28=""),"",MAX(0,MOD($L28-$K28,1)*24-IF($M28="",0,$M28))) | AA28: =IF($A28="","",IF(OR($B28="",$C28="",$D28="",$E28="",$F28="",$K28="",$L28=""),"FALTAN DATOS",IF(OR($B28<'Resumen'!$B$5,$B28>'Resumen'!$B$6),"FECHA FUERA DEL PERIODO",IF(COUNTIFS($C$8:$C$107,$C28,$D$8:$D$107,$D28)>1,"ORDEN DUPLICADO",IF(SUMPRODUCT(($A$8:$A$107<>$A28)*($A$8:$A$107<>"")*($C$8:$C$107=$C28)*($AB$8:$AB$107<$AC28)*($AC$8:$AC$107>$AB28))>0,"SOLAPAMIENTO",IF(OR($Q28="",$R28="",$S28=""),"RECURSOS INCOMPLETOS",IF($N28<=0,"REVISAR HORARIO","OK"))))))) | AB28: =IF(OR($A28="",$B28="",$K28=""),"",$B28+$K28) | AC28: =IF(OR($A28="",$B28="",$K28="",$L28=""),"",$B28+$L28+IF($L28<$K28,1,0))
N29: =IF(OR($A29="",$K29="",$L29=""),"",MAX(0,MOD($L29-$K29,1)*24-IF($M29="",0,$M29))) | AA29: =IF($A29="","",IF(OR($B29="",$C29="",$D29="",$E29="",$F29="",$K29="",$L29=""),"FALTAN DATOS",IF(OR($B29<'Resumen'!$B$5,$B29>'Resumen'!$B$6),"FECHA FUERA DEL PERIODO",IF(COUNTIFS($C$8:$C$107,$C29,$D$8:$D$107,$D29)>1,"ORDEN DUPLICADO",IF(SUMPRODUCT(($A$8:$A$107<>$A29)*($A$8:$A$107<>"")*($C$8:$C$107=$C29)*($AB$8:$AB$107<$AC29)*($AC$8:$AC$107>$AB29))>0,"SOLAPAMIENTO",IF(OR($Q29="",$R29="",$S29=""),"RECURSOS INCOMPLETOS",IF($N29<=0,"REVISAR HORARIO","OK"))))))) | AB29: =IF(OR($A29="",$B29="",$K29=""),"",$B29+$K29) | AC29: =IF(OR($A29="",$B29="",$K29="",$L29=""),"",$B29+$L29+IF($L29<$K29,1,0))
... N107: =IF(OR($A107="",$K107="",$L107=""),"",MAX(0,MOD($L107-$K107,1)*24-IF($M107="",0,$M107))) | AA107: =IF($A107="","",IF(OR($B107="",$C107="",$D107="",$E107="",$F107="",$K107="",$L107=""),"FALTAN DATOS",IF(OR($B107<'Resumen'!$B$5,$B107>'Resumen'!$B$6),"FECHA FUERA DEL PERIODO",IF(COUNTIFS($C$8:$C$107,$C107,$D$8:$D$107,$D107)>1,"ORDEN DUPLICADO",IF(SUMPRODUCT(($A$8:$A$107<>$A107)*($A$8:$A$107<>"")*($C$8:$C$107=$C107)*($AB$8:$AB$107<$AC107)*($AC$8:$AC$107>$AB107))>0,"SOLAPAMIENTO",IF(OR($Q107="",$R107="",$S107=""),"RECURSOS INCOMPLETOS",IF($N107<=0,"REVISAR HORARIO","OK"))))))) | AB107: =IF(OR($A107="",$B107="",$K107=""),"",$B107+$K107) | AC107: =IF(OR($A107="",$B107="",$K107="",$L107=""),"",$B107+$L107+IF($L107<$K107,1,0))

Sheet Listas
A1: INT./EXT. | B1: Momento | C1: Cámara | D1: Sonido | E1: Iluminación | F1: Estado
A2: INT. | B2: Amanecer | C2: Unidad A | D2: Sonido directo | E2: Equipo completo | F2: Borrador
A3: EXT. | B3: Día | C3: Unidad B | D3: Sonido de apoyo | E3: Equipo reducido | F3: Confirmada
A4: INT./EXT. | B4: Atardecer | C4: Unidad ligera | D4: Sin sonido asignado | E4: Luz disponible | F4: En rodaje
B5: Noche | C5: Sin cámara asignada | E5: Sin iluminación asignada | F5: Rodada
B6: Indeterminado | F6: Cancelada

Sheet Instrucciones
A1: Cómo utilizar esta plantilla
A3: Pasos
A4: 1. Completa el nombre del proyecto, el periodo y los límites de carga en Resumen.
A5: 2. Registra cada bloque continuo en una fila de Plan de rodaje.
A6: 3. Asigna una jornada y un orden distintos a cada bloque.
A7: 4. Introduce las horas de inicio y fin previstas. Si el bloque termina después de medianoche, utiliza una hora final inferior a la inicial; la plantilla añadirá el cambio de día.
A8: 5. Indica al menos cámara, sonido e iluminación.
A9: 6. Revisa la columna Revisión y corrige cualquier fila distinta de OK.
A10: 7. Consulta en Resumen las jornadas marcadas como REVISAR.
A11: 8. Filtra por jornada, localización, responsable o estado para preparar la operativa diaria.
A14: Alerta | B14: Significado
A15: FALTAN DATOS | B15: Falta algún campo esencial del bloque.
A16: FECHA FUERA DEL PERIODO | B16: La fecha no está dentro del inicio y fin definidos.
A17: ORDEN DUPLICADO | B17: Dos bloques tienen el mismo orden dentro de una jornada.
A18: SOLAPAMIENTO | B18: Dos bloques de la misma jornada coinciden en el tiempo.
A19: RECURSOS INCOMPLETOS | B19: Falta cámara, sonido o iluminación.
A20: REVISAR HORARIO | B20: La duración calculada es cero o incoherente.
A21: OK | B21: El bloque supera las comprobaciones automáticas básicas.
A24: Nota de alcance
A25: Esta plantilla es una herramienta de planificación interna. Las alertas se basan únicamente en los datos introducidos y no sustituyen la revisión operativa del equipo de producción.
